Workbook

Sheet Alle lijsten
B2: Jonge Paarden
A3: Startnummer | B3: Menner / menster | C3: Totaal 2e manche | D3: Totaal 1e manche | E3: TOTAAL 1e & 2e MANCHE | F3: stratrers | G3: ranglijst
C4: =JP!BI3 -> 0 | D4: =JP!BJ3 -> 0 | E4: =JP!BK3 -> 0 | F4: 1 | G4: =JP!BL3 | J4: geachte gebruiker, start nummer, naam menner en paard invullen, deze gegevens worden automatisch in de achter liggende lijsten overgenomen, ook latere wijzegingen worden automatisch verwerkt.
C5: =JP!BI4 -> 0 | D5: =JP!BJ4 -> 0 | E5: =JP!BK4 -> 0 | F5: 2 | G5: =JP!BL4 | J5: voorafgaande aan de wedstrijd de juiste poort nummers invullen, deze worden automatiesch overgenomen op de tapbladen
C6: =JP!BI5 -> 0 | D6: =JP!BJ5 -> 0 | E6: =JP!BK5 -> 0 | F6: 3 | G6: =JP!BL5 | I6: 1 | J6: 2 | K6: 3 | L6: 4a | M6: 4b | N6: 4c | O6: 4d | P6: 5 | Q6: 6 | R6: 7 | S6: 8a | T6: 8b | U6: 8c | V6: 9 | W6: 10 | X6: 11a | Y6: 11b | Z6: 11c | AA6: 11d | AB6: 12
C7: =JP!BI6 -> 0 | D7: =JP!BJ6 -> 0 | E7: =JP!BK6 -> 0 | F7: 4 | G7: =JP!BL6
C8: =JP!BI7 -> 0 | D8: =JP!BJ7 -> 0 | E8: =JP!BK7 -> 0 | F8: 5 | G8: =JP!BL7 | J8: Letop; de gekleurde vakken niet invullen
C9: =JP!BI8 -> 0 | D9: =JP!BJ8 -> 0 | E9: =JP!BK8 -> 0 | F9: 6 | G9: =JP!BL8 | J9: tijdens de wedstrijd de tapbladen invullen.
C10: =JP!BI9 -> 0 | D10: =JP!BJ9 -> 0 | E10: =JP!BK9 -> 0 | F10: 7 | G10: =JP!BL9 | J10: Bij een afgereden bal op de doorgangen een 1 invullen en op enter drukken
C11: =JP!BI10 -> 0 | D11: =JP!BJ10 -> 0 | E11: =JP!BK10 -> 0 | F11: 8 | G11: =JP!BL10 | J11: Bij PF (Parcours fout) ook een 1 invullen en op enter drukken het programma rekent zelf de strafpunten om
C12: =JP!BI11 -> 0 | D12: =JP!BJ11 -> 0 | E12: =JP!BK11 -> 0 | F12: 9 | G12: =JP!BL11 | J12: De eerste colom (voor doorgang 1) de exstra strafpunten invullen. Bij een eliminatie 1000 invullen
C13: =JP!BI12 -> 0 | D13: =JP!BJ12 -> 0 | E13: =JP!BK12 -> 0 | F13: 10 | G13: =JP!BL12 | J13: Voor de eerste en tweede manch de tijd in seconden invullen (enter drukken) dus 131 sec en niet 2 minuut 11 sec
C14: =JP!BI13 -> 0 | D14: =JP!BJ13 -> 0 | E14: =JP!BK13 -> 0 | F14: 11 | G14: =JP!BL13 | J14: Bij het invullen van de tijden daar waar nodig een comma (,) invullen geen punt
C15: =JP!BI14 -> 0 | D15: =JP!BJ14 -> 0 | E15: =JP!BK14 -> 0 | F15: 12 | G15: =JP!BL14 | J15: de eind score wordt automatisch opgeteld en een ranglijst opgemaakt
C16: =JP!BI15 -> 0 | D16: =JP!BJ15 -> 0 | E16: =JP!BK15 -> 0 | F16: 13 | G16: =JP!BL15 | J16: De tijden van de deelnemers worden automatisch naar het begin blad geschreven.
J18: met vriendelijke groet
B19: Team-wedstrijd | J19: John Smeets
A20: Startnummer | B20: Menner / menster | C20: Totaal 2e manche | D20: Totaal 1e manche | E20: TOTAAL 1e & 2e MANCHE | F20: starters | G20: ranglijst
A21: 1 | B21: Carolijn de Leeuw & Marielle Omens | C21: ='Team-wedstrijd'!AZ3 -> 204.09 | D21: ='Team-wedstrijd'!BA3 -> 201.68 | E21: =SUM(C21:D21) -> 405.77 | F21: 1 | G21: ='Team-wedstrijd'!A3 -> 1
A22: 2 | B22: Danny Marien & Whitney Marien | C22: ='Team-wedstrijd'!AZ4 -> 256.58 | D22: ='Team-wedstrijd'!BA4 -> 270.5 | E22: =SUM(C22:D22) -> 527.08 | F22: 2 | G22: ='Team-wedstrijd'!A4 -> 2
A23: 3 | B23: Brigitte Janssen & Marleen van Vendeloo | C23: ='Team-wedstrijd'!AZ5 -> 266.36 | D23: ='Team-wedstrijd'!BA5 -> 299.66 | E23: =SUM(C23:D23) -> 566.02 | F23: 3 | G23: ='Team-wedstrijd'!A5 -> 3
A24: 4 | B24: Gerard van Randwijk & Saskia Koppenol | C24: ='Team-wedstrijd'!AZ6 -> 234.89 | D24: ='Team-wedstrijd'!BA6 -> EL | E24: =SUM(C24:D24) -> 234.89 | F24: 4 | G24: ='Team-wedstrijd'!A6 -> 4
A25: 5 | B25: Yvette van Amelsvoort & Lizz Marijnisen | C25: ='Team-wedstrijd'!AZ7 -> 4236.22 | D25: ='Team-wedstrijd'!BA7 -> EL | E25: =SUM(C25:D25) -> 4236.22 | F25: 5 | G25: ='Team-wedstrijd'!A7 -> 5
A26: 6 | B26: Quinten van Beers & Carolijn de Leeuw | C26: ='Team-wedstrijd'!AZ8 -> 8250.92 | D26: ='Team-wedstrijd'!BA8 -> EL | E26: =SUM(C26:D26) -> 8250.92 | F26: 6 | G26: ='Team-wedstrijd'!A8 -> 6
C27: ='Team-wedstrijd'!AZ9 -> 0 | D27: ='Team-wedstrijd'!BA9 -> 0 | E27: =SUM(C27:D27) -> 0 | F27: 7 | G27: ='Team-wedstrijd'!A9
C28: ='Team-wedstrijd'!AZ10 -> 0 | D28: ='Team-wedstrijd'!BA10 -> 0 | E28: =SUM(C28:D28) -> 0 | F28: 8 | G28: ='Team-wedstrijd'!A10
C29: ='Team-wedstrijd'!AZ11 -> 0 | D29: ='Team-wedstrijd'!BA11 -> 0 | E29: =SUM(C29:D29) -> 0 | F29: 9 | G29: ='Team-wedstrijd'!A11
C30: ='Team-wedstrijd'!AZ12 -> 0 | D30: ='Team-wedstrijd'!BA12 -> 0 | E30: =SUM(C30:D30) -> 0 | F30: 10 | G30: ='Team-wedstrijd'!A12
C31: ='Team-wedstrijd'!AZ13 -> 0 | D31: ='Team-wedstrijd'!BA13 -> 0 | E31: =SUM(C31:D31) -> 0 | F31: 11 | G31: ='Team-wedstrijd'!A13
C32: ='Team-wedstrijd'!AZ14 -> 0 | D32: ='Team-wedstrijd'!BA14 -> 0 | E32: =SUM(C32:D32) -> 0 | F32: 12 | G32: ='Team-wedstrijd'!A14
C33: ='Team-wedstrijd'!AZ15 -> 0 | D33: ='Team-wedstrijd'!BA15 -> 0 | E33: =SUM(C33:D33) -> 0 | F33: 13 | G33: ='Team-wedstrijd'!A15
B35: Impuls Pony
A36: Startnummer | B36: Menner / menster | C36: Totaal 2e manche | D36: Totaal 1e manche | E36: TOTAAL 1e & 2e MANCHE | F36: starters | G36: ranglijst
C37: ='IMP Pony'!BI3 -> 0 | D37: ='IMP Pony'!BJ3 -> 0 | E37: =SUM(C37:D37) -> 0 | F37: 1 | G37: ='IMP Pony'!BL3
C38: ='IMP Pony'!BI4 -> 0 | D38: ='IMP Pony'!BJ4 -> 0 | E38: =SUM(C38:D38) -> 0 | F38: 2 | G38: ='IMP Pony'!BL4
C39: ='IMP Pony'!BI5 -> 0 | D39: ='IMP Pony'!BJ5 -> 0 | E39: =SUM(C39:D39) -> 0 | F39: 3 | G39: ='IMP Pony'!BL5
C40: ='IMP Pony'!BI6 -> 0 | D40: ='IMP Pony'!BJ6 -> 0 | E40: =SUM(C40:D40) -> 0 | F40: 4 | G40: ='IMP Pony'!BL6
C41: ='IMP Pony'!BI7 -> 0 | D41: ='IMP Pony'!BJ7 -> 0 | E41: =SUM(C41:D41) -> 0 | F41: 5 | G41: ='IMP Pony'!BL7
C42: ='IMP Pony'!BI8 -> 0 | D42: ='IMP Pony'!BJ8 -> 0 | E42: =SUM(C42:D42) -> 0 | F42: 6 | G42: ='IMP Pony'!BL8
C43: ='IMP Pony'!BI9 -> 0 | D43: ='IMP Pony'!BJ9 -> 0 | E43: =SUM(C43:D43) -> 0 | F43: 7 | G43: ='IMP Pony'!BL9
C44: ='IMP Pony'!BI10 -> 0 | D44: ='IMP Pony'!BJ10 -> 0 | E44: =SUM(C44:D44) -> 0 | F44: 8 | G44: ='IMP Pony'!BL10
C45: ='IMP Pony'!BI11 -> 0 | D45: ='IMP Pony'!BJ11 -> 0 | E45: =SUM(C45:D45) -> 0 | F45: 9 | G45: ='IMP Pony'!BL11
C46: ='IMP Pony'!BI12 -> 0 | D46: ='IMP Pony'!BJ12 -> 0 | E46: =SUM(C46:D46) -> 0 | F46: 10 | G46: ='IMP Pony'!BL12
B48: SHET
A49: Startnummer | B49: Menner / menster | C49: Totaal 2e manche | D49: Totaal 1e manche | E49: TOTAAL 1e & 2e MANCHE | F49: starters | G49: ranglijst
C50: =Shet!BI3 -> 0 | D50: =Shet!BJ3 -> 0 | E50: =SUM(C50:D50) -> 0 | F50: 1 | G50: =Shet!BL3
C51: =Shet!BI4 -> 0 | D51: =Shet!BJ4 -> 0 | E51: =SUM(C51:D51) -> 0 | F51: 2 | G51: =Shet!BL4
C52: =Shet!BI5 -> 0 | D52: =Shet!BJ5 -> 0 | E52: =SUM(C52:D52) -> 0 | F52: 3 | G52: =Shet!BL5
C53: =Shet!BI6 -> 0 | D53: =Shet!BJ6 -> 0 | E53: =SUM(C53:D53) -> 0 | F53: 4 | G53: =Shet!BL6
C54: =Shet!BI7 -> 0 | D54: =Shet!BJ7 -> 0 | E54: =SUM(C54:D54) -> 0 | F54: 5 | G54: =Shet!BL7
C55: =Shet!BI8 -> 0 | D55: =Shet!BJ8 -> 0 | E55: =SUM(C55:D55) -> 0 | F55: 6 | G55: =Shet!BL8
C56: =Shet!BI9 -> 0 | D56: =Shet!BJ9 -> 0 | E56: =SUM(C56:D56) -> 0 | F56: 7 | G56: =Shet!BL9
C57: =Shet!BI10 -> 0 | D57: =Shet!BJ10 -> 0 | E57: =SUM(C57:D57) -> 0 | F57: 8 | G57: =Shet!BL10
C58: =Shet!BI11 -> 0 | D58: =Shet!BJ11 -> 0 | E58: =SUM(C58:D58) -> 0 | F58: 9 | G58: =Shet!BL11
C59: =Shet!BI12 -> 0 | D59: =Shet!BJ12 -> 0 | E59: =SUM(C59:D59) -> 0 | F59: 10 | G59: =Shet!BL12
C60: =Shet!BI13 -> 0 | D60: =Shet!BJ13 -> 0 | E60: =SUM(C60:D60) -> 0 | F60: 11 | G60: =Shet!BL13
C61: =Shet!BI14 -> 0 | D61: =Shet!BJ14 -> 0 | E61: =SUM(C61:D61) -> 0 | F61: 12 | G61: =Shet!BL14
B63: Jeugd
A64: Startnummer | B64: Menner / menster | C64: Totaal 2e manche | D64: Totaal 1e manche | E64: TOTAAL 1e & 2e MANCHE | F64: starters | G64: ranglijst
C65: =Jeugd!BI3 -> 0 | D65: =Jeugd!BJ3 -> 0 | E65: =SUM(C65:D65) -> 0 | F65: 1 | G65: =Jeugd!BL3
C66: =Jeugd!BI4 -> 0 | D66: =Jeugd!BJ4 -> 0 | E66: =SUM(C66:D66) -> 0 | F66: 2 | G66: =Jeugd!BL4
C67: =Jeugd!BI5 -> 0 | D67: =Jeugd!BJ5 -> 0 | E67: =SUM(C67:D67) -> 0 | F67: 3 | G67: =Jeugd!BL5
C68: =Jeugd!BI6 -> 0 | D68: =Jeugd!BJ6 -> 0 | E68: =SUM(C68:D68) -> 0 | F68: 4 | G68: =Jeugd!BL6
C69: =Jeugd!BI7 -> 0 | D69: =Jeugd!BJ7 -> 0 | E69: =SUM(C69:D69) -> 0 | F69: 5 | G69: =Jeugd!BL7
C70: =Jeugd!BI8 -> 0 | D70: =Jeugd!BJ8 -> 0 | E70: =SUM(C70:D70) -> 0 | F70: 6 | G70: =Jeugd!BL8
C71: =Jeugd!BI9 -> 0 | D71: =Jeugd!BJ9 -> 0 | E71: =SUM(C71:D71) -> 0 | F71: 7 | G71: =Jeugd!BL9
C72: =Jeugd!BI10 -> 0 | D72: =Jeugd!BJ10 -> 0 | E72: =SUM(C72:D72) -> 0 | F72: 8 | G72: =Jeugd!BL10
C73: =Jeugd!BI11 -> 0 | D73: =Jeugd!BJ11 -> 0 | E73: =SUM(C73:D73) -> 0 | F73: 9 | G73: =Jeugd!BL11
C74: =Jeugd!BI12 -> 0 | D74: =Jeugd!BJ12 -> 0 | E74: =SUM(C74:D74) -> 0 | F74: 10 | G74: =Jeugd!BL12
C75: =Jeugd!BI13 -> 0 | D75: =Jeugd!BJ13 -> 0 | E75: =SUM(C75:D75) -> 0 | F75: 11 | G75: =Jeugd!BL13
C76: =Jeugd!BI14 -> 0 | D76: =Jeugd!BJ14 -> 0 | E76: =SUM(C76:D76) -> 0 | F76: 12 | G76: =Jeugd!BL14
... C79: =Jeugd!BI17 -> 0 | D79: =Jeugd!BJ17 -> 0 | E79: =SUM(C79:D79) -> 0 | F79: 15 | G79: =Jeugd!BL17
B81: ENKELSPAN PONY
A82: Startnummer | B82: Menner / menster | C82: Totaal 2e manche | D82: Totaal 1e manche | E82: TOTAAL 1e & 2e MANCHE | F82: starters | G82: ranglijst
A83: 3 | B83: Saskia Koppenol | C83: ='1span Pony'!AZ3 -> 133.81 | D83: ='1span Pony'!BA3 -> 149.46 | E83: =SUM(C83:D83) -> 283.27 | F83: 1 | G83: ='1span Pony'!BC3 -> 1
A84: 4 | B84: Magda van Vendeloo | C84: ='1span Pony'!AZ4 -> 170.6 | D84: ='1span Pony'!BA4 -> 188.48 | E84: =SUM(C84:D84) -> 359.08 | F84: 2 | G84: ='1span Pony'!BC4 -> 2
A85: 5 | B85: Kitty Kuus | C85: ='1span Pony'!AZ5 -> 999 | D85: ='1span Pony'!BA5 -> 999 | E85: =SUM(C85:D85) -> 1998 | F85: 3 | G85: ='1span Pony'!BC5 -> 4
A86: 6 | B86: Sarah Dekker | C86: ='1span Pony'!AZ6 -> 207.95 | D86: ='1span Pony'!BA6 -> 277.06 | E86: =SUM(C86:D86) -> 485.01 | F86: 4 | G86: ='1span Pony'!BC6 -> 3
C87: ='1span Pony'!#REF! -> #REF! | D87: ='1span Pony'!#REF! -> #REF! | E87: =SUM(C87:D87) -> #REF! | F87: 5 | G87: ='1span Pony'!#REF! -> #REF!
C88: ='1span Pony'!#REF! -> #REF! | D88: ='1span Pony'!#REF! -> #REF! | E88: =SUM(C88:D88) -> #REF! | F88: 6 | G88: ='1span Pony'!#REF! -> #REF!
C89: ='1span Pony'!#REF! -> #REF! | D89: ='1span Pony'!#REF! -> #REF! | E89: =SUM(C89:D89) -> #REF! | F89: 7 | G89: ='1span Pony'!#REF! -> #REF!
C90: ='1span Pony'!#REF! -> #REF! | D90: ='1span Pony'!#REF! -> #REF! | E90: =SUM(C90:D90) -> #REF! | F90: 8 | G90: ='1span Pony'!#REF! -> #REF!
C91: ='1span Pony'!#REF! -> #REF! | D91: ='1span Pony'!#REF! -> #REF! | E91: =SUM(C91:D91) -> #REF! | F91: 9 | G91: ='1span Pony'!#REF! -> #REF!
C92: ='1span Pony'!#REF! -> #REF! | D92: ='1span Pony'!#REF! -> #REF! | E92: =SUM(C92:D92) -> #REF! | F92: 10 | G92: ='1span Pony'!#REF! -> #REF!
C93: ='1span Pony'!#REF! -> #REF! | D93: ='1span Pony'!#REF! -> #REF! | E93: =SUM(C93:D93) -> #REF! | F93: 11 | G93: ='1span Pony'!#REF! -> #REF!
C94: ='1span Pony'!#REF! -> #REF! | D94: ='1span Pony'!#REF! -> #REF! | E94: =SUM(C94:D94) -> #REF! | F94: 12 | G94: ='1span Pony'!#REF! -> #REF!
C95: ='1span Pony'!#REF! -> #REF! | D95: ='1span Pony'!#REF! -> #REF! | E95: =SUM(C95:D95) -> #REF! | F95: 13 | G95: ='1span Pony'!#REF! -> #REF!
C96: ='1span Pony'!#REF! -> #REF! | D96: ='1span Pony'!#REF! -> #REF! | E96: =SUM(C96:D96) -> #REF! | F96: 14 | G96: ='1span Pony'!#REF! -> #REF!
C97: ='1span Pony'!#REF! -> #REF! | D97: ='1span Pony'!#REF! -> #REF! | E97: =SUM(C97:D97) -> #REF! | F97: 15 | G97: ='1span Pony'!#REF! -> #REF!
C98: ='1span Pony'!#REF! -> #REF! | D98: ='1span Pony'!#REF! -> #REF! | E98: =SUM(C98:D98) -> #REF! | F98: 16 | G98: ='1span Pony'!#REF! -> #REF!
... C108: ='1span Pony'!#REF! -> #REF! | D108: ='1span Pony'!#REF! -> #REF! | E108: =SUM(C108:D108) -> #REF! | F108: 26 | G108: ='1span Pony'!#REF! -> #REF!
C109: ='1span Pony'!AZ7 -> 0 | D109: ='1span Pony'!BA7 -> 0 | E109: =SUM(C109:D109) -> 0 | F109: 27 | G109: ='1span Pony'!BC7
C110: ='1span Pony'!AZ8 -> 0 | D110: ='1span Pony'!BA8 -> 0 | E110: =SUM(C110:D110) -> 0 | F110: 28 | G110: ='1span Pony'!BC8 -> 0
B112: TWEESPAN PONY'S
A113: Startnummer | B113: Menner / menster | C113: Totaal 2e manche | D113: Totaal 1e manche | E113: TOTAAL 1e & 2e MANCHE | F113: starters | G113: ranglijst
A114: 1 | B114: Jordy Reuvers | C114: ='2span Pony'!AZ3 -> 0 | D114: ='2span Pony'!BA3 -> 178.1 | E114: =SUM(C114:D114) -> 178.1 | F114: 1 | G114: ='2span Pony'!BC3 -> 1
A115: 2 | B115: Tanja Pankow | C115: ='2span Pony'!AZ4 -> 163.56 | D115: ='2span Pony'!BA4 -> 174.51 | E115: =SUM(C115:D115) -> 338.07 | F115: 2 | G115: ='2span Pony'!BC4 -> 2
C116: ='2span Pony'!#REF! -> #REF! | D116: ='2span Pony'!#REF! -> #REF! | E116: =SUM(C116:D116) -> #REF! | F116: 3 | G116: ='2span Pony'!#REF! -> #REF!
C117: ='2span Pony'!#REF! -> #REF! | D117: ='2span Pony'!#REF! -> #REF! | E117: =SUM(C117:D117) -> #REF! | F117: 4 | G117: ='2span Pony'!#REF! -> #REF!
C118: ='2span Pony'!#REF! -> #REF! | D118: ='2span Pony'!#REF! -> #REF! | E118: =SUM(C118:D118) -> #REF! | F118: 5 | G118: ='2span Pony'!#REF! -> #REF!
...

Sheet JP
B1: Jonge Paarden | D1: EERSTE MANCHE | AJ1: TWEEDE MANCHE
A2: Startnummer | B2: Menner / menster | C2: Namen | E2: ='Alle lijsten'!I6 -> 1 | F2: ='Alle lijsten'!J6 -> 2 | G2: ='Alle lijsten'!K6 -> 3 | H2: ='Alle lijsten'!L6 -> 4a | I2: ='Alle lijsten'!M6 -> 4b | J2: ='Alle lijsten'!N6 -> 4c | K2: ='Alle lijsten'!O6 -> 4d | L2: ='Alle lijsten'!P6 -> 5 | ... X2: ='Alle lijsten'!AB6 -> 12 | Y2: ='Alle lijsten'!#REF! -> #REF! | Z2: ='Alle lijsten'!#REF! -> #REF! | AA2: ='Alle lijsten'!#REF! -> #REF! | AB2: ='Alle lijsten'!#REF! -> #REF! | AC2: PF | AD2: Strafsec. 1e manche | AE2: Tijd 1e manche | AF2: Totaal 1e manche | AH2: ='Alle lijsten'!I6 -> 1 | AI2: ='Alle lijsten'!J6 -> 2 | AJ2: ='Alle lijsten'!K6 -> 3 | AK2: ='Alle lijsten'!L6 -> 4a | AL2: ='Alle lijsten'!M6 -> 4b | AM2: ='Alle lijsten'!N6 -> 4c | AN2: ='Alle lijsten'!O6 -> 4d | AO2: ='Alle lijsten'!P6 -> 5 | ... BA2: ='Alle lijsten'!AB6 -> 12 | BB2: ='Alle lijsten'!#REF! -> #REF! | BC2: ='Alle lijsten'!#REF! -> #REF! | BD2: ='Alle lijsten'!#REF! -> #REF! | BE2: ='Alle lijsten'!#REF! -> #REF! | BF2: pf | BG2: Strafsec. 2e manche | BH2: Tijd 2e manche | BI2: Totaal 2e manche | BJ2: Totaal 1e manche | BK2: TOTAAL 1e & 2e MANCHE | BL2: KLASSERING
A3: ='Alle lijsten'!A4 -> 0 | B3: ='Alle lijsten'!B4 -> 0 | C3: ='Alle lijsten'!#REF! -> #REF! | AD3: =SUM(E3:AB3)*4+(D3)+(AC3)*20 -> 0 | AF3: =SUM(AD3+AE3) -> 0 | BG3: =SUM(AH3:BE3)*4+(AG3)+(BF3)*20 -> 0 | BI3: =BG3+BH3 -> 0 | BJ3: =AF3 -> 0 | BK3: =BI3+BJ3 -> 0 | BL3: =IF(BK3=0,"",RANK(BK3,$BK$3:$BK$21,1)-COUNTIF($BK$3:$BK$21,0))
A4: ='Alle lijsten'!A5 -> 0 | B4: ='Alle lijsten'!B5 -> 0 | C4: ='Alle lijsten'!#REF! -> #REF! | AD4: =SUM(E4:AB4)*4+(D4)+(AC4)*20 -> 0 | AF4: =SUM(AD4+AE4) -> 0 | BG4: =SUM(AH4:BE4)*4+(AG4)+(BF4)*20 -> 0 | BI4: =BG4+BH4 -> 0 | BJ4: =AF4 -> 0 | BK4: =BI4+BJ4 -> 0 | BL4: =IF(BK4=0,"",RANK(BK4,$BK$3:$BK$21,1)-COUNTIF($BK$3:$BK$21,0))
A5: ='Alle lijsten'!A6 -> 0 | B5: ='Alle lijsten'!B6 -> 0 | C5: ='Alle lijsten'!#REF! -> #REF! | AD5: =SUM(E5:AB5)*4+(D5)+(AC5)*20 -> 0 | AF5: =SUM(AD5+AE5) -> 0 | BG5: =SUM(AH5:BE5)*4+(AG5)+(BF5)*20 -> 0 | BI5: =BG5+BH5 -> 0 | BJ5: =AF5 -> 0 | BK5: =BI5+BJ5 -> 0 | BL5: =IF(BK5=0,"",RANK(BK5,$BK$3:$BK$21,1)-COUNTIF($BK$3:$BK$21,0))
A6: ='Alle lijsten'!A7 -> 0 | B6: ='Alle lijsten'!B7 -> 0 | C6: ='Alle lijsten'!#REF! -> #REF! | AD6: =SUM(E6:AB6)*4+(D6)+(AC6)*20 -> 0 | AF6: =SUM(AD6+AE6) -> 0 | BG6: =SUM(AH6:BE6)*4+(AG6)+(BF6)*20 -> 0 | BI6: =BG6+BH6 -> 0 | BJ6: =AF6 -> 0 | BK6: =BI6+BJ6 -> 0 | BL6: =IF(BK6=0,"",RANK(BK6,$BK$3:$BK$21,1)-COUNTIF($BK$3:$BK$21,0))
A7: ='Alle lijsten'!A8 -> 0 | B7: ='Alle lijsten'!B8 -> 0 | C7: ='Alle lijsten'!#REF! -> #REF! | AD7: =SUM(E7:AB7)*4+(D7)+(AC7)*20 -> 0 | AF7: =SUM(AD7+AE7) -> 0 | BG7: =SUM(AH7:BE7)*4+(AG7)+(BF7)*20 -> 0 | BI7: =BG7+BH7 -> 0 | BJ7: =AF7 -> 0 | BK7: =BI7+BJ7 -> 0 | BL7: =IF(BK7=0,"",RANK(BK7,$BK$3:$BK$21,1)-COUNTIF($BK$3:$BK$21,0))
A8: ='Alle lijsten'!A9 -> 0 | B8: ='Alle lijsten'!B9 -> 0 | C8: ='Alle lijsten'!#REF! -> #REF! | AD8: =SUM(E8:AB8)*4+(D8)+(AC8)*20 -> 0 | AF8: =SUM(AD8+AE8) -> 0 | BG8: =SUM(AH8:BE8)*4+(AG8)+(BF8)*20 -> 0 | BI8: =BG8+BH8 -> 0 | BJ8: =AF8 -> 0 | BK8: =BI8+BJ8 -> 0 | BL8: =IF(BK8=0,"",RANK(BK8,$BK$3:$BK$21,1)-COUNTIF($BK$3:$BK$21,0))
A9: ='Alle lijsten'!A10 -> 0 | B9: ='Alle lijsten'!B10 -> 0 | C9: ='Alle lijsten'!#REF! -> #REF! | AD9: =SUM(E9:AB9)*4+(D9)+(AC9)*20 -> 0 | AF9: =SUM(AD9+AE9) -> 0 | BG9: =SUM(AH9:BE9)*4+(AG9)+(BF9)*20 -> 0 | BI9: =BG9+BH9 -> 0 | BJ9: =AF9 -> 0 | BK9: =BI9+BJ9 -> 0 | BL9: =IF(BK9=0,"",RANK(BK9,$BK$3:$BK$21,1)-COUNTIF($BK$3:$BK$21,0))
A10: ='Alle lijsten'!A11 -> 0 | B10: ='Alle lijsten'!B11 -> 0 | C10: ='Alle lijsten'!#REF! -> #REF! | AD10: =SUM(E10:AB10)*4+(D10)+(AC10)*20 -> 0 | AF10: =SUM(AD10+AE10) -> 0 | BG10: =SUM(AH10:BE10)*4+(AG10)+(BF10)*20 -> 0 | BI10: =BG10+BH10 -> 0 | BJ10: =AF10 -> 0 | BK10: =BI10+BJ10 -> 0 | BL10: =IF(BK10=0,"",RANK(BK10,$BK$3:$BK$21,1)-COUNTIF($BK$3:$BK$21,0))
A11: ='Alle lijsten'!A12 -> 0 | B11: ='Alle lijsten'!B12 -> 0 | C11: ='Alle lijsten'!#REF! -> #REF! | AD11: =SUM(E11:AB11)*4+(D11)+(AC11)*20 -> 0 | AF11: =SUM(AD11+AE11) -> 0 | BG11: =SUM(AH11:BE11)*4+(AG11)+(BF11)*20 -> 0 | BI11: =BG11+BH11 -> 0 | BJ11: =AF11 -> 0 | BK11: =BI11+BJ11 -> 0 | BL11: =IF(BK11=0,"",RANK(BK11,$BK$3:$BK$21,1)-COUNTIF($BK$3:$BK$21,0))
A12: ='Alle lijsten'!A13 -> 0 | B12: ='Alle lijsten'!B13 -> 0 | C12: ='Alle lijsten'!#REF! -> #REF! | AD12: =SUM(E12:AB12)*4+(D12)+(AC12)*20 -> 0 | AF12: =SUM(AD12+AE12) -> 0 | BG12: =SUM(AH12:BE12)*4+(AG12)+(BF12)*20 -> 0 | BI12: =BG12+BH12 -> 0 | BJ12: =AF12 -> 0 | BK12: =BI12+BJ12 -> 0 | BL12: =IF(BK12=0,"",RANK(BK12,$BK$3:$BK$21,1)-COUNTIF($BK$3:$BK$21,0))
A13: ='Alle lijsten'!A14 -> 0 | B13: ='Alle lijsten'!B14 -> 0 | C13: ='Alle lijsten'!#REF! -> #REF! | AD13: =SUM(E13:AB13)*4+(D13)+(AC13)*20 -> 0 | AF13: =SUM(AD13+AE13) -> 0 | BG13: =SUM(AH13:BE13)*4+(AG13)+(BF13)*20 -> 0 | BI13: =BG13+BH13 -> 0 | BJ13: =AF13 -> 0 | BK13: =BI13+BJ13 -> 0 | BL13: =IF(BK13=0,"",RANK(BK13,$BK$3:$BK$21,1)-COUNTIF($BK$3:$BK$21,0))
A14: ='Alle lijsten'!A15 -> 0 | B14: ='Alle lijsten'!B15 -> 0 | C14: ='Alle lijsten'!#REF! -> #REF! | AD14: =SUM(E14:AB14)*4+(D14)+(AC14)*20 -> 0 | AF14: =SUM(AD14+AE14) -> 0 | BG14: =SUM(AH14:BE14)*4+(AG14)+(BF14)*20 -> 0 | BI14: =BG14+BH14 -> 0 | BJ14: =AF14 -> 0 | BK14: =BI14+BJ14 -> 0 | BL14: =IF(BK14=0,"",RANK(BK14,$BK$3:$BK$21,1)-COUNTIF($BK$3:$BK$21,0))
... A16: ='Alle lijsten'!A17 -> 0 | B16: ='Alle lijsten'!B17 -> 0 | C16: ='Alle lijsten'!#REF! -> #REF! | AD16: =SUM(E16:AB16)*4+(D16)+(AC16)*20 -> 0 | AF16: =SUM(AD16+AE16) -> 0 | BG16: =SUM(AH16:BE16)*4+(AG16)+(BF16)*20 -> 0 | BI16: =BG16+BH16 -> 0 | BJ16: =AF16 -> 0 | BK16: =BI16+BJ16 -> 0 | BL16: =IF(BK16=0,"",RANK(BK16,$BK$3:$BK$21,1)-COUNTIF($BK$3:$BK$21,0))
AD17: =SUM(E17:AB17)*4+(D17)+(AC17)*20 -> 0 | AF17: =SUM(AD17+AE17) -> 0 | BG17: =SUM(AH17:BE17)*4+(AG17)+(BF17)*20 -> 0 | BI17: =BG17+BH17 -> 0 | BJ17: =AF17 -> 0 | BK17: =BI17+BJ17 -> 0 | BL17: =IF(BK17=0,"",RANK(BK17,$BK$3:$BK$21,1)-COUNTIF($BK$3:$BK$21,0))
AD18: =SUM(E18:AB18)*4+(D18)+(AC18)*20 -> 0 | AF18: =SUM(AD18+AE18) -> 0 | BG18: =SUM(AH18:BE18)*4+(AG18)+(BF18)*20 -> 0 | BI18: =BG18+BH18 -> 0 | BJ18: =AF18 -> 0 | BK18: =BI18+BJ18 -> 0 | BL18: =IF(BK18=0,"",RANK(BK18,$BK$3:$BK$21,1)-COUNTIF($BK$3:$BK$21,0))
AD19: =SUM(E19:AB19)*4+(D19)+(AC19)*20 -> 0 | AF19: =SUM(AD19+AE19) -> 0 | BG19: =SUM(AH19:BE19)*4+(AG19)+(BF19)*20 -> 0 | BI19: =BG19+BH19 -> 0 | BJ19: =AF19 -> 0 | BK19: =BI19+BJ19 -> 0 | BL19: =IF(BK19=0,"",RANK(BK19,$BK$3:$BK$21,1)-COUNTIF($BK$3:$BK$21,0))
AD20: =SUM(E20:AB20)*4+(D20)+(AC20)*20 -> 0 | AF20: =SUM(AD20+AE20) -> 0 | BG20: =SUM(AH20:BE20)*4+(AG20)+(BF20)*20 -> 0 | BI20: =BG20+BH20 -> 0 | BJ20: =AF20 -> 0 | BK20: =BI20+BJ20 -> 0 | BL20: =IF(BK20=0,"",RANK(BK20,$BK$3:$BK$21,1)-COUNTIF($BK$3:$BK$21,0))
BG21: =SUM(AH21:BE21)*4+(AG21)+(BF21)*20 -> 0 | BI21: =BG21+BH21 -> 0 | BJ21: =AF21 -> 0 | BK21: =BI21+BJ21 -> 0 | BL21: =IF(BK21=0,"",RANK(BK21,$BK$3:$BK$21,1)-COUNTIF($BK$3:$BK$21,0))

Sheet Team-wedstrijd
B1: Team Wedstrijd | C1: EERSTE MANCHE | AE1: TWEEDE MANCHE
A2: KLASSERING | B2: Menner / menster | D2: ='Alle lijsten'!I6 -> 1 | E2: ='Alle lijsten'!J6 -> 2 | F2: ='Alle lijsten'!K6 -> 3 | G2: ='Alle lijsten'!L6 -> 4a | H2: ='Alle lijsten'!M6 -> 4b | I2: ='Alle lijsten'!N6 -> 4c | J2: ='Alle lijsten'!O6 -> 4d | K2: ='Alle lijsten'!P6 -> 5 | ... W2: ='Alle lijsten'!AB6 -> 12 | X2: pf | Y2: Strafsec. 1e manche | Z2: Tijd 1e manche | AA2: Totaal 1e manche | AC2: ='Alle lijsten'!I6 -> 1 | AD2: ='Alle lijsten'!J6 -> 2 | AE2: ='Alle lijsten'!K6 -> 3 | AF2: ='Alle lijsten'!L6 -> 4a | AG2: ='Alle lijsten'!M6 -> 4b | AH2: ='Alle lijsten'!N6 -> 4c | AI2: ='Alle lijsten'!O6 -> 4d | AJ2: ='Alle lijsten'!P6 -> 5 | ... AV2: ='Alle lijsten'!AB6 -> 12 | AW2: pf | AX2: Strafsec. 2e manche | AY2: Tijd 2e manche | AZ2: Totaal 2e manche | BA2: Totaal 1e manche | BB2: TOTAAL 1e & 2e MANCHE
A3: =IF(BB3=0,"",RANK(BB3,$BB$3:$BB$22,1)-COUNTIF($BB$3:$BB$22,0)) -> 1 | B3: ='Alle lijsten'!B23 -> Brigitte Janssen & Marleen van Vendeloo | R3: 1 | Y3: =SUM(D3:W3)*4+(C3)+(X3)*20 -> 4 | Z3: 197.68 | AA3: =SUM(Y3+Z3) -> 201.68 | AQ3: 1 | AX3: =SUM(AC3:AV3)*4+(AB3)+(AW3)*20 -> 4 | AY3: 200.09 | AZ3: =AX3+AY3 -> 204.09 | BA3: =AA3 -> 201.68 | BB3: =AZ3+BA3 -> 405.77
A4: =IF(BB4=0,"",RANK(BB4,$BB$3:$BB$22,1)-COUNTIF($BB$3:$BB$22,0)) -> 2 | B4: ='Alle lijsten'!B24 -> Gerard van Randwijk & Saskia Koppenol | F4: 1 | R4: 1 | Y4: =SUM(D4:W4)*4+(C4)+(X4)*20 -> 8 | Z4: 262.5 | AA4: =SUM(Y4+Z4) -> 270.5 | AV4: 1 | AX4: =SUM(AC4:AV4)*4+(AB4)+(AW4)*20 -> 4 | AY4: 252.58 | AZ4: =AX4+AY4 -> 256.58 | BA4: =AA4 -> 270.5 | BB4: =AZ4+BA4 -> 527.08
A5: =IF(BB5=0,"",RANK(BB5,$BB$3:$BB$22,1)-COUNTIF($BB$3:$BB$22,0)) -> 3 | B5: ='Alle lijsten'!B22 -> Danny Marien & Whitney Marien | Q5: 1 | Y5: =SUM(D5:W5)*4+(C5)+(X5)*20 -> 4 | Z5: 295.66 | AA5: =SUM(Y5+Z5) -> 299.66 | AX5: =SUM(AC5:AV5)*4+(AB5)+(AW5)*20 -> 0 | AY5: 266.36 | AZ5: =AX5+AY5 -> 266.36 | BA5: =AA5 -> 299.66 | BB5: =AZ5+BA5 -> 566.02
A6: 4 | B6: ='Alle lijsten'!B26 -> Quinten van Beers & Carolijn de Leeuw | L6: 999 | R6: 1 | Y6: =SUM(D6:W6)*4+(C6)+(X6)*20 -> 4000 | Z6: 234.64 | AA6: EL | AD6: 1 | AX6: =SUM(AC6:AV6)*4+(AB6)+(AW6)*20 -> 4 | AY6: 230.89 | AZ6: =AX6+AY6 -> 234.89 | BA6: =AA6 -> EL | BB6: EL
A7: 5 | B7: ='Alle lijsten'!B25 -> Yvette van Amelsvoort & Lizz Marijnisen | Y7: =SUM(D7:W7)*4+(C7)+(X7)*20 -> 0 | Z7: 247.79 | AA7: EL | AQ7: 999 | AX7: =SUM(AC7:AV7)*4+(AB7)+(AW7)*20 -> 3996 | AY7: 240.22 | AZ7: =AX7+AY7 -> 4236.22 | BA7: =AA7 -> EL | BB7: EL
A8: 6 | B8: ='Alle lijsten'!B21 -> Carolijn de Leeuw & Marielle Omens | J8: 999 | Y8: =SUM(D8:W8)*4+(C8)+(X8)*20 -> 3996 | Z8: 310.04 | AA8: EL | AI8: 999 | AJ8: 999 | AX8: =SUM(AC8:AV8)*4+(AB8)+(AW8)*20 -> 7992 | AY8: 258.92 | AZ8: =AX8+AY8 -> 8250.92 | BA8: =AA8 -> EL | BB8: EL
A9: =IF(BB9=0,"",RANK(BB9,$BB$3:$BB$22,1)-COUNTIF($BB$3:$BB$22,0)) | B9: ='Alle lijsten'!B27 -> 0 | Y9: =SUM(D9:W9)*4+(C9)+(X9)*20 -> 0 | AA9: =SUM(Y9+Z9) -> 0 | AX9: =SUM(AC9:AV9)*4+(AB9)+(AW9)*20 -> 0 | AZ9: =AX9+AY9 -> 0 | BA9: =AA9 -> 0 | BB9: =AZ9+BA9 -> 0
A10: =IF(BB10=0,"",RANK(BB10,$BB$3:$BB$22,1)-COUNTIF($BB$3:$BB$22,0)) | B10: ='Alle lijsten'!B28 -> 0 | Y10: =SUM(D10:W10)*4+(C10)+(X10)*20 -> 0 | AA10: =SUM(Y10+Z10) -> 0 | AX10: =SUM(AC10:AV10)*4+(AB10)+(AW10)*20 -> 0 | AZ10: =AX10+AY10 -> 0 | BA10: =AA10 -> 0 | BB10: =AZ10+BA10 -> 0
A11: =IF(BB11=0,"",RANK(BB11,$BB$3:$BB$22,1)-COUNTIF($BB$3:$BB$22,0)) | B11: ='Alle lijsten'!B29 -> 0 | Y11: =SUM(D11:W11)*4+(C11)+(X11)*20 -> 0 | AA11: =SUM(Y11+Z11) -> 0 | AX11: =SUM(AC11:AV11)*4+(AB11)+(AW11)*20 -> 0 | AZ11: =AX11+AY11 -> 0 | BA11: =AA11 -> 0 | BB11: =AZ11+BA11 -> 0
A12: =IF(BB12=0,"",RANK(BB12,$BB$3:$BB$22,1)-COUNTIF($BB$3:$BB$22,0)) | B12: ='Alle lijsten'!B30 -> 0 | Y12: =SUM(D12:W12)*4+(C12)+(X12)*20 -> 0 | AA12: =SUM(Y12+Z12) -> 0 | AX12: =SUM(AC12:AV12)*4+(AB12)+(AW12)*20 -> 0 | AZ12: =AX12+AY12 -> 0 | BA12: =AA12 -> 0 | BB12: =AZ12+BA12 -> 0
A13: =IF(BB13=0,"",RANK(BB13,$BB$3:$BB$22,1)-COUNTIF($BB$3:$BB$22,0)) | B13: ='Alle lijsten'!B31 -> 0 | Y13: =SUM(D13:W13)*4+(C13)+(X13)*20 -> 0 | AA13: =SUM(Y13+Z13) -> 0 | AX13: =SUM(AC13:AV13)*4+(AB13)+(AW13)*20 -> 0 | AZ13: =AX13+AY13 -> 0 | BA13: =AA13 -> 0 | BB13: =AZ13+BA13 -> 0
A14: =IF(BB14=0,"",RANK(BB14,$BB$3:$BB$22,1)-COUNTIF($BB$3:$BB$22,0)) | Y14: =SUM(D14:W14)*4+(C14)+(X14)*20 -> 0 | AA14: =SUM(Y14+Z14) -> 0 | AX14: =SUM(AC14:AV14)*4+(AB14)+(AW14)*20 -> 0 | AZ14: =AX14+AY14 -> 0 | BA14: =AA14 -> 0 | BB14: =AZ14+BA14 -> 0
A15: =IF(BB15=0,"",RANK(BB15,$BB$3:$BB$22,1)-COUNTIF($BB$3:$BB$22,0)) | Y15: =SUM(D15:W15)*4+(C15)+(X15)*20 -> 0 | AA15: =SUM(Y15+Z15) -> 0 | AX15: =SUM(AC15:AV15)*4+(AB15)+(AW15)*20 -> 0 | AZ15: =AX15+AY15 -> 0 | BA15: =AA15 -> 0 | BB15: =AZ15+BA15 -> 0
A16: =IF(BB16=0,"",RANK(BB16,$BB$3:$BB$22,1)-COUNTIF($BB$3:$BB$22,0)) | Y16: =SUM(D16:W16)*4+(C16)+(X16)*20 -> 0 | AA16: =SUM(Y16+Z16) -> 0 | AX16: =SUM(AC16:AV16)*4+(AB16)+(AW16)*20 -> 0 | AZ16: =AX16+AY16 -> 0 | BA16: =AA16 -> 0 | BB16: =AZ16+BA16 -> 0
A17: =IF(BB17=0,"",RANK(BB17,$BB$3:$BB$22,1)-COUNTIF($BB$3:$BB$22,0)) | Y17: =SUM(D17:W17)*4+(C17)+(X17)*20 -> 0 | AA17: =SUM(Y17+Z17) -> 0 | AX17: =SUM(AC17:AV17)*4+(AB17)+(AW17)*20 -> 0 | AZ17: =AX17+AY17 -> 0 | BA17: =AA17 -> 0 | BB17: =AZ17+BA17 -> 0
A18: =IF(BB18=0,"",RANK(BB18,$BB$3:$BB$22,1)-COUNTIF($BB$3:$BB$22,0)) | Y18: =SUM(D18:W18)*4+(C18)+(X18)*20 -> 0 | AA18: =SUM(Y18+Z18) -> 0 | AX18: =SUM(AC18:AV18)*4+(AB18)+(AW18)*20 -> 0 | AZ18: =AX18+AY18 -> 0 | BA18: =AA18 -> 0 | BB18: =AZ18+BA18 -> 0
A19: =IF(BB19=0,"",RANK(BB19,$BB$3:$BB$22,1)-COUNTIF($BB$3:$BB$22,0)) | Y19: =SUM(D19:W19)*4+(C19)+(X19)*20 -> 0 | AA19: =SUM(Y19+Z19) -> 0 | AX19: =SUM(AC19:AV19)*4+(AB19)+(AW19)*20 -> 0 | AZ19: =AX19+AY19 -> 0 | BA19: =AA19 -> 0 | BB19: =AZ19+BA19 -> 0
A20: =IF(BB20=0,"",RANK(BB20,$BB$3:$BB$22,1)-COUNTIF($BB$3:$BB$22,0)) | Y20: =SUM(D20:W20)*4+(C20)+(X20)*20 -> 0 | AA20: =SUM(Y20+Z20) -> 0 | AX20: =SUM(AC20:AV20)*4+(AB20)+(AW20)*20 -> 0 | AZ20: =AX20+AY20 -> 0 | BA20: =AA20 -> 0 | BB20: =AZ20+BA20 -> 0
AD21: 1

Sheet IMP Pony
B1: Impuls Pony | D1: EERSTE MANCHE | AJ1: TWEEDE MANCHE
A2: Startnummer | B2: Menner / menster | C2: Namen | E2: ='Alle lijsten'!I6 -> 1 | F2: ='Alle lijsten'!J6 -> 2 | G2: ='Alle lijsten'!K6 -> 3 | H2: ='Alle lijsten'!L6 -> 4a | I2: ='Alle lijsten'!M6 -> 4b | J2: ='Alle lijsten'!N6 -> 4c | K2: ='Alle lijsten'!O6 -> 4d | L2: ='Alle lijsten'!P6 -> 5 | ... X2: ='Alle lijsten'!AB6 -> 12 | Y2: ='Alle lijsten'!#REF! -> #REF! | Z2: ='Alle lijsten'!#REF! -> #REF! | AA2: ='Alle lijsten'!#REF! -> #REF! | AB2: ='Alle lijsten'!#REF! -> #REF! | AC2: PF | AD2: Strafsec. 1e manche | AE2: Tijd 1e manche | AF2: Totaal 1e manche | AH2: ='Alle lijsten'!I6 -> 1 | AI2: ='Alle lijsten'!J6 -> 2 | AJ2: ='Alle lijsten'!K6 -> 3 | AK2: ='Alle lijsten'!L6 -> 4a | AL2: ='Alle lijsten'!M6 -> 4b | AM2: ='Alle lijsten'!N6 -> 4c | AN2: ='Alle lijsten'!O6 -> 4d | AO2: ='Alle lijsten'!P6 -> 5 | ... BA2: ='Alle lijsten'!AB6 -> 12 | BB2: ='Alle lijsten'!#REF! -> #REF! | BC2: ='Alle lijsten'!#REF! -> #REF! | BD2: ='Alle lijsten'!#REF! -> #REF! | BE2: ='Alle lijsten'!#REF! -> #REF! | BF2: pf | BG2: Strafsec. 2e manche | BH2: Tijd 2e manche | BI2: Totaal 2e manche | BJ2: Totaal 1e manche | BK2: TOTAAL 1e & 2e MANCHE | BL2: KLASSERING
A3: ='Alle lijsten'!A37 -> 0 | B3: ='Alle lijsten'!B37 -> 0 | C3: ='Alle lijsten'!#REF! -> #REF! | AD3: =SUM(E3:AB3)*4+(D3)+(AC3)*20 -> 0 | AF3: =SUM(AD3+AE3) -> 0 | BG3: =SUM(AH3:BE3)*4+(AG3)+(BF3)*20 -> 0 | BI3: =BG3+BH3 -> 0 | BJ3: =AF3 -> 0 | BK3: =BI3+BJ3 -> 0 | BL3: =IF(BK3=0,"",RANK(BK3,$BK$3:$BK$21,1)-COUNTIF($BK$3:$BK$21,0))
A4: ='Alle lijsten'!A38 -> 0 | B4: ='Alle lijsten'!B38 -> 0 | C4: ='Alle lijsten'!#REF! -> #REF! | AD4: =SUM(E4:AB4)*4+(D4)+(AC4)*20 -> 0 | AF4: =SUM(AD4+AE4) -> 0 | BG4: =SUM(AH4:BE4)*4+(AG4)+(BF4)*20 -> 0 | BI4: =BG4+BH4 -> 0 | BJ4: =AF4 -> 0 | BK4: =BI4+BJ4 -> 0 | BL4: =IF(BK4=0,"",RANK(BK4,$BK$3:$BK$21,1)-COUNTIF($BK$3:$BK$21,0))
A5: ='Alle lijsten'!A39 -> 0 | B5: ='Alle lijsten'!B39 -> 0 | C5: ='Alle lijsten'!#REF! -> #REF! | AD5: =SUM(E5:AB5)*4+(D5)+(AC5)*20 -> 0 | AF5: =SUM(AD5+AE5) -> 0 | BG5: =SUM(AH5:BE5)*4+(AG5)+(BF5)*20 -> 0 | BI5: =BG5+BH5 -> 0 | BJ5: =AF5 -> 0 | BK5: =BI5+BJ5 -> 0 | BL5: =IF(BK5=0,"",RANK(BK5,$BK$3:$BK$21,1)-COUNTIF($BK$3:$BK$21,0))
A6: ='Alle lijsten'!A40 -> 0 | B6: ='Alle lijsten'!B40 -> 0 | C6: ='Alle lijsten'!#REF! -> #REF! | AD6: =SUM(E6:AB6)*4+(D6)+(AC6)*20 -> 0 | AF6: =SUM(AD6+AE6) -> 0 | BG6: =SUM(AH6:BE6)*4+(AG6)+(BF6)*20 -> 0 | BI6: =BG6+BH6 -> 0 | BJ6: =AF6 -> 0 | BK6: =BI6+BJ6 -> 0 | BL6: =IF(BK6=0,"",RANK(BK6,$BK$3:$BK$21,1)-COUNTIF($BK$3:$BK$21,0))
A7: ='Alle lijsten'!A41 -> 0 | B7: ='Alle lijsten'!B41 -> 0 | C7: ='Alle lijsten'!#REF! -> #REF! | AD7: =SUM(E7:AB7)*4+(D7)+(AC7)*20 -> 0 | AF7: =SUM(AD7+AE7) -> 0 | BG7: =SUM(AH7:BE7)*4+(AG7)+(BF7)*20 -> 0 | BI7: =BG7+BH7 -> 0 | BJ7: =AF7 -> 0 | BK7: =BI7+BJ7 -> 0 | BL7: =IF(BK7=0,"",RANK(BK7,$BK$3:$BK$21,1)-COUNTIF($BK$3:$BK$21,0))
A8: ='Alle lijsten'!A42 -> 0 | B8: ='Alle lijsten'!B42 -> 0 | C8: ='Alle lijsten'!#REF! -> #REF! | AD8: =SUM(E8:AB8)*4+(D8)+(AC8)*20 -> 0 | AF8: =SUM(AD8+AE8) -> 0 | BG8: =SUM(AH8:BE8)*4+(AG8)+(BF8)*20 -> 0 | BI8: =BG8+BH8 -> 0 | BJ8: =AF8 -> 0 | BK8: =BI8+BJ8 -> 0 | BL8: =IF(BK8=0,"",RANK(BK8,$BK$3:$BK$21,1)-COUNTIF($BK$3:$BK$21,0))
A9: ='Alle lijsten'!A43 -> 0 | B9: ='Alle lijsten'!B43 -> 0 | C9: ='Alle lijsten'!#REF! -> #REF! | AD9: =SUM(E9:AB9)*4+(D9)+(AC9)*20 -> 0 | AF9: =SUM(AD9+AE9) -> 0 | BG9: =SUM(AH9:BE9)*4+(AG9)+(BF9)*20 -> 0 | BI9: =BG9+BH9 -> 0 | BJ9: =AF9 -> 0 | BK9: =BI9+BJ9 -> 0 | BL9: =IF(BK9=0,"",RANK(BK9,$BK$3:$BK$21,1)-COUNTIF($BK$3:$BK$21,0))
A10: ='Alle lijsten'!A44 -> 0 | B10: ='Alle lijsten'!B44 -> 0 | C10: ='Alle lijsten'!#REF! -> #REF! | AD10: =SUM(E10:AB10)*4+(D10)+(AC10)*20 -> 0 | AF10: =SUM(AD10+AE10) -> 0 | BG10: =SUM(AH10:BE10)*4+(AG10)+(BF10)*20 -> 0 | BI10: =BG10+BH10 -> 0 | BJ10: =AF10 -> 0 | BK10: =BI10+BJ10 -> 0 | BL10: =IF(BK10=0,"",RANK(BK10,$BK$3:$BK$21,1)-COUNTIF($BK$3:$BK$21,0))
A11: ='Alle lijsten'!A45 -> 0 | B11: ='Alle lijsten'!B45 -> 0 | C11: ='Alle lijsten'!#REF! -> #REF! | AD11: =SUM(E11:AB11)*4+(D11)+(AC11)*20 -> 0 | AF11: =SUM(AD11+AE11) -> 0 | BG11: =SUM(AH11:BE11)*4+(AG11)+(BF11)*20 -> 0 | BI11: =BG11+BH11 -> 0 | BJ11: =AF11 -> 0 | BK11: =BI11+BJ11 -> 0 | BL11: =IF(BK11=0,"",RANK(BK11,$BK$3:$BK$21,1)-COUNTIF($BK$3:$BK$21,0))
A12: ='Alle lijsten'!A46 -> 0 | B12: ='Alle lijsten'!B46 -> 0 | C12: ='Alle lijsten'!#REF! -> #REF! | AD12: =SUM(E12:AB12)*4+(D12)+(AC12)*20 -> 0 | AF12: =SUM(AD12+AE12) -> 0 | BG12: =SUM(AH12:BE12)*4+(AG12)+(BF12)*20 -> 0 | BI12: =BG12+BH12 -> 0 | BJ12: =AF12 -> 0 | BK12: =BI12+BJ12 -> 0 | BL12: =IF(BK12=0,"",RANK(BK12,$BK$3:$BK$21,1)-COUNTIF($BK$3:$BK$21,0))
A13: ='Alle lijsten'!A47 -> 0 | B13: ='Alle lijsten'!B47 -> 0 | C13: ='Alle lijsten'!#REF! -> #REF! | AD13: =SUM(E13:AB13)*4+(D13)+(AC13)*20 -> 0 | AF13: =SUM(AD13+AE13) -> 0 | BG13: =SUM(AH13:BE13)*4+(AG13)+(BF13)*20 -> 0 | BI13: =BG13+BH13 -> 0 | BJ13: =AF13 -> 0 | BK13: =BI13+BJ13 -> 0 | BL13: =IF(BK13=0,"",RANK(BK13,$BK$3:$BK$21,1)-COUNTIF($BK$3:$BK$21,0))
AD14: =SUM(E14:AB14)*4+(D14)+(AC14)*20 -> 0 | AF14: =SUM(AD14+AE14) -> 0 | BG14: =SUM(AH14:BE14)*4+(AG14)+(BF14)*20 -> 0 | BI14: =BG14+BH14 -> 0 | BJ14: =AF14 -> 0 | BK14: =BI14+BJ14 -> 0 | BL14: =IF(BK14=0,"",RANK(BK14,$BK$3:$BK$21,1)-COUNTIF($BK$3:$BK$21,0))
AD15: =SUM(E15:AB15)*4+(D15)+(AC15)*20 -> 0 | AF15: =SUM(AD15+AE15) -> 0 | BG15: =SUM(AH15:BE15)*4+(AG15)+(BF15)*20 -> 0 | BI15: =BG15+BH15 -> 0 | BJ15: =AF15 -> 0 | BK15: =BI15+BJ15 -> 0 | BL15: =IF(BK15=0,"",RANK(BK15,$BK$3:$BK$21,1)-COUNTIF($BK$3:$BK$21,0))
AD16: =SUM(E16:AB16)*4+(D16)+(AC16)*20 -> 0 | AF16: =SUM(AD16+AE16) -> 0 | BG16: =SUM(AH16:BE16)*4+(AG16)+(BF16)*20 -> 0 | BI16: =BG16+BH16 -> 0 | BJ16: =AF16 -> 0 | BK16: =BI16+BJ16 -> 0 | BL16: =IF(BK16=0,"",RANK(BK16,$BK$3:$BK$21,1)-COUNTIF($BK$3:$BK$21,0))
AD17: =SUM(E17:AB17)*4+(D17)+(AC17)*20 -> 0 | AF17: =SUM(AD17+AE17) -> 0 | BG17: =SUM(AH17:BE17)*4+(AG17)+(BF17)*20 -> 0 | BI17: =BG17+BH17 -> 0 | BJ17: =AF17 -> 0 | BK17: =BI17+BJ17 -> 0 | BL17: =IF(BK17=0,"",RANK(BK17,$BK$3:$BK$21,1)-COUNTIF($BK$3:$BK$21,0))
AD18: =SUM(E18:AB18)*4+(D18)+(AC18)*20 -> 0 | AF18: =SUM(AD18+AE18) -> 0 | BG18: =SUM(AH18:BE18)*4+(AG18)+(BF18)*20 -> 0 | BI18: =BG18+BH18 -> 0 | BJ18: =AF18 -> 0 | BK18: =BI18+BJ18 -> 0 | BL18: =IF(BK18=0,"",RANK(BK18,$BK$3:$BK$21,1)-COUNTIF($BK$3:$BK$21,0))
AD19: =SUM(E19:AB19)*4+(D19)+(AC19)*20 -> 0 | AF19: =SUM(AD19+AE19) -> 0 | BG19: =SUM(AH19:BE19)*4+(AG19)+(BF19)*20 -> 0 | BI19: =BG19+BH19 -> 0 | BJ19: =AF19 -> 0 | BK19: =BI19+BJ19 -> 0 | BL19: =IF(BK19=0,"",RANK(BK19,$BK$3:$BK$21,1)-COUNTIF($BK$3:$BK$21,0))
AD20: =SUM(E20:AB20)*4+(D20)+(AC20)*20 -> 0 | AF20: =SUM(AD20+AE20) -> 0 | BG20: =SUM(AH20:BE20)*4+(AG20)+(BF20)*20 -> 0 | BI20: =BG20+BH20 -> 0 | BJ20: =BH20 -> 0 | BK20: =BI20+BJ20 -> 0 | BL20: =IF(BK20=0,"",RANK(BK20,$BK$3:$BK$21,1)-COUNTIF($BK$3:$BK$21,0))

Sheet Shet
B1: SHET | D1: EERSTE MANCHE | AJ1: TWEEDE MANCHE
A2: Startnummer | B2: Menner / menster | C2: Namen | E2: ='Alle lijsten'!I6 -> 1 | F2: ='Alle lijsten'!J6 -> 2 | G2: ='Alle lijsten'!K6 -> 3 | H2: ='Alle lijsten'!L6 -> 4a | I2: ='Alle lijsten'!M6 -> 4b | J2: ='Alle lijsten'!N6 -> 4c | K2: ='Alle lijsten'!O6 -> 4d | L2: ='Alle lijsten'!P6 -> 5 | ... X2: ='Alle lijsten'!AB6 -> 12 | Y2: ='Alle lijsten'!#REF! -> #REF! | Z2: ='Alle lijsten'!#REF! -> #REF! | AA2: ='Alle lijsten'!#REF! -> #REF! | AB2: ='Alle lijsten'!#REF! -> #REF! | AC2: pf | AD2: Strafsec. 1e manche | AE2: Tijd 1e manche | AF2: Totaal 1e manche | AH2: ='Alle lijsten'!I6 -> 1 | AI2: ='Alle lijsten'!J6 -> 2 | AJ2: ='Alle lijsten'!K6 -> 3 | AK2: ='Alle lijsten'!L6 -> 4a | AL2: ='Alle lijsten'!M6 -> 4b | AM2: ='Alle lijsten'!N6 -> 4c | AN2: ='Alle lijsten'!O6 -> 4d | AO2: ='Alle lijsten'!P6 -> 5 | ... BA2: ='Alle lijsten'!AB6 -> 12 | BB2: ='Alle lijsten'!#REF! -> #REF! | BC2: ='Alle lijsten'!#REF! -> #REF! | BD2: ='Alle lijsten'!#REF! -> #REF! | BE2: ='Alle lijsten'!#REF! -> #REF! | BF2: pf | BG2: Strafsec. 2e manche | BH2: Tijd 2e manche | BI2: Totaal 2e manche | BJ2: Totaal 1e manche | BK2: TOTAAL 1e & 2e MANCHE | BL2: KLASSERING
A3: ='Alle lijsten'!A50 -> 0 | B3: ='Alle lijsten'!B50 -> 0 | C3: ='Alle lijsten'!#REF! -> #REF! | AD3: =SUM(E3:AB3)*4+(D3)+(AC3)*20 -> 0 | AF3: =SUM(AD3+AE3) -> 0 | BG3: =SUM(AH3:BE3)*4+(AG3)+(BF3)*20 -> 0 | BI3: =BG3+BH3 -> 0 | BJ3: =AF3 -> 0 | BK3: =BI3+BJ3 -> 0 | BL3: =IF(BK3=0,"",RANK(BK3,$BK$3:$BK$21,1)-COUNTIF($BK$3:$BK$21,0))
A4: ='Alle lijsten'!A51 -> 0 | B4: ='Alle lijsten'!B51 -> 0 | C4: ='Alle lijsten'!#REF! -> #REF! | AD4: =SUM(E4:AB4)*4+(D4)+(AC4)*20 -> 0 | AF4: =SUM(AD4+AE4) -> 0 | BG4: =SUM(AH4:BE4)*4+(AG4)+(BF4)*20 -> 0 | BI4: =BG4+BH4 -> 0 | BJ4: =AF4 -> 0 | BK4: =BI4+BJ4 -> 0 | BL4: =IF(BK4=0,"",RANK(BK4,$BK$3:$BK$21,1)-COUNTIF($BK$3:$BK$21,0))
A5: ='Alle lijsten'!A52 -> 0 | B5: ='Alle lijsten'!B52 -> 0 | C5: ='Alle lijsten'!#REF! -> #REF! | AD5: =SUM(E5:AB5)*4+(D5)+(AC5)*20 -> 0 | AF5: =SUM(AD5+AE5) -> 0 | BG5: =SUM(AH5:BE5)*4+(AG5)+(BF5)*20 -> 0 | BI5: =BG5+BH5 -> 0 | BJ5: =AF5 -> 0 | BK5: =BI5+BJ5 -> 0 | BL5: =IF(BK5=0,"",RANK(BK5,$BK$3:$BK$21,1)-COUNTIF($BK$3:$BK$21,0))
A6: ='Alle lijsten'!A53 -> 0 | B6: ='Alle lijsten'!B53 -> 0 | C6: ='Alle lijsten'!#REF! -> #REF! | AD6: =SUM(E6:AB6)*4+(D6)+(AC6)*20 -> 0 | AF6: =SUM(AD6+AE6) -> 0 | BG6: =SUM(AH6:BE6)*4+(AG6)+(BF6)*20 -> 0 | BI6: =BG6+BH6 -> 0 | BJ6: =AF6 -> 0 | BK6: =BI6+BJ6 -> 0 | BL6: =IF(BK6=0,"",RANK(BK6,$BK$3:$BK$21,1)-COUNTIF($BK$3:$BK$21,0))
A7: ='Alle lijsten'!A54 -> 0 | B7: ='Alle lijsten'!B54 -> 0 | C7: ='Alle lijsten'!#REF! -> #REF! | AD7: =SUM(E7:AB7)*4+(D7)+(AC7)*20 -> 0 | AF7: =SUM(AD7+AE7) -> 0 | BG7: =SUM(AH7:BE7)*4+(AG7)+(BF7)*20 -> 0 | BI7: =BG7+BH7 -> 0 | BJ7: =AF7 -> 0 | BK7: =BI7+BJ7 -> 0 | BL7: =IF(BK7=0,"",RANK(BK7,$BK$3:$BK$21,1)-COUNTIF($BK$3:$BK$21,0))
A8: ='Alle lijsten'!A55 -> 0 | B8: ='Alle lijsten'!B55 -> 0 | C8: ='Alle lijsten'!#REF! -> #REF! | AD8: =SUM(E8:AB8)*4+(D8)+(AC8)*20 -> 0 | AF8: =SUM(AD8+AE8) -> 0 | BG8: =SUM(AH8:BE8)*4+(AG8)+(BF8)*20 -> 0 | BI8: =BG8+BH8 -> 0 | BJ8: =AF8 -> 0 | BK8: =BI8+BJ8 -> 0 | BL8: =IF(BK8=0,"",RANK(BK8,$BK$3:$BK$21,1)-COUNTIF($BK$3:$BK$21,0))
A9: ='Alle lijsten'!A56 -> 0 | B9: ='Alle lijsten'!B56 -> 0 | C9: ='Alle lijsten'!#REF! -> #REF! | AD9: =SUM(E9:AB9)*4+(D9)+(AC9)*20 -> 0 | AF9: =SUM(AD9+AE9) -> 0 | BG9: =SUM(AH9:BE9)*4+(AG9)+(BF9)*20 -> 0 | BI9: =BG9+BH9 -> 0 | BJ9: =AF9 -> 0 | BK9: =BI9+BJ9 -> 0 | BL9: =IF(BK9=0,"",RANK(BK9,$BK$3:$BK$21,1)-COUNTIF($BK$3:$BK$21,0))
A10: ='Alle lijsten'!A57 -> 0 | B10: ='Alle lijsten'!B57 -> 0 | C10: ='Alle lijsten'!#REF! -> #REF! | AD10: =SUM(E10:AB10)*4+(D10)+(AC10)*20 -> 0 | AF10: =SUM(AD10+AE10) -> 0 | BG10: =SUM(AH10:BE10)*4+(AG10)+(BF10)*20 -> 0 | BI10: =BG10+BH10 -> 0 | BJ10: =AF10 -> 0 | BK10: =BI10+BJ10 -> 0 | BL10: =IF(BK10=0,"",RANK(BK10,$BK$3:$BK$21,1)-COUNTIF($BK$3:$BK$21,0))
A11: ='Alle lijsten'!A58 -> 0 | B11: ='Alle lijsten'!B58 -> 0 | C11: ='Alle lijsten'!#REF! -> #REF! | AD11: =SUM(E11:AB11)*4+(D11)+(AC11)*20 -> 0 | AF11: =SUM(AD11+AE11) -> 0 | BG11: =SUM(AH11:BE11)*4+(AG11)+(BF11)*20 -> 0 | BI11: =BG11+BH11 -> 0 | BJ11: =AF11 -> 0 | BK11: =BI11+BJ11 -> 0 | BL11: =IF(BK11=0,"",RANK(BK11,$BK$3:$BK$21,1)-COUNTIF($BK$3:$BK$21,0))
A12: ='Alle lijsten'!A59 -> 0 | B12: ='Alle lijsten'!B59 -> 0 | C12: ='Alle lijsten'!#REF! -> #REF! | AD12: =SUM(E12:AB12)*4+(D12)+(AC12)*20 -> 0 | AF12: =SUM(AD12+AE12) -> 0 | BG12: =SUM(AH12:BE12)*4+(AG12)+(BF12)*20 -> 0 | BI12: =BG12+BH12 -> 0 | BJ12: =AF12 -> 0 | BK12: =BI12+BJ12 -> 0 | BL12: =IF(BK12=0,"",RANK(BK12,$BK$3:$BK$21,1)-COUNTIF($BK$3:$BK$21,0))
A13: ='Alle lijsten'!A60 -> 0 | B13: ='Alle lijsten'!B60 -> 0 | C13: ='Alle lijsten'!#REF! -> #REF! | AD13: =SUM(E13:AB13)*4+(D13)+(AC13)*20 -> 0 | AF13: =SUM(AD13+AE13) -> 0 | BG13: =SUM(AH13:BE13)*4+(AG13)+(BF13)*20 -> 0 | BI13: =BG13+BH13 -> 0 | BJ13: =AF13 -> 0 | BK13: =BI13+BJ13 -> 0 | BL13: =IF(BK13=0,"",RANK(BK13,$BK$3:$BK$21,1)-COUNTIF($BK$3:$BK$21,0))
A14: ='Alle lijsten'!A61 -> 0 | B14: ='Alle lijsten'!B61 -> 0 | C14: ='Alle lijsten'!#REF! -> #REF! | AD14: =SUM(E14:AB14)*4+(D14)+(AC14)*20 -> 0 | AF14: =SUM(AD14+AE14) -> 0 | BG14: =SUM(AH14:BE14)*4+(AG14)+(BF14)*20 -> 0 | BI14: =BG14+BH14 -> 0 | BJ14: =AF14 -> 0 | BK14: =BI14+BJ14 -> 0 | BL14: =IF(BK14=0,"",RANK(BK14,$BK$3:$BK$21,1)-COUNTIF($BK$3:$BK$21,0))
A15: ='Alle lijsten'!A62 -> 0 | B15: ='Alle lijsten'!B62 -> 0 | C15: ='Alle lijsten'!#REF! -> #REF! | AD15: =SUM(E15:AB15)*4+(D15)+(AC15)*20 -> 0 | AF15: =SUM(AD15+AE15) -> 0 | BG15: =SUM(AH15:BE15)*4+(AG15)+(BF15)*20 -> 0 | BI15: =BG15+BH15 -> 0 | BJ15: =AF15 -> 0 | BK15: =BI15+BJ15 -> 0 | BL15: =IF(BK15=0,"",RANK(BK15,$BK$3:$BK$21,1)-COUNTIF($BK$3:$BK$21,0))
AD16: =SUM(E16:AB16)*4+(D16)+(AC16)*20 -> 0 | AF16: =SUM(AD16+AE16) -> 0 | BG16: =SUM(AH16:BE16)*4+(AG16)+(BF16)*20 -> 0 | BI16: =BG16+BH16 -> 0 | BJ16: =AF16 -> 0 | BK16: =BI16+BJ16 -> 0 | BL16: =IF(BK16=0,"",RANK(BK16,$BK$3:$BK$21,1)-COUNTIF($BK$3:$BK$21,0))
AD17: =SUM(E17:AB17)*4+(D17)+(AC17)*20 -> 0 | AF17: =SUM(AD17+AE17) -> 0 | BG17: =SUM(AH17:BE17)*4+(AG17)+(BF17)*20 -> 0 | BI17: =BG17+BH17 -> 0 | BJ17: =AF17 -> 0 | BK17: =BI17+BJ17 -> 0 | BL17: =IF(BK17=0,"",RANK(BK17,$BK$3:$BK$21,1)-COUNTIF($BK$3:$BK$21,0))
AD18: =SUM(E18:AB18)*4+(D18)+(AC18)*20 -> 0 | AF18: =SUM(AD18+AE18) -> 0 | BG18: =SUM(AH18:BE18)*4+(AG18)+(BF18)*20 -> 0 | BI18: =BG18+BH18 -> 0 | BJ18: =AF18 -> 0 | BK18: =BI18+BJ18 -> 0 | BL18: =IF(BK18=0,"",RANK(BK18,$BK$3:$BK$21,1)-COUNTIF($BK$3:$BK$21,0))
AD19: =SUM(E19:AB19)*4+(D19)+(AC19)*20 -> 0 | AF19: =SUM(AD19+AE19) -> 0 | BG19: =SUM(AH19:BE19)*4+(AG19)+(BF19)*20 -> 0 | BI19: =BG19+BH19 -> 0 | BJ19: =AF19 -> 0 | BK19: =BI19+BJ19 -> 0 | BL19: =IF(BK19=0,"",RANK(BK19,$BK$3:$BK$21,1)-COUNTIF($BK$3:$BK$21,0))
AD20: =SUM(E20:AB20)*4+(D20)+(AC20)*20 -> 0 | AF20: =SUM(AD20+AE20) -> 0 | BG20: =SUM(AH20:BE20)*4+(AG20)+(BF20)*20 -> 0 | BI20: =BG20+BH20 -> 0 | BJ20: =AF20 -> 0 | BK20: =BI20+BJ20 -> 0 | BL20: =IF(BK20=0,"",RANK(BK20,$BK$3:$BK$21,1)-COUNTIF($BK$3:$BK$21,0))
BJ21: =AF21 -> 0

Sheet Jeugd
B1: Jeugd | D1: EERSTE MANCHE | AJ1: TWEEDE MANCHE
A2: Startnummer | B2: Menner / menster | C2: Namen | E2: ='Alle lijsten'!I6 -> 1 | F2: ='Alle lijsten'!J6 -> 2 | G2: ='Alle lijsten'!K6 -> 3 | H2: ='Alle lijsten'!L6 -> 4a | I2: ='Alle lijsten'!M6 -> 4b | J2: ='Alle lijsten'!N6 -> 4c | K2: ='Alle lijsten'!O6 -> 4d | L2: ='Alle lijsten'!P6 -> 5 | ... X2: ='Alle lijsten'!AB6 -> 12 | Y2: ='Alle lijsten'!#REF! -> #REF! | Z2: ='Alle lijsten'!#REF! -> #REF! | AA2: ='Alle lijsten'!#REF! -> #REF! | AB2: ='Alle lijsten'!#REF! -> #REF! | AC2: pf | AD2: Strafsec. 1e manche | AE2: Tijd 1e manche | AF2: Totaal 1e manche | AH2: ='Alle lijsten'!I6 -> 1 | AI2: ='Alle lijsten'!J6 -> 2 | AJ2: ='Alle lijsten'!K6 -> 3 | AK2: ='Alle lijsten'!L6 -> 4a | AL2: ='Alle lijsten'!M6 -> 4b | AM2: ='Alle lijsten'!N6 -> 4c | AN2: ='Alle lijsten'!O6 -> 4d | AO2: ='Alle lijsten'!P6 -> 5 | ... BA2: ='Alle lijsten'!AB6 -> 12 | BB2: ='Alle lijsten'!#REF! -> #REF! | BC2: ='Alle lijsten'!#REF! -> #REF! | BD2: ='Alle lijsten'!#REF! -> #REF! | BE2: ='Alle lijsten'!#REF! -> #REF! | BF2: pf | BG2: Strafsec. 2e manche | BH2: Tijd 2e manche | BI2: Totaal 2e manche | BJ2: Totaal 1e manche | BK2: TOTAAL 1e & 2e MANCHE | BL2: KLASSERING
A3: ='Alle lijsten'!A65 -> 0 | B3: ='Alle lijsten'!B65 -> 0 | C3: ='Alle lijsten'!#REF! -> #REF! | AD3: =SUM(E3:AB3)*4+(D3)+(AC3)*20 -> 0 | AF3: =SUM(AD3+AE3) -> 0 | BG3: =SUM(AH3:BE3)*4+(AG3)+(BF3)*20 -> 0 | BI3: =BG3+BH3 -> 0 | BJ3: =AF3 -> 0 | BK3: =BI3+BJ3 -> 0 | BL3: =IF(BK3=0,"",RANK(BK3,$BK$3:$BK$21,1)-COUNTIF($BK$3:$BK$21,0))
A4: ='Alle lijsten'!A66 -> 0 | B4: ='Alle lijsten'!B66 -> 0 | C4: ='Alle lijsten'!#REF! -> #REF! | AD4: =SUM(E4:AB4)*4+(D4)+(AC4)*20 -> 0 | AF4: =SUM(AD4+AE4) -> 0 | BG4: =SUM(AH4:BE4)*4+(AG4)+(BF4)*20 -> 0 | BI4: =BG4+BH4 -> 0 | BJ4: =AF4 -> 0 | BK4: =BI4+BJ4 -> 0 | BL4: =IF(BK4=0,"",RANK(BK4,$BK$3:$BK$21,1)-COUNTIF($BK$3:$BK$21,0))
A5: ='Alle lijsten'!A67 -> 0 | B5: ='Alle lijsten'!B67 -> 0 | C5: ='Alle lijsten'!#REF! -> #REF! | AD5: =SUM(E5:AB5)*4+(D5)+(AC5)*20 -> 0 | AF5: =SUM(AD5+AE5) -> 0 | BG5: =SUM(AH5:BE5)*4+(AG5)+(BF5)*20 -> 0 | BI5: =BG5+BH5 -> 0 | BJ5: =AF5 -> 0 | BK5: =BI5+BJ5 -> 0 | BL5: =IF(BK5=0,"",RANK(BK5,$BK$3:$BK$21,1)-COUNTIF($BK$3:$BK$21,0))
A6: ='Alle lijsten'!A68 -> 0 | B6: ='Alle lijsten'!B68 -> 0 | C6: ='Alle lijsten'!#REF! -> #REF! | AD6: =SUM(E6:AB6)*4+(D6)+(AC6)*20 -> 0 | AF6: =SUM(AD6+AE6) -> 0 | BG6: =SUM(AH6:BE6)*4+(AG6)+(BF6)*20 -> 0 | BI6: =BG6+BH6 -> 0 | BJ6: =AF6 -> 0 | BK6: =BI6+BJ6 -> 0 | BL6: =IF(BK6=0,"",RANK(BK6,$BK$3:$BK$21,1)-COUNTIF($BK$3:$BK$21,0))
A7: ='Alle lijsten'!A69 -> 0 | B7: ='Alle lijsten'!B69 -> 0 | C7: ='Alle lijsten'!#REF! -> #REF! | AD7: =SUM(E7:AB7)*4+(D7)+(AC7)*20 -> 0 | AF7: =SUM(AD7+AE7) -> 0 | BG7: =SUM(AH7:BE7)*4+(AG7)+(BF7)*20 -> 0 | BI7: =BG7+BH7 -> 0 | BJ7: =AF7 -> 0 | BK7: =BI7+BJ7 -> 0 | BL7: =IF(BK7=0,"",RANK(BK7,$BK$3:$BK$21,1)-COUNTIF($BK$3:$BK$21,0))
A8: ='Alle lijsten'!A70 -> 0 | B8: ='Alle lijsten'!B70 -> 0 | C8: ='Alle lijsten'!#REF! -> #REF! | AD8: =SUM(E8:AB8)*4+(D8)+(AC8)*20 -> 0 | AF8: =SUM(AD8+AE8) -> 0 | BG8: =SUM(AH8:BE8)*4+(AG8)+(BF8)*20 -> 0 | BI8: =BG8+BH8 -> 0 | BJ8: =AF8 -> 0 | BK8: =BI8+BJ8 -> 0 | BL8: =IF(BK8=0,"",RANK(BK8,$BK$3:$BK$21,1)-COUNTIF($BK$3:$BK$21,0))
A9: ='Alle lijsten'!A74 -> 0 | B9: ='Alle lijsten'!B71 -> 0 | C9: ='Alle lijsten'!#REF! -> #REF! | AD9: =SUM(E9:AB9)*4+(D9)+(AC9)*20 -> 0 | AF9: =SUM(AD9+AE9) -> 0 | BG9: =SUM(AH9:BE9)*4+(AG9)+(BF9)*20 -> 0 | BI9: =BG9+BH9 -> 0 | BJ9: =AF9 -> 0 | BK9: =BI9+BJ9 -> 0 | BL9: =IF(BK9=0,"",RANK(BK9,$BK$3:$BK$21,1)-COUNTIF($BK$3:$BK$21,0))
A10: ='Alle lijsten'!A75 -> 0 | B10: ='Alle lijsten'!B72 -> 0 | C10: ='Alle lijsten'!#REF! -> #REF! | AD10: =SUM(E10:AB10)*4+(D10)+(AC10)*20 -> 0 | AF10: =SUM(AD10+AE10) -> 0 | BG10: =SUM(AH10:BE10)*4+(AG10)+(BF10)*20 -> 0 | BI10: =BG10+BH10 -> 0 | BJ10: =AF10 -> 0 | BK10: =BI10+BJ10 -> 0 | BL10: =IF(BK10=0,"",RANK(BK10,$BK$3:$BK$21,1)-COUNTIF($BK$3:$BK$21,0))
A11: ='Alle lijsten'!A76 -> 0 | B11: ='Alle lijsten'!B73 -> 0 | C11: ='Alle lijsten'!#REF! -> #REF! | AD11: =SUM(E11:AB11)*4+(D11)+(AC11)*20 -> 0 | AF11: =SUM(AD11+AE11) -> 0 | BG11: =SUM(AH11:BE11)*4+(AG11)+(BF11)*20 -> 0 | BI11: =BG11+BH11 -> 0 | BJ11: =AF11 -> 0 | BK11: =BI11+BJ11 -> 0 | BL11: =IF(BK11=0,"",RANK(BK11,$BK$3:$BK$21,1)-COUNTIF($BK$3:$BK$21,0))
A12: ='Alle lijsten'!A77 -> 0 | B12: ='Alle lijsten'!B74 -> 0 | C12: ='Alle lijsten'!#REF! -> #REF! | AD12: =SUM(E12:AB12)*4+(D12)+(AC12)*20 -> 0 | AF12: =SUM(AD12+AE12) -> 0 | BG12: =SUM(AH12:BE12)*4+(AG12)+(BF12)*20 -> 0 | BI12: =BG12+BH12 -> 0 | BJ12: =AF12 -> 0 | BK12: =BI12+BJ12 -> 0 | BL12: =IF(BK12=0,"",RANK(BK12,$BK$3:$BK$21,1)-COUNTIF($BK$3:$BK$21,0))
A13: ='Alle lijsten'!A78 -> 0 | B13: ='Alle lijsten'!B75 -> 0 | C13: ='Alle lijsten'!#REF! -> #REF! | AD13: =SUM(E13:AB13)*4+(D13)+(AC13)*20 -> 0 | AF13: =SUM(AD13+AE13) -> 0 | BG13: =SUM(AH13:BE13)*4+(AG13)+(BF13)*20 -> 0 | BI13: =BG13+BH13 -> 0 | BJ13: =AF13 -> 0 | BK13: =BI13+BJ13 -> 0 | BL13: =IF(BK13=0,"",RANK(BK13,$BK$3:$BK$21,1)-COUNTIF($BK$3:$BK$21,0))
A14: ='Alle lijsten'!A79 -> 0 | B14: ='Alle lijsten'!B76 -> 0 | C14: ='Alle lijsten'!#REF! -> #REF! | AD14: =SUM(E14:AB14)*4+(D14)+(AC14)*20 -> 0 | AF14: =SUM(AD14+AE14) -> 0 | BG14: =SUM(AH14:BE14)*4+(AG14)+(BF14)*20 -> 0 | BI14: =BG14+BH14 -> 0 | BJ14: =AF14 -> 0 | BK14: =BI14+BJ14 -> 0 | BL14: =IF(BK14=0,"",RANK(BK14,$BK$3:$BK$21,1)-COUNTIF($BK$3:$BK$21,0))
A15: ='Alle lijsten'!A80 -> 0 | B15: ='Alle lijsten'!B77 -> 0 | C15: ='Alle lijsten'!#REF! -> #REF! | AD15: =SUM(E15:AB15)*4+(D15)+(AC15)*20 -> 0 | AF15: =SUM(AD15+AE15) -> 0 | BG15: =SUM(AH15:BE15)*4+(AG15)+(BF15)*20 -> 0 | BI15: =BG15+BH15 -> 0 | BJ15: =AF15 -> 0 | BK15: =BI15+BJ15 -> 0 | BL15: =IF(BK15=0,"",RANK(BK15,$BK$3:$BK$21,1)-COUNTIF($BK$3:$BK$21,0))
A16: ='Alle lijsten'!A81 -> 0 | B16: ='Alle lijsten'!B78 -> 0 | C16: ='Alle lijsten'!#REF! -> #REF! | AD16: =SUM(E16:AB16)*4+(D16)+(AC16)*20 -> 0 | AF16: =SUM(AD16+AE16) -> 0 | BG16: =SUM(AH16:BE16)*4+(AG16)+(BF16)*20 -> 0 | BI16: =BG16+BH16 -> 0 | BJ16: =AF16 -> 0 | BK16: =BI16+BJ16 -> 0 | BL16: =IF(BK16=0,"",RANK(BK16,$BK$3:$BK$21,1)-COUNTIF($BK$3:$BK$21,0))
AD17: =SUM(E17:AB17)*4+(D17)+(AC17)*20 -> 0 | AF17: =SUM(AD17+AE17) -> 0 | BG17: =SUM(AH17:BE17)*4+(AG17)+(BF17)*20 -> 0 | BI17: =BG17+BH17 -> 0 | BJ17: =AF17 -> 0 | BK17: =BI17+BJ17 -> 0 | BL17: =IF(BK17=0,"",RANK(BK17,$BK$3:$BK$21,1)-COUNTIF($BK$3:$BK$21,0))
AD18: =SUM(E18:AB18)*4+(D18)+(AC18)*20 -> 0 | AF18: =SUM(AD18+AE18) -> 0 | BG18: =SUM(AH18:BE18)*4+(AG18)+(BF18)*20 -> 0 | BI18: =BG18+BH18 -> 0 | BJ18: =AF18 -> 0 | BK18: =BI18+BJ18 -> 0 | BL18: =IF(BK18=0,"",RANK(BK18,$BK$3:$BK$21,1)-COUNTIF($BK$3:$BK$21,0))
AD19: =SUM(E19:AB19)*4+(D19)+(AC19)*20 -> 0 | AF19: =SUM(AD19+AE19) -> 0 | BG19: =SUM(AH19:BE19)*4+(AG19)+(BF19)*20 -> 0 | BI19: =BG19+BH19 -> 0 | BJ19: =AF19 -> 0 | BK19: =BI19+BJ19 -> 0 | BL19: =IF(BK19=0,"",RANK(BK19,$BK$3:$BK$21,1)-COUNTIF($BK$3:$BK$21,0))
AD20: =SUM(E20:AB20)*4+(D20)+(AC20)*20 -> 0 | AF20: =SUM(AD20+AE20) -> 0 | BG20: =SUM(AH20:BE20)*4+(AG20)+(BF20)*20 -> 0 | BI20: =BG20+BH20 -> 0 | BJ20: =AF20 -> 0 | BK20: =BI20+BJ20 -> 0 | BL20: =IF(BK20=0,"",RANK(BK20,$BK$3:$BK$21,1)-COUNTIF($BK$3:$BK$21,0))

Sheet OHZ
B1: OHZ | C1: EERSTE MANCHE | AE1: TWEEDE MANCHE
A2: Startnummer | B2: Menner / menster | D2: ='Alle lijsten'!I6 -> 1 | E2: ='Alle lijsten'!J6 -> 2 | F2: ='Alle lijsten'!K6 -> 3 | G2: ='Alle lijsten'!L6 -> 4a | H2: ='Alle lijsten'!M6 -> 4b | I2: ='Alle lijsten'!N6 -> 4c | J2: ='Alle lijsten'!O6 -> 4d | K2: ='Alle lijsten'!P6 -> 5 | ... W2: ='Alle lijsten'!AB6 -> 12 | X2: pf | Y2: Strafsec. 1e manche | Z2: Tijd 1e manche | AA2: Totaal 1e manche | AC2: ='Alle lijsten'!I6 -> 1 | AD2: ='Alle lijsten'!J6 -> 2 | AE2: ='Alle lijsten'!K6 -> 3 | AF2: ='Alle lijsten'!L6 -> 4a | AG2: ='Alle lijsten'!M6 -> 4b | AH2: ='Alle lijsten'!N6 -> 4c | AI2: ='Alle lijsten'!O6 -> 4d | AJ2: ='Alle lijsten'!P6 -> 5 | ... AV2: ='Alle lijsten'!AB6 -> 12 | AW2: PF | AX2: Strafsec. 2e manche | AY2: Tijd 2e manche | AZ2: Totaal 2e manche | BA2: Totaal 1e manche | BB2: TOTAAL 1e & 2e MANCHE | BC2: KLASSERING
A3: ='Alle lijsten'!A202 -> 7 | B3: ='Alle lijsten'!B202 -> Lissa Arendsman | K3: 999 | Y3: =SUM(D3:W3)*4+(C3)+(X3)*20 -> 3996 | Z3: 209.78 | AA3: =SUM(Y3+Z3) -> 4205.78 | AJ3: 999 | AQ3: 999 | AX3: =SUM(AC3:AV3)*4+(AB3)+(AW3)*20 -> 7992 | AZ3: =AX3+AY3 -> 7992 | BA3: =AA3 -> 4205.78 | BB3: =AZ3+BA3 -> 12197.78 | BC3: =IF(BB3=0,"",RANK(BB3,$BB$3:$BB$5,1)-COUNTIF($BB$3:$BB$5,0)) -> 1
A4: ='Alle lijsten'!A203 -> 8 | B4: ='Alle lijsten'!B203 -> Pam van Wezel | X4: 999 | Y4: =SUM(D4:W4)*4+(C4)+(X4)*20 -> 19980 | AA4: =SUM(Y4+Z4) -> 19980 | AX4: =SUM(AC4:AV4)*4+(AB4)+(AW4)*20 -> 0 | AZ4: =AX4+AY4 -> 0 | BA4: =AA4 -> 19980 | BB4: =AZ4+BA4 -> 19980 | BC4: =IF(BB4=0,"",RANK(BB4,$BB$3:$BB$5,1)-COUNTIF($BB$3:$BB$5,0)) -> 2
Y26: ,

Sheet 1span Pony
B1: ENKELSPAN PONY | C1: EERSTE MANCHE | AE1: TWEEDE MANCHE
A2: Startnummer | B2: Menner / menster | D2: ='Alle lijsten'!I6 -> 1 | E2: ='Alle lijsten'!J6 -> 2 | F2: ='Alle lijsten'!K6 -> 3 | G2: ='Alle lijsten'!L6 -> 4a | H2: ='Alle lijsten'!M6 -> 4b | I2: ='Alle lijsten'!N6 -> 4c | J2: ='Alle lijsten'!O6 -> 4d | K2: ='Alle lijsten'!P6 -> 5 | ... W2: ='Alle lijsten'!AB6 -> 12 | X2: PF | Y2: Strafsec. 1e manche | Z2: Tijd 1e manche | AA2: Totaal 1e manche | AC2: ='Alle lijsten'!I6 -> 1 | AD2: ='Alle lijsten'!J6 -> 2 | AE2: ='Alle lijsten'!K6 -> 3 | AF2: ='Alle lijsten'!L6 -> 4a | AG2: ='Alle lijsten'!M6 -> 4b | AH2: ='Alle lijsten'!N6 -> 4c | AI2: ='Alle lijsten'!O6 -> 4d | AJ2: ='Alle lijsten'!P6 -> 5 | ... AV2: ='Alle lijsten'!AB6 -> 12 | AW2: PF | AX2: Strafsec. 2e manche | AY2: Tijd 2e manche | AZ2: Totaal 2e manche | BA2: Totaal 1e manche | BB2: TOTAAL 1e & 2e MANCHE | BC2: KLASSERING
A3: ='Alle lijsten'!A83 -> 3 | B3: ='Alle lijsten'!B83 -> Saskia Koppenol | Y3: =SUM(D3:W3)*4+(C3)+(X3)*20 -> 0 | Z3: 149.46 | AA3: =SUM(Y3+Z3) -> 149.46 | AX3: =SUM(AC3:AV3)*4+(AB3)+(AW3)*20 -> 0 | AY3: 133.81 | AZ3: =AX3+AY3 -> 133.81 | BA3: =AA3 -> 149.46 | BB3: =AZ3+BA3 -> 283.27 | BC3: =IF(BB3=0,"",RANK(BB3,$BB$3:$BB$6,1)-COUNTIF($BB$3:$BB$6,0)) -> 1
A4: ='Alle lijsten'!A84 -> 4 | B4: ='Alle lijsten'!B84 -> Magda van Vendeloo | Y4: =SUM(D4:W4)*4+(C4)+(X4)*20 -> 0 | Z4: 188.48 | AA4: =SUM(Y4+Z4) -> 188.48 | AJ4: 1 | AX4: =SUM(AB4:AW4)*4+(AB4)+(AW4)*20 -> 4 | AY4: 166.6 | AZ4: =AX4+AY4 -> 170.6 | BA4: =AA4 -> 188.48 | BB4: =AZ4+BA4 -> 359.08 | BC4: =IF(BB4=0,"",RANK(BB4,$BB$3:$BB$6,1)-COUNTIF($BB$3:$BB$6,0)) -> 2
A5: ='Alle lijsten'!A85 -> 5 | B5: ='Alle lijsten'!B85 -> Kitty Kuus | Y5: =SUM(D5:W5)*4+(C5)+(X5)*20 -> 0 | Z5: 999 | AA5: =SUM(Y5+Z5) -> 999 | AX5: =SUM(AB5:AW5)*4+(AB5)+(AW5)*20 -> 0 | AY5: 999 | AZ5: =AX5+AY5 -> 999 | BA5: =AA5 -> 999 | BB5: =AZ5+BA5 -> 1998 | BC5: =IF(BB5=0,"",RANK(BB5,$BB$3:$BB$6,1)-COUNTIF($BB$3:$BB$6,0)) -> 4
A6: ='Alle lijsten'!A86 -> 6 | B6: ='Alle lijsten'!B86 -> Sarah Dekker | Y6: =SUM(D6:W6)*4+(C6)+(X6)*20 -> 0 | Z6: 277.06 | AA6: =SUM(Y6+Z6) -> 277.06 | AX6: =SUM(AB6:AW6)*4+(AB6)+(AW6)*20 -> 0 | AY6: 207.95 | AZ6: =AX6+AY6 -> 207.95 | BA6: =AA6 -> 277.06 | BB6: =AZ6+BA6 -> 485.01 | BC6: =IF(BB6=0,"",RANK(BB6,$BB$3:$BB$6,1)-COUNTIF($BB$3:$BB$6,0)) -> 3
BC7: =IF(BB7=0,"",RANK(BB7,$BB$3:$BB$6,1)-COUNTIF($BB$3:$BB$6,0))

Sheet 2span Pony
B1: TWEESPAN PONY'S | C1: EERSTE MANCHE | AE1: TWEEDE MANCHE
A2: Startnummer | B2: Menner / menster | D2: ='Alle lijsten'!I6 -> 1 | E2: ='Alle lijsten'!J6 -> 2 | F2: ='Alle lijsten'!K6 -> 3 | G2: ='Alle lijsten'!L6 -> 4a | H2: ='Alle lijsten'!M6 -> 4b | I2: ='Alle lijsten'!N6 -> 4c | J2: ='Alle lijsten'!O6 -> 4d | K2: ='Alle lijsten'!P6 -> 5 | ... W2: ='Alle lijsten'!AB6 -> 12 | X2: PF | Y2: Strafsec. 1e manche | Z2: Tijd 1e manche | AA2: Totaal 1e manche | AC2: ='Alle lijsten'!I6 -> 1 | AD2: ='Alle lijsten'!J6 -> 2 | AE2: ='Alle lijsten'!K6 -> 3 | AF2: ='Alle lijsten'!L6 -> 4a | AG2: ='Alle lijsten'!M6 -> 4b | AH2: ='Alle lijsten'!N6 -> 4c | AI2: ='Alle lijsten'!O6 -> 4d | AJ2: ='Alle lijsten'!P6 -> 5 | ... AV2: ='Alle lijsten'!AB6 -> 12 | AW2: PF | AX2: Strafsec. 2e manche | AY2: Tijd 2e manche | AZ2: Totaal 2e manche | BA2: Totaal 1e manche | BB2: TOTAAL 1e & 2e MANCHE | BC2: KLASSERING
A3: ='Alle lijsten'!A114 -> 1 | B3: ='Alle lijsten'!B114 -> Jordy Reuvers | L3: 1 | Y3: =SUM(D3:W3)*4+(C3)+(X3)*20 -> 4 | Z3: 174.1 | AA3: =SUM(Y3+Z3) -> 178.1 | AX3: =SUM(AC3:AV3)*4+(AB3)+(AW3)*20 -> 0 | AZ3: =AX3+AY3 -> 0 | BA3: =AA3 -> 178.1 | BB3: =AZ3+BA3 -> 178.1 | BC3: =IF(BB3=0,"",RANK(BB3,$BB$3:$BB$5,1)-COUNTIF($BB$3:$BB$5,0)) -> 1
A4: ='Alle lijsten'!A115 -> 2 | B4: ='Alle lijsten'!B115 -> Tanja Pankow | Y4: =SUM(D4:W4)*4+(C4)+(X4)*20 -> 0 | Z4: 174.51 | AA4: =SUM(Y4+Z4) -> 174.51 | AX4: =SUM(AC4:AV4)*4+(AB4)+(AW4)*20 -> 0 | AY4: 163.56 | AZ4: =AX4+AY4 -> 163.56 | BA4: =AA4 -> 174.51 | BB4: =AZ4+BA4 -> 338.07 | BC4: =IF(BB4=0,"",RANK(BB4,$BB$3:$BB$5,1)-COUNTIF($BB$3:$BB$5,0)) -> 2

Sheet 4span Pony
B1: Langspan PONY'S | D1: EERSTE MANCHE | AJ1: TWEEDE MANCHE
A2: Startnummer | B2: Menner / menster | C2: Woonplaats | E2: ='Alle lijsten'!I6 -> 1 | F2: ='Alle lijsten'!J6 -> 2 | G2: ='Alle lijsten'!K6 -> 3 | H2: ='Alle lijsten'!L6 -> 4a | I2: ='Alle lijsten'!M6 -> 4b | J2: ='Alle lijsten'!N6 -> 4c | K2: ='Alle lijsten'!O6 -> 4d | L2: ='Alle lijsten'!P6 -> 5 | ... X2: ='Alle lijsten'!AB6 -> 12 | Y2: ='Alle lijsten'!#REF! -> #REF! | Z2: ='Alle lijsten'!#REF! -> #REF! | AA2: ='Alle lijsten'!#REF! -> #REF! | AB2: ='Alle lijsten'!#REF! -> #REF! | AC2: PF | AD2: Strafsec. 1e manche | AE2: Tijd 1e manche | AF2: Totaal 1e manche | AH2: ='Alle lijsten'!I6 -> 1 | AI2: ='Alle lijsten'!J6 -> 2 | AJ2: ='Alle lijsten'!K6 -> 3 | AK2: ='Alle lijsten'!L6 -> 4a | AL2: ='Alle lijsten'!M6 -> 4b | AM2: ='Alle lijsten'!N6 -> 4c | AN2: ='Alle lijsten'!O6 -> 4d | AO2: ='Alle lijsten'!P6 -> 5 | ... BA2: ='Alle lijsten'!AB6 -> 12 | BB2: ='Alle lijsten'!#REF! -> #REF! | BC2: ='Alle lijsten'!#REF! -> #REF! | BD2: ='Alle lijsten'!#REF! -> #REF! | BE2: ='Alle lijsten'!#REF! -> #REF! | BF2: PF | BG2: Strafsec. 2e manche | BH2: Tijd 2e manche | BI2: Totaal 2e manche | BJ2: Totaal 1e manche | BK2: TOTAAL 1e & 2e MANCHE | BL2: KLASSERING
A3: ='Alle lijsten'!A134 -> 0 | B3: ='Alle lijsten'!B134 -> 0 | C3: ='Alle lijsten'!#REF! -> #REF! | AD3: =SUM(E3:AB3)*4+(D3)+(AC3)*20 -> 0 | AF3: =SUM(AD3+AE3) -> 0 | BG3: =SUM(AH3:BE3)*4+(AG3)+(BF3)*20 -> 0 | BI3: =BG3+BH3 -> 0 | BJ3: =AF3 -> 0 | BK3: =BI3+BJ3 -> 0 | BL3: =IF(BK3=0,"",RANK(BK3,$BK$3:$BK$21,1)-COUNTIF($BK$3:$BK$21,0))
A4: ='Alle lijsten'!A135 -> 0 | B4: ='Alle lijsten'!B135 -> 0 | C4: ='Alle lijsten'!#REF! -> #REF! | AD4: =SUM(E4:AB4)*4+(D4)+(AC4)*20 -> 0 | AF4: =SUM(AD4+AE4) -> 0 | BG4: =SUM(AH4:BE4)*4+(AG4)+(BF4)*20 -> 0 | BI4: =BG4+BH4 -> 0 | BJ4: =AF4 -> 0 | BK4: =BI4+BJ4 -> 0 | BL4: =IF(BK4=0,"",RANK(BK4,$BK$3:$BK$21,1)-COUNTIF($BK$3:$BK$21,0))
A5: ='Alle lijsten'!A136 -> 0 | B5: ='Alle lijsten'!B136 -> 0 | C5: ='Alle lijsten'!#REF! -> #REF! | AD5: =SUM(E5:AB5)*4+(D5)+(AC5)*20 -> 0 | AF5: =SUM(AD5+AE5) -> 0 | BG5: =SUM(AH5:BE5)*4+(AG5)+(BF5)*20 -> 0 | BI5: =BG5+BH5 -> 0 | BJ5: =AF5 -> 0 | BK5: =BI5+BJ5 -> 0 | BL5: =IF(BK5=0,"",RANK(BK5,$BK$3:$BK$21,1)-COUNTIF($BK$3:$BK$21,0))
A6: ='Alle lijsten'!A137 -> 0 | B6: ='Alle lijsten'!B137 -> 0 | C6: ='Alle lijsten'!#REF! -> #REF! | AD6: =SUM(E6:AB6)*4+(D6)+(AC6)*20 -> 0 | AF6: =SUM(AD6+AE6) -> 0 | BG6: =SUM(AH6:BE6)*4+(AG6)+(BF6)*20 -> 0 | BI6: =BG6+BH6 -> 0 | BJ6: =AF6 -> 0 | BK6: =BI6+BJ6 -> 0 | BL6: =IF(BK6=0,"",RANK(BK6,$BK$3:$BK$21,1)-COUNTIF($BK$3:$BK$21,0))
A7: ='Alle lijsten'!A138 -> 0 | B7: ='Alle lijsten'!B138 -> 0 | C7: ='Alle lijsten'!#REF! -> #REF! | AD7: =SUM(E7:AB7)*4+(D7)+(AC7)*20 -> 0 | AF7: =SUM(AD7+AE7) -> 0 | BG7: =SUM(AH7:BE7)*4+(AG7)+(BF7)*20 -> 0 | BI7: =BG7+BH7 -> 0 | BJ7: =AF7 -> 0 | BK7: =BI7+BJ7 -> 0 | BL7: =IF(BK7=0,"",RANK(BK7,$BK$3:$BK$21,1)-COUNTIF($BK$3:$BK$21,0))
A8: ='Alle lijsten'!A139 -> 0 | B8: ='Alle lijsten'!B139 -> 0 | C8: ='Alle lijsten'!#REF! -> #REF! | AD8: =SUM(E8:AB8)*4+(D8)+(AC8)*20 -> 0 | AF8: =SUM(AD8+AE8) -> 0 | BG8: =SUM(AH8:BE8)*4+(AG8)+(BF8)*20 -> 0 | BI8: =BG8+BH8 -> 0 | BJ8: =AF8 -> 0 | BK8: =BI8+BJ8 -> 0 | BL8: =IF(BK8=0,"",RANK(BK8,$BK$3:$BK$21,1)-COUNTIF($BK$3:$BK$21,0))
A9: ='Alle lijsten'!A140 -> 0 | B9: ='Alle lijsten'!B140 -> 0 | C9: ='Alle lijsten'!#REF! -> #REF! | AD9: =SUM(E9:AB9)*4+(D9)+(AC9)*20 -> 0 | AF9: =SUM(AD9+AE9) -> 0 | BG9: =SUM(AH9:BE9)*4+(AG9)+(BF9)*20 -> 0 | BI9: =BG9+BH9 -> 0 | BJ9: =AF9 -> 0 | BK9: =BI9+BJ9 -> 0 | BL9: =IF(BK9=0,"",RANK(BK9,$BK$3:$BK$21,1)-COUNTIF($BK$3:$BK$21,0))
A10: ='Alle lijsten'!A141 -> 0 | B10: ='Alle lijsten'!B141 -> 0 | C10: ='Alle lijsten'!#REF! -> #REF! | AD10: =SUM(E10:AB10)*4+(D10)+(AC10)*20 -> 0 | AF10: =SUM(AD10+AE10) -> 0 | BG10: =SUM(AH10:BE10)*4+(AG10)+(BF10)*20 -> 0 | BI10: =BG10+BH10 -> 0 | BJ10: =AF10 -> 0 | BK10: =BI10+BJ10 -> 0 | BL10: =IF(BK10=0,"",RANK(BK10,$BK$3:$BK$21,1)-COUNTIF($BK$3:$BK$21,0))
A11: ='Alle lijsten'!A142 -> 0 | B11: ='Alle lijsten'!B142 -> 0 | C11: ='Alle lijsten'!#REF! -> #REF! | AD11: =SUM(E11:AB11)*4+(D11)+(AC11)*20 -> 0 | AF11: =SUM(AD11+AE11) -> 0 | BG11: =SUM(AH11:BE11)*4+(AG11)+(BF11)*20 -> 0 | BI11: =BG11+BH11 -> 0 | BJ11: =AF11 -> 0 | BK11: =BI11+BJ11 -> 0 | BL11: =IF(BK11=0,"",RANK(BK11,$BK$3:$BK$21,1)-COUNTIF($BK$3:$BK$21,0))
A12: ='Alle lijsten'!A143 -> 0 | B12: ='Alle lijsten'!B143 -> 0 | C12: ='Alle lijsten'!#REF! -> #REF! | AD12: =SUM(E12:AB12)*4+(D12)+(AC12)*20 -> 0 | AF12: =SUM(AD12+AE12) -> 0 | BG12: =SUM(AH12:BE12)*4+(AG12)+(BF12)*20 -> 0 | BI12: =BG12+BH12 -> 0 | BJ12: =AF12 -> 0 | BK12: =BI12+BJ12 -> 0 | BL12: =IF(BK12=0,"",RANK(BK12,$BK$3:$BK$21,1)-COUNTIF($BK$3:$BK$21,0))
A13: ='Alle lijsten'!A144 -> 0 | B13: ='Alle lijsten'!B144 -> 0 | C13: ='Alle lijsten'!#REF! -> #REF! | AD13: =SUM(E13:AB13)*4+(D13)+(AC13)*20 -> 0 | AF13: =SUM(AD13+AE13) -> 0 | BG13: =SUM(AH13:BE13)*4+(AG13)+(BF13)*20 -> 0 | BI13: =BG13+BH13 -> 0 | BJ13: =AF13 -> 0 | BK13: =BI13+BJ13 -> 0 | BL13: =IF(BK13=0,"",RANK(BK13,$BK$3:$BK$21,1)-COUNTIF($BK$3:$BK$21,0))
A14: ='Alle lijsten'!A145 -> 0 | B14: ='Alle lijsten'!B145 -> 0 | C14: ='Alle lijsten'!#REF! -> #REF! | AD14: =SUM(E14:AB14)*4+(D14)+(AC14)*20 -> 0 | AF14: =SUM(AD14+AE14) -> 0 | BG14: =SUM(AH14:BE14)*4+(AG14)+(BF14)*20 -> 0 | BI14: =BG14+BH14 -> 0 | BJ14: =AF14 -> 0 | BK14: =BI14+BJ14 -> 0 | BL14: =IF(BK14=0,"",RANK(BK14,$BK$3:$BK$21,1)-COUNTIF($BK$3:$BK$21,0))
... A18: ='Alle lijsten'!A149 -> 0 | B18: ='Alle lijsten'!B149 -> 0 | C18: ='Alle lijsten'!#REF! -> #REF! | AD18: =SUM(E18:AB18)*4+(D18)+(AC18)*20 -> 0 | AF18: =SUM(AD18+AE18) -> 0 | BG18: =SUM(AH18:BE18)*4+(AG18)+(BF18)*20 -> 0 | BI18: =BG18+BH18 -> 0 | BJ18: =AF18 -> 0 | BK18: =BI18+BJ18 -> 0 | BL18: =IF(BK18=0,"",RANK(BK18,$BK$3:$BK$21,1)-COUNTIF($BK$3:$BK$21,0))
AD19: =SUM(E19:AB19)*4+(D19)+(AC19)*20 -> 0 | AF19: =SUM(AD19+AE19) -> 0 | BG19: =SUM(AH19:BE19)*4+(AG19)+(BF19)*20 -> 0 | BI19: =BG19+BH19 -> 0 | BJ19: =AF19 -> 0 | BK19: =BI19+BJ19 -> 0 | BL19: =IF(BK19=0,"",RANK(BK19,$BK$3:$BK$21,1)-COUNTIF($BK$3:$BK$21,0))
AD20: =SUM(E20:AB20)*4+(D20)+(AC20)*20 -> 0 | AF20: =SUM(AD20+AE20) -> 0

Sheet 1span Paard
B1: ENKELSPAN PAARD | D1: EERSTE MANCHE | AJ1: TWEEDE MANCHE | BK1: TOTAAL 1e & 2e MANCHE
A2: Startnummer | B2: Menner / menster | C2: Woonplaats | E2: ='Alle lijsten'!I6 -> 1 | F2: ='Alle lijsten'!J6 -> 2 | G2: ='Alle lijsten'!K6 -> 3 | H2: ='Alle lijsten'!L6 -> 4a | I2: ='Alle lijsten'!M6 -> 4b | J2: ='Alle lijsten'!N6 -> 4c | K2: ='Alle lijsten'!O6 -> 4d | L2: ='Alle lijsten'!P6 -> 5 | ... X2: ='Alle lijsten'!AB6 -> 12 | Y2: ='Alle lijsten'!#REF! -> #REF! | Z2: ='Alle lijsten'!#REF! -> #REF! | AA2: ='Alle lijsten'!#REF! -> #REF! | AB2: ='Alle lijsten'!#REF! -> #REF! | AC2: PF | AD2: Strafsec. 1e manche | AE2: Tijd 1e manche | AF2: Totaal 1e manche | AH2: ='Alle lijsten'!I6 -> 1 | AI2: ='Alle lijsten'!J6 -> 2 | AJ2: ='Alle lijsten'!K6 -> 3 | AK2: ='Alle lijsten'!L6 -> 4a | AL2: ='Alle lijsten'!M6 -> 4b | AM2: ='Alle lijsten'!N6 -> 4c | AN2: ='Alle lijsten'!O6 -> 4d | AO2: ='Alle lijsten'!P6 -> 5 | ... BA2: ='Alle lijsten'!AB6 -> 12 | BB2: ='Alle lijsten'!#REF! -> #REF! | BC2: ='Alle lijsten'!#REF! -> #REF! | BD2: ='Alle lijsten'!#REF! -> #REF! | BE2: ='Alle lijsten'!#REF! -> #REF! | BF2: PF | BG2: Strafsec. 2e manche | BH2: Tijd 2e manche | BI2: Totaal 2e manche | BJ2: Totaal 1e manche | BK2: =SUM(BH2:BJ2) -> 0 | BL2: KLASSERING
A3: ='Alle lijsten'!A152 -> 0 | B3: ='Alle lijsten'!B152 -> 0 | C3: ='Alle lijsten'!#REF! -> #REF! | AD3: =SUM(E3:AB3)*4+(D3)+(AC3)*20 -> 0 | AF3: =SUM(AD3+AE3) -> 0 | BG3: =SUM(AH3:BE3)*4+(AG3)+(BF3)*20 -> 0 | BI3: =BG3+BH3 -> 0 | BJ3: =AF3 -> 0 | BK3: =BI3+BJ3 -> 0 | BL3: =IF(BK3=0,"",RANK(BK3,$BK$3:$BK$21,1)-COUNTIF($BK$3:$BK$21,0))
A4: ='Alle lijsten'!A153 -> 0 | B4: ='Alle lijsten'!B153 -> 0 | C4: ='Alle lijsten'!#REF! -> #REF! | AD4: =SUM(E4:AB4)*4+(D4)+(AC4)*20 -> 0 | AF4: =SUM(AD4+AE4) -> 0 | BG4: =SUM(AH4:BE4)*4+(AG4)+(BF4)*20 -> 0 | BI4: =BG4+BH4 -> 0 | BJ4: =AF4 -> 0 | BK4: =BI4+BJ4 -> 0 | BL4: =IF(BK4=0,"",RANK(BK4,$BK$3:$BK$21,1)-COUNTIF($BK$3:$BK$21,0))
A5: ='Alle lijsten'!A154 -> 0 | B5: ='Alle lijsten'!B154 -> 0 | C5: ='Alle lijsten'!#REF! -> #REF! | AD5: =SUM(E5:AB5)*4+(D5)+(AC5)*20 -> 0 | AF5: =SUM(AD5+AE5) -> 0 | BG5: =SUM(AH5:BE5)*4+(AG5)+(BF5)*20 -> 0 | BI5: =BG5+BH5 -> 0 | BJ5: =AF5 -> 0 | BK5: =BI5+BJ5 -> 0 | BL5: =IF(BK5=0,"",RANK(BK5,$BK$3:$BK$21,1)-COUNTIF($BK$3:$BK$21,0))
A6: ='Alle lijsten'!A155 -> 0 | B6: ='Alle lijsten'!B155 -> 0 | C6: ='Alle lijsten'!#REF! -> #REF! | AD6: =SUM(E6:AB6)*4+(D6)+(AC6)*20 -> 0 | AF6: =SUM(AD6+AE6) -> 0 | BG6: =SUM(AH6:BE6)*4+(AG6)+(BF6)*20 -> 0 | BI6: =BG6+BH6 -> 0 | BJ6: =AF6 -> 0 | BK6: =BI6+BJ6 -> 0 | BL6: =IF(BK6=0,"",RANK(BK6,$BK$3:$BK$21,1)-COUNTIF($BK$3:$BK$21,0))
A7: ='Alle lijsten'!A156 -> 0 | B7: ='Alle lijsten'!B156 -> 0 | C7: ='Alle lijsten'!#REF! -> #REF! | AD7: =SUM(E7:AB7)*4+(D7)+(AC7)*20 -> 0 | AF7: =SUM(AD7+AE7) -> 0 | BG7: =SUM(AH7:BE7)*4+(AG7)+(BF7)*20 -> 0 | BI7: =BG7+BH7 -> 0 | BJ7: =AF7 -> 0 | BK7: =BI7+BJ7 -> 0 | BL7: =IF(BK7=0,"",RANK(BK7,$BK$3:$BK$21,1)-COUNTIF($BK$3:$BK$21,0))
A8: ='Alle lijsten'!A157 -> 0 | B8: ='Alle lijsten'!B157 -> 0 | C8: ='Alle lijsten'!#REF! -> #REF! | AD8: =SUM(E8:AB8)*4+(D8)+(AC8)*20 -> 0 | AF8: =SUM(AD8+AE8) -> 0 | BG8: =SUM(AH8:BE8)*4+(AG8)+(BF8)*20 -> 0 | BI8: =BG8+BH8 -> 0 | BJ8: =AF8 -> 0 | BK8: =BI8+BJ8 -> 0 | BL8: =IF(BK8=0,"",RANK(BK8,$BK$3:$BK$21,1)-COUNTIF($BK$3:$BK$21,0))
A9: ='Alle lijsten'!A158 -> 0 | B9: ='Alle lijsten'!B158 -> 0 | C9: ='Alle lijsten'!#REF! -> #REF! | AD9: =SUM(E9:AB9)*4+(D9)+(AC9)*20 -> 0 | AF9: =SUM(AD9+AE9) -> 0 | BG9: =SUM(AH9:BE9)*4+(AG9)+(BF9)*20 -> 0 | BI9: =BG9+BH9 -> 0 | BJ9: =AF9 -> 0 | BK9: =BI9+BJ9 -> 0 | BL9: =IF(BK9=0,"",RANK(BK9,$BK$3:$BK$21,1)-COUNTIF($BK$3:$BK$21,0))
A10: ='Alle lijsten'!A159 -> 0 | B10: ='Alle lijsten'!B159 -> 0 | C10: ='Alle lijsten'!#REF! -> #REF! | AD10: =SUM(E10:AB10)*4+(D10)+(AC10)*20 -> 0 | AF10: =SUM(AD10+AE10) -> 0 | BG10: =SUM(AH10:BE10)*4+(AG10)+(BF10)*20 -> 0 | BI10: =BG10+BH10 -> 0 | BJ10: =AF10 -> 0 | BK10: =BI10+BJ10 -> 0 | BL10: =IF(BK10=0,"",RANK(BK10,$BK$3:$BK$21,1)-COUNTIF($BK$3:$BK$21,0))
A11: ='Alle lijsten'!A160 -> 0 | B11: ='Alle lijsten'!B160 -> 0 | C11: ='Alle lijsten'!#REF! -> #REF! | AD11: =SUM(E11:AB11)*4+(D11)+(AC11)*20 -> 0 | AF11: =SUM(AD11+AE11) -> 0 | BG11: =SUM(AH11:BE11)*4+(AG11)+(BF11)*20 -> 0 | BI11: =BG11+BH11 -> 0 | BJ11: =AF11 -> 0 | BK11: =BI11+BJ11 -> 0 | BL11: =IF(BK11=0,"",RANK(BK11,$BK$3:$BK$21,1)-COUNTIF($BK$3:$BK$21,0))
A12: ='Alle lijsten'!A161 -> 0 | B12: ='Alle lijsten'!B161 -> 0 | C12: ='Alle lijsten'!#REF! -> #REF! | AD12: =SUM(E12:AB12)*4+(D12)+(AC12)*20 -> 0 | AF12: =SUM(AD12+AE12) -> 0 | BG12: =SUM(AH12:BE12)*4+(AG12)+(BF12)*20 -> 0 | BI12: =BG12+BH12 -> 0 | BJ12: =AF12 -> 0 | BK12: =BI12+BJ12 -> 0 | BL12: =IF(BK12=0,"",RANK(BK12,$BK$3:$BK$21,1)-COUNTIF($BK$3:$BK$21,0))
A13: ='Alle lijsten'!A162 -> 0 | B13: ='Alle lijsten'!B162 -> 0 | C13: ='Alle lijsten'!#REF! -> #REF! | AD13: =SUM(E13:AB13)*4+(D13)+(AC13)*20 -> 0 | AF13: =SUM(AD13+AE13) -> 0 | BG13: =SUM(AH13:BE13)*4+(AG13)+(BF13)*20 -> 0 | BI13: =BG13+BH13 -> 0 | BJ13: =AF13 -> 0 | BK13: =BI13+BJ13 -> 0 | BL13: =IF(BK13=0,"",RANK(BK13,$BK$3:$BK$21,1)-COUNTIF($BK$3:$BK$21,0))
A14: ='Alle lijsten'!A163 -> 0 | B14: ='Alle lijsten'!B163 -> 0 | C14: ='Alle lijsten'!#REF! -> #REF! | AD14: =SUM(E14:AB14)*4+(D14)+(AC14)*20 -> 0 | AF14: =SUM(AD14+AE14) -> 0 | BG14: =SUM(AH14:BE14)*4+(AG14)+(BF14)*20 -> 0 | BI14: =BG14+BH14 -> 0 | BJ14: =AF14 -> 0 | BK14: =BI14+BJ14 -> 0 | BL14: =IF(BK14=0,"",RANK(BK14,$BK$3:$BK$21,1)-COUNTIF($BK$3:$BK$21,0))
... A22: ='Alle lijsten'!A171 -> 0 | B22: ='Alle lijsten'!B171 -> 0 | C22: ='Alle lijsten'!#REF! -> #REF! | AD22: =SUM(E22:AB22)*4+(D22)+(AC22)*20 -> 0 | AF22: =SUM(AD22+AE22) -> 0 | BG22: =SUM(AH22:BE22)*4+(AG22)+(BF22)*20 -> 0 | BI22: =BG22+BH22 -> 0 | BJ22: =AF22 -> 0 | BK22: =BI22+BJ22 -> 0 | BL22: =IF(BK22=0,"",RANK(BK22,$BK$3:$BK$21,1)-COUNTIF($BK$3:$BK$21,0))
A23: ='Alle lijsten'!A172 -> 0 | B23: ='Alle lijsten'!B172 -> 0 | C23: ='Alle lijsten'!#REF! -> #REF! | AD23: =SUM(E23:AB23)*4+(D23)+(AC23)*20 -> 0 | AF23: =SUM(AD23+AE23) -> 0 | BG23: =SUM(AH23:BE23)*4+(AG23)+(BF23)*20 -> 0 | BI23: =BG23+BH23 -> 0 | BJ23: =SUM(AF23) -> 0 | BK23: =BI23+BJ23 -> 0 | BL23: =IF(BK23=0,"",RANK(BK23,$BK$3:$BK$21,1)-COUNTIF($BK$3:$BK$21,0))
A24: ='Alle lijsten'!A173 -> 0 | B24: ='Alle lijsten'!B173 -> 0 | C24: ='Alle lijsten'!#REF! -> #REF!

Sheet 2span Paard
B1: TWEESPAN PAARDEN | D1: EERSTE MANCHE | AJ1: TWEEDE MANCHE
A2: Startnummer | B2: Menner / menster | C2: Woonplaats | E2: ='Alle lijsten'!I6 -> 1 | F2: 2 | G2: 3a | H2: 3b | I2: 3c | J2: 4 | K2: 5 | L2: 6 | M2: 7 | N2: 8 | O2: 9a | P2: 9b | Q2: 9c | R2: 9d | S2: 9e | T2: 10 | U2: 11 | V2: 12a | W2: 12b | X2: 12c | Y2: 12d | Z2: 12e | AA2: 13 | AB2: 14 | AC2: pf | AD2: Strafsec. 1e manche | AE2: Tijd 1e manche | AF2: Totaal 1e manche | AH2: ='Alle lijsten'!I6 -> 1 | AI2: 2 | AJ2: 3a | AK2: 3b | AL2: 3c | AM2: 4 | AN2: 5 | AO2: 6 | AP2: 7 | AQ2: 8 | AR2: 9a | AS2: 9b | AT2: 9c | AU2: 9d | AV2: 9e | AW2: 10 | AX2: 11 | AY2: 12a | AZ2: 12b | BA2: 12c | BB2: 12d | BC2: 12e | BD2: 13 | BE2: 14 | BF2: PF | BG2: Strafsec. 2e manche | BH2: Tijd 2e manche | BI2: Totaal 2e manche | BJ2: Totaal 1e manche | BK2: TOTAAL 1e & 2e MANCHE | BL2: KLASSERING
A3: ='Alle lijsten'!A176 -> 0 | B3: ='Alle lijsten'!B176 -> 0 | C3: ='Alle lijsten'!#REF! -> #REF! | AD3: =SUM(E3:AB3)*4+(D3)+(AC3)*20 -> 0 | AF3: =SUM(AD3+AE3) -> 0 | BG3: =SUM(AH3:BE3)*4+(AG3)+(BF3)*20 -> 0 | BI3: =BG3+BH3 -> 0 | BJ3: =AF3 -> 0 | BK3: =BI3+BJ3 -> 0 | BL3: =IF(BK3=0,"",RANK(BK3,$BK$3:$BK$21,1)-COUNTIF($BK$3:$BK$21,0))
A4: ='Alle lijsten'!A177 -> 0 | B4: ='Alle lijsten'!B177 -> 0 | C4: ='Alle lijsten'!#REF! -> #REF! | AD4: =SUM(E4:AB4)*4+(D4)+(AC4)*20 -> 0 | AF4: =SUM(AD4+AE4) -> 0 | BG4: =SUM(AH4:BE4)*4+(AG4)+(BF4)*20 -> 0 | BI4: =BG4+BH4 -> 0 | BJ4: =AF4 -> 0 | BK4: =BI4+BJ4 -> 0 | BL4: =IF(BK4=0,"",RANK(BK4,$BK$3:$BK$21,1)-COUNTIF($BK$3:$BK$21,0))
A5: ='Alle lijsten'!A178 -> 0 | B5: ='Alle lijsten'!B178 -> 0 | C5: ='Alle lijsten'!#REF! -> #REF! | AD5: =SUM(E5:AB5)*4+(D5)+(AC5)*20 -> 0 | AF5: =SUM(AD5+AE5) -> 0 | BG5: =SUM(AH5:BE5)*4+(AG5)+(BF5)*20 -> 0 | BI5: =BG5+BH5 -> 0 | BJ5: =AF5 -> 0 | BK5: =BI5+BJ5 -> 0 | BL5: =IF(BK5=0,"",RANK(BK5,$BK$3:$BK$21,1)-COUNTIF($BK$3:$BK$21,0))
A6: ='Alle lijsten'!A179 -> 0 | B6: ='Alle lijsten'!B179 -> 0 | C6: ='Alle lijsten'!#REF! -> #REF! | AD6: =SUM(E6:AB6)*4+(D6)+(AC6)*20 -> 0 | AF6: =SUM(AD6+AE6) -> 0 | BG6: =SUM(AH6:BE6)*4+(AG6)+(BF6)*20 -> 0 | BI6: =BG6+BH6 -> 0 | BJ6: =AF6 -> 0 | BK6: =BI6+BJ6 -> 0 | BL6: =IF(BK6=0,"",RANK(BK6,$BK$3:$BK$21,1)-COUNTIF($BK$3:$BK$21,0))
A7: ='Alle lijsten'!A180 -> 0 | B7: ='Alle lijsten'!B180 -> 0 | C7: ='Alle lijsten'!#REF! -> #REF! | AD7: =SUM(E7:AB7)*4+(D7)+(AC7)*20 -> 0 | AF7: =SUM(AD7+AE7) -> 0 | BG7: =SUM(AH7:BE7)*4+(AG7)+(BF7)*20 -> 0 | BI7: =BG7+BH7 -> 0 | BJ7: =AF7 -> 0 | BK7: =BI7+BJ7 -> 0 | BL7: =IF(BK7=0,"",RANK(BK7,$BK$3:$BK$21,1)-COUNTIF($BK$3:$BK$21,0))
A8: ='Alle lijsten'!A181 -> 0 | B8: ='Alle lijsten'!B181 -> 0 | C8: ='Alle lijsten'!#REF! -> #REF! | AD8: =SUM(E8:AB8)*4+(D8)+(AC8)*20 -> 0 | AF8: =SUM(AD8+AE8) -> 0 | BG8: =SUM(AH8:BE8)*4+(AG8)+(BF8)*20 -> 0 | BI8: =BG8+BH8 -> 0 | BJ8: =AF8 -> 0 | BK8: =BI8+BJ8 -> 0 | BL8: =IF(BK8=0,"",RANK(BK8,$BK$3:$BK$21,1)-COUNTIF($BK$3:$BK$21,0))
A9: ='Alle lijsten'!A182 -> 0 | B9: ='Alle lijsten'!B182 -> 0 | C9: ='Alle lijsten'!#REF! -> #REF! | AD9: =SUM(E9:AB9)*4+(D9)+(AC9)*20 -> 0 | AF9: =SUM(AD9+AE9) -> 0 | BG9: =SUM(AH9:BE9)*4+(AG9)+(BF9)*20 -> 0 | BI9: =BG9+BH9 -> 0 | BJ9: =AF9 -> 0 | BK9: =BI9+BJ9 -> 0 | BL9: =IF(BK9=0,"",RANK(BK9,$BK$3:$BK$21,1)-COUNTIF($BK$3:$BK$21,0))
A10: ='Alle lijsten'!A183 -> 0 | B10: ='Alle lijsten'!B183 -> 0 | C10: ='Alle lijsten'!#REF! -> #REF! | AD10: =SUM(E10:AB10)*4+(D10)+(AC10)*20 -> 0 | AF10: =SUM(AD10+AE10) -> 0 | BG10: =SUM(AH10:BE10)*4+(AG10)+(BF10)*20 -> 0 | BI10: =BG10+BH10 -> 0 | BJ10: =AF10 -> 0 | BK10: =BI10+BJ10 -> 0 | BL10: =IF(BK10=0,"",RANK(BK10,$BK$3:$BK$21,1)-COUNTIF($BK$3:$BK$21,0))
A11: ='Alle lijsten'!A184 -> 0 | B11: ='Alle lijsten'!B184 -> 0 | C11: ='Alle lijsten'!#REF! -> #REF! | AD11: =SUM(E11:AB11)*4+(D11)+(AC11)*20 -> 0 | AF11: =SUM(AD11+AE11) -> 0 | BG11: =SUM(AH11:BE11)*4+(AG11)+(BF11)*20 -> 0 | BI11: =BG11+BH11 -> 0 | BJ11: =AF11 -> 0 | BK11: =BI11+BJ11 -> 0 | BL11: =IF(BK11=0,"",RANK(BK11,$BK$3:$BK$21,1)-COUNTIF($BK$3:$BK$21,0))
A12: ='Alle lijsten'!A185 -> 0 | B12: ='Alle lijsten'!B185 -> 0 | C12: ='Alle lijsten'!#REF! -> #REF! | AD12: =SUM(E12:AB12)*4+(D12)+(AC12)*20 -> 0 | AF12: =SUM(AD12+AE12) -> 0 | BG12: =SUM(AH12:BE12)*4+(AG12)+(BF12)*20 -> 0 | BI12: =BG12+BH12 -> 0 | BJ12: =AF12 -> 0 | BK12: =BI12+BJ12 -> 0 | BL12: =IF(BK12=0,"",RANK(BK12,$BK$3:$BK$21,1)-COUNTIF($BK$3:$BK$21,0))
A13: ='Alle lijsten'!A186 -> 0 | B13: ='Alle lijsten'!B186 -> 0 | C13: ='Alle lijsten'!#REF! -> #REF! | AD13: =SUM(E13:AB13)*4+(D13)+(AC13)*20 -> 0 | AF13: =SUM(AD13+AE13) -> 0 | BG13: =SUM(AH13:BE13)*4+(AG13)+(BF13)*20 -> 0 | BI13: =BG13+BH13 -> 0 | BJ13: =AF13 -> 0 | BK13: =BI13+BJ13 -> 0 | BL13: =IF(BK13=0,"",RANK(BK13,$BK$3:$BK$21,1)-COUNTIF($BK$3:$BK$21,0))
A14: ='Alle lijsten'!A187 -> 0 | B14: ='Alle lijsten'!B187 -> 0 | C14: ='Alle lijsten'!#REF! -> #REF! | AD14: =SUM(E14:AB14)*4+(D14)+(AC14)*20 -> 0 | AF14: =SUM(AD14+AE14) -> 0 | BG14: =SUM(AH14:BE14)*4+(AG14)+(BF14)*20 -> 0 | BI14: =BG14+BH14 -> 0 | BJ14: =AF14 -> 0 | BK14: =BI14+BJ14 -> 0 | BL14: =IF(BK14=0,"",RANK(BK14,$BK$3:$BK$21,1)-COUNTIF($BK$3:$BK$21,0))
A15: ='Alle lijsten'!A188 -> 0 | B15: ='Alle lijsten'!B188 -> 0 | C15: ='Alle lijsten'!#REF! -> #REF! | AD15: =SUM(E15:AB15)*4+(D15)+(AC15)*20 -> 0 | AF15: =SUM(AD15+AE15) -> 0 | BG15: =SUM(AH15:BE15)*4+(AG15)+(BF15)*20 -> 0 | BI15: =BG15+BH15 -> 0 | BJ15: =AF15 -> 0 | BK15: =BI15+BJ15 -> 0 | BL15: =IF(BK15=0,"",RANK(BK15,$BK$3:$BK$21,1)-COUNTIF($BK$3:$BK$21,0))
AD16: =SUM(E16:AB16)*4+(D16)+(AC16)*20 -> 0 | AF16: =SUM(AD16+AE16) -> 0 | BG16: =SUM(AH16:BE16)*4+(AG16)+(BF16)*20 -> 0 | BI16: =BG16+BH16 -> 0 | BJ16: =AF16 -> 0 | BK16: =BI16+BJ16 -> 0 | BL16: =IF(BK16=0,"",RANK(BK16,$BK$3:$BK$21,1)-COUNTIF($BK$3:$BK$21,0))
AD17: =SUM(E17:AB17)*4+(D17)+(AC17)*20 -> 0 | AF17: =SUM(AD17+AE17) -> 0 | BG17: =SUM(AH17:BE17)*4+(AG17)+(BF17)*20 -> 0 | BI17: =BG17+BH17 -> 0 | BJ17: =AF17 -> 0 | BK17: =BI17+BJ17 -> 0 | BL17: =IF(BK17=0,"",RANK(BK17,$BK$3:$BK$21,1)-COUNTIF($BK$3:$BK$21,0))
AD18: =SUM(E18:AB18)*4+(D18)+(AC18)*20 -> 0 | AF18: =SUM(AD18+AE18) -> 0 | BG18: =SUM(AH18:BE18)*4+(AG18)+(BF18)*20 -> 0 | BI18: =BG18+BH18 -> 0 | BJ18: =AF18 -> 0 | BK18: =BI18+BJ18 -> 0 | BL18: =IF(BK18=0,"",RANK(BK18,$BK$3:$BK$21,1)-COUNTIF($BK$3:$BK$21,0))
AD19: =SUM(E19:AB19)*4+(D19)+(AC19)*20 -> 0 | AF19: =SUM(AD19+AE19) -> 0 | BG19: =SUM(AH19:BE19)*4+(AG19)+(BF19)*20 -> 0 | BI19: =BG19+BH19 -> 0 | BJ19: =AF19 -> 0 | BK19: =BI19+BJ19 -> 0 | BL19: =IF(BK19=0,"",RANK(BK19,$BK$3:$BK$21,1)-COUNTIF($BK$3:$BK$21,0))
AD20: =SUM(E20:AB20)*4+(D20)+(AC20)*20 -> 0 | AF20: =SUM(AD20+AE20) -> 0 | BG20: =SUM(AH20:BE20)*4+(AG20)+(BF20)*20 -> 0 | BI20: =BG20+BH20 -> 0 | BJ20: =AF20 -> 0 | BK20: =BI20+BJ20 -> 0 | BL20: =IF(BK20=0,"",RANK(BK20,$BK$3:$BK$21,1)-COUNTIF($BK$3:$BK$21,0))

Sheet 4span Paard
B1: VIERSPAN/TANDEM PAARDEN | D1: EERSTE MANCHE | AJ1: TWEEDE MANCHE
A2: Startnummer | B2: Menner / menster | C2: Woonplaats | E2: ='Alle lijsten'!I6 -> 1 | F2: ='Alle lijsten'!J6 -> 2 | G2: ='Alle lijsten'!K6 -> 3 | H2: ='Alle lijsten'!L6 -> 4a | I2: ='Alle lijsten'!M6 -> 4b | J2: ='Alle lijsten'!N6 -> 4c | K2: ='Alle lijsten'!O6 -> 4d | L2: ='Alle lijsten'!P6 -> 5 | ... X2: ='Alle lijsten'!AB6 -> 12 | Y2: ='Alle lijsten'!#REF! -> #REF! | Z2: ='Alle lijsten'!#REF! -> #REF! | AA2: ='Alle lijsten'!#REF! -> #REF! | AB2: ='Alle lijsten'!#REF! -> #REF! | AC2: PF 5 | AD2: Strafsec. 1e manche | AE2: Tijd 1e manche | AF2: Totaal 1e manche | AH2: ='Alle lijsten'!I6 -> 1 | AI2: ='Alle lijsten'!J6 -> 2 | AJ2: ='Alle lijsten'!K6 -> 3 | AK2: ='Alle lijsten'!L6 -> 4a | AL2: ='Alle lijsten'!M6 -> 4b | AM2: ='Alle lijsten'!N6 -> 4c | AN2: ='Alle lijsten'!O6 -> 4d | AO2: ='Alle lijsten'!P6 -> 5 | ... BA2: ='Alle lijsten'!AB6 -> 12 | BB2: ='Alle lijsten'!#REF! -> #REF! | BC2: ='Alle lijsten'!#REF! -> #REF! | BD2: ='Alle lijsten'!#REF! -> #REF! | BE2: ='Alle lijsten'!#REF! -> #REF! | BF2: PF 5 | BG2: Strafsec. 2e manche | BH2: Tijd 2e manche | BI2: Totaal 2e manche | BJ2: Totaal 1e manche | BK2: TOTAAL 1e & 2e MANCHE | BL2: KLASSERING
A3: ='Alle lijsten'!A191 -> 0 | B3: ='Alle lijsten'!B191 -> 0 | C3: ='Alle lijsten'!#REF! -> #REF! | AD3: =SUM(E3:AB3)*4+(D3)+(AC3)*20 -> 0 | AF3: =SUM(AD3+AE3) -> 0 | BG3: =SUM(AH3:BE3)*4+(AG3)+(BF3)*20 -> 0 | BI3: =BG3+BH3 -> 0 | BJ3: =AF3 -> 0 | BK3: =BI3+BJ3 -> 0 | BL3: =IF(BK3=0,"",RANK(BK3,$BK$3:$BK$21,1)-COUNTIF($BK$3:$BK$21,0))
A4: ='Alle lijsten'!A192 -> 0 | B4: ='Alle lijsten'!B192 -> 0 | C4: ='Alle lijsten'!#REF! -> #REF! | AD4: =SUM(E4:AB4)*4+(D4)+(AC4)*20 -> 0 | AF4: =SUM(AD4+AE4) -> 0 | BG4: =SUM(AH4:BE4)*4+(AG4)+(BF4)*20 -> 0 | BI4: =BG4+BH4 -> 0 | BJ4: =AF4 -> 0 | BK4: =BI4+BJ4 -> 0 | BL4: =IF(BK4=0,"",RANK(BK4,$BK$3:$BK$21,1)-COUNTIF($BK$3:$BK$21,0))
A5: ='Alle lijsten'!A193 -> 0 | B5: ='Alle lijsten'!B193 -> 0 | C5: ='Alle lijsten'!#REF! -> #REF! | AD5: =SUM(E5:AB5)*4+(D5)+(AC5)*20 -> 0 | AF5: =SUM(AD5+AE5) -> 0 | BG5: =SUM(AH5:BE5)*4+(AG5)+(BF5)*20 -> 0 | BI5: =BG5+BH5 -> 0 | BJ5: =AF5 -> 0 | BK5: =BI5+BJ5 -> 0 | BL5: =IF(BK5=0,"",RANK(BK5,$BK$3:$BK$21,1)-COUNTIF($BK$3:$BK$21,0))
A6: ='Alle lijsten'!A194 -> 0 | B6: ='Alle lijsten'!B194 -> 0 | C6: ='Alle lijsten'!#REF! -> #REF! | AD6: =SUM(E6:AB6)*4+(D6)+(AC6)*20 -> 0 | AF6: =SUM(AD6+AE6) -> 0 | BG6: =SUM(AH6:BE6)*4+(AG6)+(BF6)*20 -> 0 | BI6: =BG6+BH6 -> 0 | BJ6: =AF6 -> 0 | BK6: =BI6+BJ6 -> 0 | BL6: =IF(BK6=0,"",RANK(BK6,$BK$3:$BK$21,1)-COUNTIF($BK$3:$BK$21,0))
A7: ='Alle lijsten'!A195 -> 0 | B7: ='Alle lijsten'!B195 -> 0 | C7: ='Alle lijsten'!#REF! -> #REF! | AD7: =SUM(E7:AB7)*4+(D7)+(AC7)*20 -> 0 | AF7: =SUM(AD7+AE7) -> 0 | BG7: =SUM(AH7:BE7)*4+(AG7)+(BF7)*20 -> 0 | BI7: =BG7+BH7 -> 0 | BJ7: =AF7 -> 0 | BK7: =BI7+BJ7 -> 0 | BL7: =IF(BK7=0,"",RANK(BK7,$BK$3:$BK$21,1)-COUNTIF($BK$3:$BK$21,0))
A8: ='Alle lijsten'!A196 -> 0 | B8: ='Alle lijsten'!B196 -> 0 | C8: ='Alle lijsten'!#REF! -> #REF! | AD8: =SUM(E8:AB8)*4+(D8)+(AC8)*20 -> 0 | AF8: =SUM(AD8+AE8) -> 0 | BG8: =SUM(AH8:BE8)*4+(AG8)+(BF8)*20 -> 0 | BI8: =BG8+BH8 -> 0 | BJ8: =AF8 -> 0 | BK8: =BI8+BJ8 -> 0 | BL8: =IF(BK8=0,"",RANK(BK8,$BK$3:$BK$21,1)-COUNTIF($BK$3:$BK$21,0))
A9: ='Alle lijsten'!A197 -> 0 | B9: ='Alle lijsten'!B197 -> 0 | C9: ='Alle lijsten'!#REF! -> #REF! | AD9: =SUM(E9:AB9)*4+(D9)+(AC9)*20 -> 0 | AF9: =SUM(AD9+AE9) -> 0 | BG9: =SUM(AH9:BE9)*4+(AG9)+(BF9)*20 -> 0 | BI9: =BG9+BH9 -> 0 | BJ9: =AF9 -> 0 | BK9: =BI9+BJ9 -> 0 | BL9: =IF(BK9=0,"",RANK(BK9,$BK$3:$BK$21,1)-COUNTIF($BK$3:$BK$21,0))
A10: ='Alle lijsten'!A198 -> 0 | B10: ='Alle lijsten'!B198 -> 0 | C10: ='Alle lijsten'!#REF! -> #REF! | AD10: =SUM(E10:AB10)*4+(D10)+(AC10)*20 -> 0 | AF10: =SUM(AD10+AE10) -> 0 | BG10: =SUM(AH10:BE10)*4+(AG10)+(BF10)*20 -> 0 | BI10: =BG10+BH10 -> 0 | BJ10: =AF10 -> 0 | BK10: =BI10+BJ10 -> 0 | BL10: =IF(BK10=0,"",RANK(BK10,$BK$3:$BK$21,1)-COUNTIF($BK$3:$BK$21,0))
A11: ='Alle lijsten'!A199 -> 0 | B11: ='Alle lijsten'!B199 -> 0 | C11: ='Alle lijsten'!#REF! -> #REF! | AD11: =SUM(E11:AB11)*4+(D11)+(AC11)*20 -> 0 | AF11: =SUM(AD11+AE11) -> 0 | BG11: =SUM(AH11:BE11)*4+(AG11)+(BF11)*20 -> 0 | BI11: =BG11+BH11 -> 0 | BJ11: =AF11 -> 0 | BK11: =BI11+BJ11 -> 0 | BL11: =IF(BK11=0,"",RANK(BK11,$BK$3:$BK$21,1)-COUNTIF($BK$3:$BK$21,0))
AD12: =SUM(E12:AB12)*4+(D12)+(AC12)*20 -> 0 | AF12: =SUM(AD12+AE12) -> 0 | BG12: =SUM(AH12:BE12)*4+(AG12)+(BF12)*20 -> 0 | BI12: =BG12+BH12 -> 0 | BJ12: =AF12 -> 0 | BK12: =BI12+BJ12 -> 0 | BL12: =IF(BK12=0,"",RANK(BK12,$BK$3:$BK$21,1)-COUNTIF($BK$3:$BK$21,0))
AD13: =SUM(E13:AB13)*4+(D13)+(AC13)*20 -> 0 | AF13: =SUM(AD13+AE13) -> 0 | BG13: =SUM(AH13:BE13)*4+(AG13)+(BF13)*20 -> 0 | BI13: =BG13+BH13 -> 0 | BJ13: =AF13 -> 0 | BK13: =BI13+BJ13 -> 0 | BL13: =IF(BK13=0,"",RANK(BK13,$BK$3:$BK$21,1)-COUNTIF($BK$3:$BK$21,0))
AD14: =SUM(E14:AB14)*4+(D14)+(AC14)*20 -> 0 | AF14: =SUM(AD14+AE14) -> 0 | BG14: =SUM(AH14:BE14)*4+(AG14)+(BF14)*20 -> 0 | BI14: =BG14+BH14 -> 0 | BJ14: =AF14 -> 0 | BK14: =BI14+BJ14 -> 0 | BL14: =IF(BK14=0,"",RANK(BK14,$BK$3:$BK$21,1)-COUNTIF($BK$3:$BK$21,0))
AD15: =SUM(E15:AB15)*4+(D15)+(AC15)*20 -> 0 | AF15: =SUM(AD15+AE15) -> 0 | BG15: =SUM(AH15:BE15)*4+(AG15)+(BF15)*20 -> 0 | BI15: =BG15+BH15 -> 0 | BJ15: =AF15 -> 0 | BK15: =BI15+BJ15 -> 0 | BL15: =IF(BK15=0,"",RANK(BK15,$BK$3:$BK$21,1)-COUNTIF($BK$3:$BK$21,0))
AD16: =SUM(E16:AB16)*4+(D16)+(AC16)*20 -> 0 | AF16: =SUM(AD16+AE16) -> 0 | BG16: =SUM(AH16:BE16)*4+(AG16)+(BF16)*20 -> 0 | BI16: =BG16+BH16 -> 0 | BJ16: =AF16 -> 0 | BK16: =BI16+BJ16 -> 0 | BL16: =IF(BK16=0,"",RANK(BK16,$BK$3:$BK$21,1)-COUNTIF($BK$3:$BK$21,0))
AD17: =SUM(E17:AB17)*4+(D17)+(AC17)*20 -> 0 | AF17: =SUM(AD17+AE17) -> 0 | BG17: =SUM(AH17:BE17)*4+(AG17)+(BF17)*20 -> 0 | BI17: =BG17+BH17 -> 0 | BJ17: =AF17 -> 0 | BK17: =BI17+BJ17 -> 0 | BL17: =IF(BK17=0,"",RANK(BK17,$BK$3:$BK$21,1)-COUNTIF($BK$3:$BK$21,0))
AD18: =SUM(E18:AB18)*4+(D18)+(AC18)*20 -> 0 | AF18: =SUM(AD18+AE18) -> 0 | BG18: =SUM(AH18:BE18)*4+(AG18)+(BF18)*20 -> 0 | BI18: =BG18+BH18 -> 0 | BJ18: =AF18 -> 0 | BK18: =BI18+BJ18 -> 0 | BL18: =IF(BK18=0,"",RANK(BK18,$BK$3:$BK$21,1)-COUNTIF($BK$3:$BK$21,0))
AD19: =SUM(E19:AB19)*4+(D19)+(AC19)*20 -> 0 | AF19: =SUM(AD19+AE19) -> 0 | BG19: =SUM(AH19:BE19)*4+(AG19)+(BF19)*20 -> 0 | BI19: =BG19+BH19 -> 0 | BJ19: =AF19 -> 0 | BK19: =BI19+BJ19 -> 0 | BL19: =IF(BK19=0,"",RANK(BK19,$BK$3:$BK$21,1)-COUNTIF($BK$3:$BK$21,0))
AD20: =SUM(E20:AB20)*4+(D20)+(AC20)*20 -> 0 | AF20: =SUM(AD20+AE20) -> 0 | BG20: =SUM(AH20:BE20)*4+(AG20)+(BF20)*20 -> 0 | BI20: =BG20+BH20 -> 0 | BJ20: =AF20 -> 0 | BK20: =BI20+BJ20 -> 0 | BL20: =IF(BK20=0,"",RANK(BK20,$BK$3:$BK$21,1)-COUNTIF($BK$3:$BK$21,0))
