Workbook

Sheet Alle lijsten
B2: Jonge Paarden
A3: Startnummer | B3: Menner / menster | C3: Totaal 2e manche | D3: Totaal 1e manche | E3: TOTAAL 1e & 2e MANCHE | F3: stratrers | G3: ranglijst
C4: =JP!BI3 -> 0 | D4: =JP!BJ3 -> 0 | E4: =JP!BK3 -> 0 | F4: 1 | G4: =JP!BL3 | J4: geachte gebruiker, start nummer, naam menner en paard invullen, deze gegevens worden automatisch in de achter liggende lijsten overgenomen, ook latere wijzegingen worden automatisch verwerkt.
C5: =JP!BI4 -> 0 | D5: =JP!BJ4 -> 0 | E5: =JP!BK4 -> 0 | F5: 2 | G5: =JP!BL4 | J5: voorafgaande aan de wedstrijd de juiste poort nummers invullen, deze worden automatiesch overgenomen op de tapbladen
C6: =JP!BI5 -> 0 | D6: =JP!BJ5 -> 0 | E6: =JP!BK5 -> 0 | F6: 3 | G6: =JP!BL5 | I6: 1 | J6: 2 | K6: 3 | L6: 4 | M6: 5 | N6: 6a | O6: 6b | P6: 6c | Q6: 7 | R6: 8 | S6: 9 | T6: 10 | U6: 11a | V6: 11b | W6: 11c | X6: 11d | Y6: 11e | Z6: 12 | AA6: 13 | AB6: 14a | AC6: 14b | AD6: 14c | AE6: 14d | AF6: 14e | AG6: 15 | AH6: 16 | AI6: 17
C7: =JP!BI6 -> 0 | D7: =JP!BJ6 -> 0 | E7: =JP!BK6 -> 0 | F7: 4 | G7: =JP!BL6
C8: =JP!BI7 -> 0 | D8: =JP!BJ7 -> 0 | E8: =JP!BK7 -> 0 | F8: 5 | G8: =JP!BL7 | J8: Letop; de gekleurde vakken niet invullen
C9: =JP!BI8 -> 0 | D9: =JP!BJ8 -> 0 | E9: =JP!BK8 -> 0 | F9: 6 | G9: =JP!BL8 | J9: tijdens de wedstrijd de tapbladen invullen.
C10: =JP!BI9 -> 0 | D10: =JP!BJ9 -> 0 | E10: =JP!BK9 -> 0 | F10: 7 | G10: =JP!BL9 | J10: Bij een afgereden bal op de doorgangen een 1 invullen en op enter drukken
C11: =JP!BI10 -> 0 | D11: =JP!BJ10 -> 0 | E11: =JP!BK10 -> 0 | F11: 8 | G11: =JP!BL10 | J11: Bij PF (Parcours fout) ook een 1 invullen en op enter drukken het programma rekent zelf de strafpunten om
C12: =JP!BI11 -> 0 | D12: =JP!BJ11 -> 0 | E12: =JP!BK11 -> 0 | F12: 9 | G12: =JP!BL11 | J12: De eerste colom (voor doorgang 1) de exstra strafpunten invullen. Bij een eliminatie 1000 invullen
C13: =JP!BI12 -> 0 | D13: =JP!BJ12 -> 0 | E13: =JP!BK12 -> 0 | F13: 10 | G13: =JP!BL12 | J13: Voor de eerste en tweede manch de tijd in seconden invullen (enter drukken) dus 131 sec en niet 2 minuut 11 sec
C14: =JP!BI13 -> 0 | D14: =JP!BJ13 -> 0 | E14: =JP!BK13 -> 0 | F14: 11 | G14: =JP!BL13 | J14: Bij het invullen van de tijden daar waar nodig een comma (,) invullen geen punt
C15: =JP!BI14 -> 0 | D15: =JP!BJ14 -> 0 | E15: =JP!BK14 -> 0 | F15: 12 | G15: =JP!BL14 | J15: de eind score wordt automatisch opgeteld en een ranglijst opgemaakt
C16: =JP!BI15 -> 0 | D16: =JP!BJ15 -> 0 | E16: =JP!BK15 -> 0 | F16: 13 | G16: =JP!BL15 | J16: De tijden van de deelnemers worden automatisch naar het begin blad geschreven.
J18: met vriendelijke groet
B19: Impuls Paard | J19: John Smeets
A20: Startnummer | B20: Menner / menster | C20: Totaal 2e manche | D20: Totaal 1e manche | E20: TOTAAL 1e & 2e MANCHE | F20: starters | G20: ranglijst
C21: ='IMP Paard'!BI3 -> 0 | D21: ='IMP Paard'!BJ3 -> 0 | E21: =SUM(C21:D21) -> 0 | F21: 1 | G21: ='IMP Paard'!BL3
C22: ='IMP Paard'!BI4 -> 0 | D22: ='IMP Paard'!BJ4 -> 0 | E22: =SUM(C22:D22) -> 0 | F22: 2 | G22: ='IMP Paard'!BL4
C23: ='IMP Paard'!BI5 -> 0 | D23: ='IMP Paard'!BJ5 -> 0 | E23: =SUM(C23:D23) -> 0 | F23: 3 | G23: ='IMP Paard'!BL5
C24: ='IMP Paard'!BI6 -> 0 | D24: ='IMP Paard'!BJ6 -> 0 | E24: =SUM(C24:D24) -> 0 | F24: 4 | G24: ='IMP Paard'!BL6
C25: ='IMP Paard'!BI7 -> 0 | D25: ='IMP Paard'!BJ7 -> 0 | E25: =SUM(C25:D25) -> 0 | F25: 5 | G25: ='IMP Paard'!BL7
C26: ='IMP Paard'!BI8 -> 0 | D26: ='IMP Paard'!BJ8 -> 0 | E26: =SUM(C26:D26) -> 0 | F26: 6 | G26: ='IMP Paard'!BL8
C27: ='IMP Paard'!BI9 -> 0 | D27: ='IMP Paard'!BJ9 -> 0 | E27: =SUM(C27:D27) -> 0 | F27: 7 | G27: ='IMP Paard'!BL9
C28: ='IMP Paard'!BI10 -> 0 | D28: ='IMP Paard'!BJ10 -> 0 | E28: =SUM(C28:D28) -> 0 | F28: 8 | G28: ='IMP Paard'!BL10
C29: ='IMP Paard'!BI11 -> 0 | D29: ='IMP Paard'!BJ11 -> 0 | E29: =SUM(C29:D29) -> 0 | F29: 9 | G29: ='IMP Paard'!BL11
C30: ='IMP Paard'!BI12 -> 0 | D30: ='IMP Paard'!BJ12 -> 0 | E30: =SUM(C30:D30) -> 0 | F30: 10 | G30: ='IMP Paard'!BL12
C31: ='IMP Paard'!BI13 -> 0 | D31: ='IMP Paard'!BJ13 -> 0 | E31: =SUM(C31:D31) -> 0 | F31: 11 | G31: ='IMP Paard'!BL13
C32: ='IMP Paard'!BI14 -> 0 | D32: ='IMP Paard'!BJ14 -> 0 | E32: =SUM(C32:D32) -> 0 | F32: 12 | G32: ='IMP Paard'!BL14
C33: ='IMP Paard'!BI15 -> 0 | D33: ='IMP Paard'!BJ15 -> 0 | E33: =SUM(C33:D33) -> 0 | F33: 13 | G33: ='IMP Paard'!BL15
B35: Impuls Pony
A36: Startnummer | B36: Menner / menster | C36: Totaal 2e manche | D36: Totaal 1e manche | E36: TOTAAL 1e & 2e MANCHE | F36: starters | G36: ranglijst
C37: ='IMP Pony'!BI3 -> 0 | D37: ='IMP Pony'!BJ3 -> 0 | E37: =SUM(C37:D37) -> 0 | F37: 1 | G37: ='IMP Pony'!BL3
C38: ='IMP Pony'!BI4 -> 0 | D38: ='IMP Pony'!BJ4 -> 0 | E38: =SUM(C38:D38) -> 0 | F38: 2 | G38: ='IMP Pony'!BL4
C39: ='IMP Pony'!BI5 -> 0 | D39: ='IMP Pony'!BJ5 -> 0 | E39: =SUM(C39:D39) -> 0 | F39: 3 | G39: ='IMP Pony'!BL5
C40: ='IMP Pony'!BI6 -> 0 | D40: ='IMP Pony'!BJ6 -> 0 | E40: =SUM(C40:D40) -> 0 | F40: 4 | G40: ='IMP Pony'!BL6
C41: ='IMP Pony'!BI7 -> 0 | D41: ='IMP Pony'!BJ7 -> 0 | E41: =SUM(C41:D41) -> 0 | F41: 5 | G41: ='IMP Pony'!BL7
C42: ='IMP Pony'!BI8 -> 0 | D42: ='IMP Pony'!BJ8 -> 0 | E42: =SUM(C42:D42) -> 0 | F42: 6 | G42: ='IMP Pony'!BL8
C43: ='IMP Pony'!BI9 -> 0 | D43: ='IMP Pony'!BJ9 -> 0 | E43: =SUM(C43:D43) -> 0 | F43: 7 | G43: ='IMP Pony'!BL9
...

Sheet JP
B1: Jonge Paarden | D1: EERSTE MANCHE | AJ1: TWEEDE MANCHE
A2: Startnummer | B2: Menner / menster | C2: Namen | E2: ='Alle lijsten'!I6 -> 1 | F2: ='Alle lijsten'!J6 -> 2 | G2: ='Alle lijsten'!K6 -> 3 | H2: ='Alle lijsten'!L6 -> 4 | I2: ='Alle lijsten'!M6 -> 5 | J2: ='Alle lijsten'!N6 -> 6a | K2: ='Alle lijsten'!O6 -> 6b | L2: ='Alle lijsten'!P6 -> 6c | ... AB2: ='Alle lijsten'!AF6 -> 14e | AC2: PF | AD2: Strafsec. 1e manche | AE2: Tijd 1e manche | AF2: Totaal 1e manche | AH2: ='Alle lijsten'!I6 -> 1 | AI2: ='Alle lijsten'!J6 -> 2 | AJ2: ='Alle lijsten'!K6 -> 3 | AK2: ='Alle lijsten'!L6 -> 4 | AL2: ='Alle lijsten'!M6 -> 5 | AM2: ='Alle lijsten'!N6 -> 6a | AN2: ='Alle lijsten'!O6 -> 6b | AO2: ='Alle lijsten'!P6 -> 6c | ... BE2: ='Alle lijsten'!AF6 -> 14e | BF2: pf | BG2: Strafsec. 2e manche | BH2: Tijd 2e manche | BI2: Totaal 2e manche | BJ2: Totaal 1e manche | BK2: TOTAAL 1e & 2e MANCHE | BL2: KLASSERING
A3: ='Alle lijsten'!A4 -> 0 | B3: ='Alle lijsten'!B4 -> 0 | C3: ='Alle lijsten'!#REF! -> #REF! | AD3: =SUM(E3:AB3)*4+(D3)+(AC3)*20 -> 0 | AF3: =SUM(AD3+AE3) -> 0 | BG3: =SUM(AH3:BE3)*4+(AG3)+(BF3)*20 -> 0 | BI3: =BG3+BH3 -> 0 | BJ3: =AF3 -> 0 | BK3: =BI3+BJ3 -> 0 | BL3: =IF(BK3=0,"",RANK(BK3,$BK$3:$BK$21,1)-COUNTIF($BK$3:$BK$21,0))
A4: ='Alle lijsten'!A5 -> 0 | B4: ='Alle lijsten'!B5 -> 0 | C4: ='Alle lijsten'!#REF! -> #REF! | AD4: =SUM(E4:AB4)*4+(D4)+(AC4)*20 -> 0 | AF4: =SUM(AD4+AE4) -> 0 | BG4: =SUM(AH4:BE4)*4+(AG4)+(BF4)*20 -> 0 | BI4: =BG4+BH4 -> 0 | BJ4: =AF4 -> 0 | BK4: =BI4+BJ4 -> 0 | BL4: =IF(BK4=0,"",RANK(BK4,$BK$3:$BK$21,1)-COUNTIF($BK$3:$BK$21,0))
A5: ='Alle lijsten'!A6 -> 0 | B5: ='Alle lijsten'!B6 -> 0 | C5: ='Alle lijsten'!#REF! -> #REF! | AD5: =SUM(E5:AB5)*4+(D5)+(AC5)*20 -> 0 | AF5: =SUM(AD5+AE5) -> 0 | BG5: =SUM(AH5:BE5)*4+(AG5)+(BF5)*20 -> 0 | BI5: =BG5+BH5 -> 0 | BJ5: =AF5 -> 0 | BK5: =BI5+BJ5 -> 0 | BL5: =IF(BK5=0,"",RANK(BK5,$BK$3:$BK$21,1)-COUNTIF($BK$3:$BK$21,0))
A6: ='Alle lijsten'!A7 -> 0 | B6: ='Alle lijsten'!B7 -> 0 | C6: ='Alle lijsten'!#REF! -> #REF! | AD6: =SUM(E6:AB6)*4+(D6)+(AC6)*20 -> 0 | AF6: =SUM(AD6+AE6) -> 0 | BG6: =SUM(AH6:BE6)*4+(AG6)+(BF6)*20 -> 0 | BI6: =BG6+BH6 -> 0 | BJ6: =AF6 -> 0 | BK6: =BI6+BJ6 -> 0 | BL6: =IF(BK6=0,"",RANK(BK6,$BK$3:$BK$21,1)-COUNTIF($BK$3:$BK$21,0))
A7: ='Alle lijsten'!A8 -> 0 | B7: ='Alle lijsten'!B8 -> 0 | C7: ='Alle lijsten'!#REF! -> #REF! | AD7: =SUM(E7:AB7)*4+(D7)+(AC7)*20 -> 0 | AF7: =SUM(AD7+AE7) -> 0 | BG7: =SUM(AH7:BE7)*4+(AG7)+(BF7)*20 -> 0 | BI7: =BG7+BH7 -> 0 | BJ7: =AF7 -> 0 | BK7: =BI7+BJ7 -> 0 | BL7: =IF(BK7=0,"",RANK(BK7,$BK$3:$BK$21,1)-COUNTIF($BK$3:$BK$21,0))
A8: ='Alle lijsten'!A9 -> 0 | B8: ='Alle lijsten'!B9 -> 0 | C8: ='Alle lijsten'!#REF! -> #REF! | AD8: =SUM(E8:AB8)*4+(D8)+(AC8)*20 -> 0 | AF8: =SUM(AD8+AE8) -> 0 | BG8: =SUM(AH8:BE8)*4+(AG8)+(BF8)*20 -> 0 | BI8: =BG8+BH8 -> 0 | BJ8: =AF8 -> 0 | BK8: =BI8+BJ8 -> 0 | BL8: =IF(BK8=0,"",RANK(BK8,$BK$3:$BK$21,1)-COUNTIF($BK$3:$BK$21,0))
A9: ='Alle lijsten'!A10 -> 0 | B9: ='Alle lijsten'!B10 -> 0 | C9: ='Alle lijsten'!#REF! -> #REF! | AD9: =SUM(E9:AB9)*4+(D9)+(AC9)*20 -> 0 | AF9: =SUM(AD9+AE9) -> 0 | BG9: =SUM(AH9:BE9)*4+(AG9)+(BF9)*20 -> 0 | BI9: =BG9+BH9 -> 0 | BJ9: =AF9 -> 0 | BK9: =BI9+BJ9 -> 0 | BL9: =IF(BK9=0,"",RANK(BK9,$BK$3:$BK$21,1)-COUNTIF($BK$3:$BK$21,0))
A10: ='Alle lijsten'!A11 -> 0 | B10: ='Alle lijsten'!B11 -> 0 | C10: ='Alle lijsten'!#REF! -> #REF! | AD10: =SUM(E10:AB10)*4+(D10)+(AC10)*20 -> 0 | AF10: =SUM(AD10+AE10) -> 0 | BG10: =SUM(AH10:BE10)*4+(AG10)+(BF10)*20 -> 0 | BI10: =BG10+BH10 -> 0 | BJ10: =AF10 -> 0 | BK10: =BI10+BJ10 -> 0 | BL10: =IF(BK10=0,"",RANK(BK10,$BK$3:$BK$21,1)-COUNTIF($BK$3:$BK$21,0))
A11: ='Alle lijsten'!A12 -> 0 | B11: ='Alle lijsten'!B12 -> 0 | C11: ='Alle lijsten'!#REF! -> #REF! | AD11: =SUM(E11:AB11)*4+(D11)+(AC11)*20 -> 0 | AF11: =SUM(AD11+AE11) -> 0 | BG11: =SUM(AH11:BE11)*4+(AG11)+(BF11)*20 -> 0 | BI11: =BG11+BH11 -> 0 | BJ11: =AF11 -> 0 | BK11: =BI11+BJ11 -> 0 | BL11: =IF(BK11=0,"",RANK(BK11,$BK$3:$BK$21,1)-COUNTIF($BK$3:$BK$21,0))
A12: ='Alle lijsten'!A13 -> 0 | B12: ='Alle lijsten'!B13 -> 0 | C12: ='Alle lijsten'!#REF! -> #REF! | AD12: =SUM(E12:AB12)*4+(D12)+(AC12)*20 -> 0 | AF12: =SUM(AD12+AE12) -> 0 | BG12: =SUM(AH12:BE12)*4+(AG12)+(BF12)*20 -> 0 | BI12: =BG12+BH12 -> 0 | BJ12: =AF12 -> 0 | BK12: =BI12+BJ12 -> 0 | BL12: =IF(BK12=0,"",RANK(BK12,$BK$3:$BK$21,1)-COUNTIF($BK$3:$BK$21,0))
A13: ='Alle lijsten'!A14 -> 0 | B13: ='Alle lijsten'!B14 -> 0 | C13: ='Alle lijsten'!#REF! -> #REF! | AD13: =SUM(E13:AB13)*4+(D13)+(AC13)*20 -> 0 | AF13: =SUM(AD13+AE13) -> 0 | BG13: =SUM(AH13:BE13)*4+(AG13)+(BF13)*20 -> 0 | BI13: =BG13+BH13 -> 0 | BJ13: =AF13 -> 0 | BK13: =BI13+BJ13 -> 0 | BL13: =IF(BK13=0,"",RANK(BK13,$BK$3:$BK$21,1)-COUNTIF($BK$3:$BK$21,0))
A14: ='Alle lijsten'!A15 -> 0 | B14: ='Alle lijsten'!B15 -> 0 | C14: ='Alle lijsten'!#REF! -> #REF! | AD14: =SUM(E14:AB14)*4+(D14)+(AC14)*20 -> 0 | AF14: =SUM(AD14+AE14) -> 0 | BG14: =SUM(AH14:BE14)*4+(AG14)+(BF14)*20 -> 0 | BI14: =BG14+BH14 -> 0 | BJ14: =AF14 -> 0 | BK14: =BI14+BJ14 -> 0 | BL14: =IF(BK14=0,"",RANK(BK14,$BK$3:$BK$21,1)-COUNTIF($BK$3:$BK$21,0))
... A16: ='Alle lijsten'!A17 -> 0 | B16: ='Alle lijsten'!B17 -> 0 | C16: ='Alle lijsten'!#REF! -> #REF! | AD16: =SUM(E16:AB16)*4+(D16)+(AC16)*20 -> 0 | AF16: =SUM(AD16+AE16) -> 0 | BG16: =SUM(AH16:BE16)*4+(AG16)+(BF16)*20 -> 0 | BI16: =BG16+BH16 -> 0 | BJ16: =AF16 -> 0 | BK16: =BI16+BJ16 -> 0 | BL16: =IF(BK16=0,"",RANK(BK16,$BK$3:$BK$21,1)-COUNTIF($BK$3:$BK$21,0))
AD17: =SUM(E17:AB17)*4+(D17)+(AC17)*20 -> 0 | AF17: =SUM(AD17+AE17) -> 0 | BG17: =SUM(AH17:BE17)*4+(AG17)+(BF17)*20 -> 0 | BI17: =BG17+BH17 -> 0 | BJ17: =AF17 -> 0 | BK17: =BI17+BJ17 -> 0 | BL17: =IF(BK17=0,"",RANK(BK17,$BK$3:$BK$21,1)-COUNTIF($BK$3:$BK$21,0))
AD18: =SUM(E18:AB18)*4+(D18)+(AC18)*20 -> 0 | AF18: =SUM(AD18+AE18) -> 0 | BG18: =SUM(AH18:BE18)*4+(AG18)+(BF18)*20 -> 0 | BI18: =BG18+BH18 -> 0 | BJ18: =AF18 -> 0 | BK18: =BI18+BJ18 -> 0 | BL18: =IF(BK18=0,"",RANK(BK18,$BK$3:$BK$21,1)-COUNTIF($BK$3:$BK$21,0))
AD19: =SUM(E19:AB19)*4+(D19)+(AC19)*20 -> 0 | AF19: =SUM(AD19+AE19) -> 0 | BG19: =SUM(AH19:BE19)*4+(AG19)+(BF19)*20 -> 0 | BI19: =BG19+BH19 -> 0 | BJ19: =AF19 -> 0 | BK19: =BI19+BJ19 -> 0 | BL19: =IF(BK19=0,"",RANK(BK19,$BK$3:$BK$21,1)-COUNTIF($BK$3:$BK$21,0))
AD20: =SUM(E20:AB20)*4+(D20)+(AC20)*20 -> 0 | AF20: =SUM(AD20+AE20) -> 0 | BG20: =SUM(AH20:BE20)*4+(AG20)+(BF20)*20 -> 0 | BI20: =BG20+BH20 -> 0 | BJ20: =AF20 -> 0 | BK20: =BI20+BJ20 -> 0 | BL20: =IF(BK20=0,"",RANK(BK20,$BK$3:$BK$21,1)-COUNTIF($BK$3:$BK$21,0))
BG21: =SUM(AH21:BE21)*4+(AG21)+(BF21)*20 -> 0 | BI21: =BG21+BH21 -> 0 | BJ21: =AF21 -> 0 | BK21: =BI21+BJ21 -> 0 | BL21: =IF(BK21=0,"",RANK(BK21,$BK$3:$BK$21,1)-COUNTIF($BK$3:$BK$21,0))

Sheet IMP Paard
B1: Impuls Paard | D1: EERSTE MANCHE | AJ1: TWEEDE MANCHE
A2: Startnummer | B2: Menner / menster | C2: Namen | E2: ='Alle lijsten'!I6 -> 1 | F2: ='Alle lijsten'!J6 -> 2 | G2: ='Alle lijsten'!K6 -> 3 | H2: ='Alle lijsten'!L6 -> 4 | I2: ='Alle lijsten'!M6 -> 5 | J2: ='Alle lijsten'!N6 -> 6a | K2: ='Alle lijsten'!O6 -> 6b | L2: ='Alle lijsten'!P6 -> 6c | ... AB2: ='Alle lijsten'!AF6 -> 14e | AC2: pf | AD2: Strafsec. 1e manche | AE2: Tijd 1e manche | AF2: Totaal 1e manche | AH2: ='Alle lijsten'!I6 -> 1 | AI2: ='Alle lijsten'!J6 -> 2 | AJ2: ='Alle lijsten'!K6 -> 3 | AK2: ='Alle lijsten'!L6 -> 4 | AL2: ='Alle lijsten'!M6 -> 5 | AM2: ='Alle lijsten'!N6 -> 6a | AN2: ='Alle lijsten'!O6 -> 6b | AO2: ='Alle lijsten'!P6 -> 6c | ... BE2: ='Alle lijsten'!AF6 -> 14e | BF2: pf | BG2: Strafsec. 2e manche | BH2: Tijd 2e manche | BI2: Totaal 2e manche | BJ2: Totaal 1e manche | BK2: TOTAAL 1e & 2e MANCHE | BL2: KLASSERING
A3: ='Alle lijsten'!A21 -> 0 | B3: ='Alle lijsten'!B21 -> 0 | C3: ='Alle lijsten'!#REF! -> #REF! | AD3: =SUM(E3:AB3)*4+(D3)+(AC3)*20 -> 0 | AF3: =SUM(AD3+AE3) -> 0 | BG3: =SUM(AH3:BE3)*4+(AG3)+(BF3)*20 -> 0 | BI3: =BG3+BH3 -> 0 | BJ3: =AF3 -> 0 | BK3: =BI3+BJ3 -> 0 | BL3: =IF(BK3=0,"",RANK(BK3,$BK$3:$BK$21,1)-COUNTIF($BK$3:$BK$21,0))
A4: ='Alle lijsten'!A22 -> 0 | B4: ='Alle lijsten'!B22 -> 0 | C4: ='Alle lijsten'!#REF! -> #REF! | AD4: =SUM(E4:AB4)*4+(D4)+(AC4)*20 -> 0 | AF4: =SUM(AD4+AE4) -> 0 | BG4: =SUM(AH4:BE4)*4+(AG4)+(BF4)*20 -> 0 | BI4: =BG4+BH4 -> 0 | BJ4: =AF4 -> 0 | BK4: =BI4+BJ4 -> 0 | BL4: =IF(BK4=0,"",RANK(BK4,$BK$3:$BK$21,1)-COUNTIF($BK$3:$BK$21,0))
A5: ='Alle lijsten'!A23 -> 0 | B5: ='Alle lijsten'!B23 -> 0 | C5: ='Alle lijsten'!#REF! -> #REF! | AD5: =SUM(E5:AB5)*4+(D5)+(AC5)*20 -> 0 | AF5: =SUM(AD5+AE5) -> 0 | BG5: =SUM(AH5:BE5)*4+(AG5)+(BF5)*20 -> 0 | BI5: =BG5+BH5 -> 0 | BJ5: =AF5 -> 0 | BK5: =BI5+BJ5 -> 0 | BL5: =IF(BK5=0,"",RANK(BK5,$BK$3:$BK$21,1)-COUNTIF($BK$3:$BK$21,0))
A6: ='Alle lijsten'!A24 -> 0 | B6: ='Alle lijsten'!B24 -> 0 | C6: ='Alle lijsten'!#REF! -> #REF! | AD6: =SUM(E6:AB6)*4+(D6)+(AC6)*20 -> 0 | AF6: =SUM(AD6+AE6) -> 0 | BG6: =SUM(AH6:BE6)*4+(AG6)+(BF6)*20 -> 0 | BI6: =BG6+BH6 -> 0 | BJ6: =AF6 -> 0 | BK6: =BI6+BJ6 -> 0 | BL6: =IF(BK6=0,"",RANK(BK6,$BK$3:$BK$21,1)-COUNTIF($BK$3:$BK$21,0))
A7: ='Alle lijsten'!A25 -> 0 | B7: ='Alle lijsten'!B25 -> 0 | C7: ='Alle lijsten'!#REF! -> #REF! | AD7: =SUM(E7:AB7)*4+(D7)+(AC7)*20 -> 0 | AF7: =SUM(AD7+AE7) -> 0 | BG7: =SUM(AH7:BE7)*4+(AG7)+(BF7)*20 -> 0 | BI7: =BG7+BH7 -> 0 | BJ7: =AF7 -> 0 | BK7: =BI7+BJ7 -> 0 | BL7: =IF(BK7=0,"",RANK(BK7,$BK$3:$BK$21,1)-COUNTIF($BK$3:$BK$21,0))
A8: ='Alle lijsten'!A26 -> 0 | B8: ='Alle lijsten'!B26 -> 0 | C8: ='Alle lijsten'!#REF! -> #REF! | AD8: =SUM(E8:AB8)*4+(D8)+(AC8)*20 -> 0 | AF8: =SUM(AD8+AE8) -> 0 | BG8: =SUM(AH8:BE8)*4+(AG8)+(BF8)*20 -> 0 | BI8: =BG8+BH8 -> 0 | BJ8: =AF8 -> 0 | BK8: =BI8+BJ8 -> 0 | BL8: =IF(BK8=0,"",RANK(BK8,$BK$3:$BK$21,1)-COUNTIF($BK$3:$BK$21,0))
A9: ='Alle lijsten'!A27 -> 0 | B9: ='Alle lijsten'!B27 -> 0 | C9: ='Alle lijsten'!#REF! -> #REF! | AD9: =SUM(E9:AB9)*4+(D9)+(AC9)*20 -> 0 | AF9: =SUM(AD9+AE9) -> 0 | BG9: =SUM(AH9:BE9)*4+(AG9)+(BF9)*20 -> 0 | BI9: =BG9+BH9 -> 0 | BJ9: =AF9 -> 0 | BK9: =BI9+BJ9 -> 0 | BL9: =IF(BK9=0,"",RANK(BK9,$BK$3:$BK$21,1)-COUNTIF($BK$3:$BK$21,0))
A10: ='Alle lijsten'!A28 -> 0 | B10: ='Alle lijsten'!B28 -> 0 | C10: ='Alle lijsten'!#REF! -> #REF! | AD10: =SUM(E10:AB10)*4+(D10)+(AC10)*20 -> 0 | AF10: =SUM(AD10+AE10) -> 0 | BG10: =SUM(AH10:BE10)*4+(AG10)+(BF10)*20 -> 0 | BI10: =BG10+BH10 -> 0 | BJ10: =AF10 -> 0 | BK10: =BI10+BJ10 -> 0 | BL10: =IF(BK10=0,"",RANK(BK10,$BK$3:$BK$21,1)-COUNTIF($BK$3:$BK$21,0))
A11: ='Alle lijsten'!A29 -> 0 | B11: ='Alle lijsten'!B29 -> 0 | C11: ='Alle lijsten'!#REF! -> #REF! | AD11: =SUM(E11:AB11)*4+(D11)+(AC11)*20 -> 0 | AF11: =SUM(AD11+AE11) -> 0 | BG11: =SUM(AH11:BE11)*4+(AG11)+(BF11)*20 -> 0 | BI11: =BG11+BH11 -> 0 | BJ11: =AF11 -> 0 | BK11: =BI11+BJ11 -> 0 | BL11: =IF(BK11=0,"",RANK(BK11,$BK$3:$BK$21,1)-COUNTIF($BK$3:$BK$21,0))
A12: ='Alle lijsten'!A30 -> 0 | B12: ='Alle lijsten'!B30 -> 0 | C12: ='Alle lijsten'!#REF! -> #REF! | AD12: =SUM(E12:AB12)*4+(D12)+(AC12)*20 -> 0 | AF12: =SUM(AD12+AE12) -> 0 | BG12: =SUM(AH12:BE12)*4+(AG12)+(BF12)*20 -> 0 | BI12: =BG12+BH12 -> 0 | BJ12: =AF12 -> 0 | BK12: =BI12+BJ12 -> 0 | BL12: =IF(BK12=0,"",RANK(BK12,$BK$3:$BK$21,1)-COUNTIF($BK$3:$BK$21,0))
A13: ='Alle lijsten'!A31 -> 0 | B13: ='Alle lijsten'!B31 -> 0 | C13: ='Alle lijsten'!#REF! -> #REF! | AD13: =SUM(E13:AB13)*4+(D13)+(AC13)*20 -> 0 | AF13: =SUM(AD13+AE13) -> 0 | BG13: =SUM(AH13:BE13)*4+(AG13)+(BF13)*20 -> 0 | BI13: =BG13+BH13 -> 0 | BJ13: =AF13 -> 0 | BK13: =BI13+BJ13 -> 0 | BL13: =IF(BK13=0,"",RANK(BK13,$BK$3:$BK$21,1)-COUNTIF($BK$3:$BK$21,0))
AD14: =SUM(E14:AB14)*4+(D14)+(AC14)*20 -> 0 | AF14: =SUM(AD14+AE14) -> 0 | BG14: =SUM(AH14:BE14)*4+(AG14)+(BF14)*20 -> 0 | BI14: =BG14+BH14 -> 0 | BJ14: =AF14 -> 0 | BK14: =BI14+BJ14 -> 0 | BL14: =IF(BK14=0,"",RANK(BK14,$BK$3:$BK$21,1)-COUNTIF($BK$3:$BK$21,0))
AD15: =SUM(E15:AB15)*4+(D15)+(AC15)*20 -> 0 | AF15: =SUM(AD15+AE15) -> 0 | BG15: =SUM(AH15:BE15)*4+(AG15)+(BF15)*20 -> 0 | BI15: =BG15+BH15 -> 0 | BJ15: =AF15 -> 0 | BK15: =BI15+BJ15 -> 0 | BL15: =IF(BK15=0,"",RANK(BK15,$BK$3:$BK$21,1)-COUNTIF($BK$3:$BK$21,0))
AD16: =SUM(E16:AB16)*4+(D16)+(AC16)*20 -> 0 | AF16: =SUM(AD16+AE16) -> 0 | BG16: =SUM(AH16:BE16)*4+(AG16)+(BF16)*20 -> 0 | BI16: =BG16+BH16 -> 0 | BJ16: =AF16 -> 0 | BK16: =BI16+BJ16 -> 0 | BL16: =IF(BK16=0,"",RANK(BK16,$BK$3:$BK$21,1)-COUNTIF($BK$3:$BK$21,0))
AD17: =SUM(E17:AB17)*4+(D17)+(AC17)*20 -> 0 | AF17: =SUM(AD17+AE17) -> 0 | BG17: =SUM(AH17:BE17)*4+(AG17)+(BF17)*20 -> 0 | BI17: =BG17+BH17 -> 0 | BJ17: =AF17 -> 0 | BK17: =BI17+BJ17 -> 0 | BL17: =IF(BK17=0,"",RANK(BK17,$BK$3:$BK$21,1)-COUNTIF($BK$3:$BK$21,0))
AD18: =SUM(E18:AB18)*4+(D18)+(AC18)*20 -> 0 | AF18: =SUM(AD18+AE18) -> 0 | BG18: =SUM(AH18:BE18)*4+(AG18)+(BF18)*20 -> 0 | BI18: =BG18+BH18 -> 0 | BJ18: =AF18 -> 0 | BK18: =BI18+BJ18 -> 0 | BL18: =IF(BK18=0,"",RANK(BK18,$BK$3:$BK$21,1)-COUNTIF($BK$3:$BK$21,0))
AD19: =SUM(E19:AB19)*4+(D19)+(AC19)*20 -> 0 | AF19: =SUM(AD19+AE19) -> 0 | BG19: =SUM(AH19:BE19)*4+(AG19)+(BF19)*20 -> 0 | BI19: =BG19+BH19 -> 0 | BJ19: =AF19 -> 0 | BK19: =BI19+BJ19 -> 0 | BL19: =IF(BK19=0,"",RANK(BK19,$BK$3:$BK$21,1)-COUNTIF($BK$3:$BK$21,0))
AD20: =SUM(E20:AB20)*4+(D20)+(AC20)*20 -> 0 | AF20: =SUM(AD20+AE20) -> 0 | BG20: =SUM(AH20:BE20)*4+(AG20)+(BF20)*20 -> 0 | BI20: =BG20+BH20 -> 0 | BJ20: =AF20 -> 0 | BK20: =BI20+BJ20 -> 0 | BL20: =IF(BK20=0,"",RANK(BK20,$BK$3:$BK$21,1)-COUNTIF($BK$3:$BK$21,0))

Sheet IMP Pony
B1: Impuls Pony | D1: EERSTE MANCHE | AJ1: TWEEDE MANCHE
A2: Startnummer | B2: Menner / menster | C2: Namen | E2: ='Alle lijsten'!I6 -> 1 | F2: ='Alle lijsten'!J6 -> 2 | G2: ='Alle lijsten'!K6 -> 3 | H2: ='Alle lijsten'!L6 -> 4 | I2: ='Alle lijsten'!M6 -> 5 | J2: ='Alle lijsten'!N6 -> 6a | K2: ='Alle lijsten'!O6 -> 6b | L2: ='Alle lijsten'!P6 -> 6c | ... AB2: ='Alle lijsten'!AF6 -> 14e | AC2: PF | AD2: Strafsec. 1e manche | AE2: Tijd 1e manche | AF2: Totaal 1e manche | AH2: ='Alle lijsten'!I6 -> 1 | AI2: ='Alle lijsten'!J6 -> 2 | AJ2: ='Alle lijsten'!K6 -> 3 | AK2: ='Alle lijsten'!L6 -> 4 | AL2: ='Alle lijsten'!M6 -> 5 | AM2: ='Alle lijsten'!N6 -> 6a | AN2: ='Alle lijsten'!O6 -> 6b | AO2: ='Alle lijsten'!P6 -> 6c | ... BE2: ='Alle lijsten'!AF6 -> 14e | BF2: pf | BG2: Strafsec. 2e manche | BH2: Tijd 2e manche | BI2: Totaal 2e manche | BJ2: Totaal 1e manche | BK2: TOTAAL 1e & 2e MANCHE | BL2: KLASSERING
A3: ='Alle lijsten'!A37 -> 0 | B3: ='Alle lijsten'!B37 -> 0 | C3: ='Alle lijsten'!#REF! -> #REF! | AD3: =SUM(E3:AB3)*4+(D3)+(AC3)*20 -> 0 | AF3: =SUM(AD3+AE3) -> 0 | BG3: =SUM(AH3:BE3)*4+(AG3)+(BF3)*20 -> 0 | BI3: =BG3+BH3 -> 0 | BJ3: =AF3 -> 0 | BK3: =BI3+BJ3 -> 0 | BL3: =IF(BK3=0,"",RANK(BK3,$BK$3:$BK$21,1)-COUNTIF($BK$3:$BK$21,0))
A4: ='Alle lijsten'!A38 -> 0 | B4: ='Alle lijsten'!B38 -> 0 | C4: ='Alle lijsten'!#REF! -> #REF! | AD4: =SUM(E4:AB4)*4+(D4)+(AC4)*20 -> 0 | AF4: =SUM(AD4+AE4) -> 0 | BG4: =SUM(AH4:BE4)*4+(AG4)+(BF4)*20 -> 0 | BI4: =BG4+BH4 -> 0 | BJ4: =AF4 -> 0 | BK4: =BI4+BJ4 -> 0 | BL4: =IF(BK4=0,"",RANK(BK4,$BK$3:$BK$21,1)-COUNTIF($BK$3:$BK$21,0))
A5: ='Alle lijsten'!A39 -> 0 | B5: ='Alle lijsten'!B39 -> 0 | C5: ='Alle lijsten'!#REF! -> #REF! | AD5: =SUM(E5:AB5)*4+(D5)+(AC5)*20 -> 0 | AF5: =SUM(AD5+AE5) -> 0 | BG5: =SUM(AH5:BE5)*4+(AG5)+(BF5)*20 -> 0 | BI5: =BG5+BH5 -> 0 | BJ5: =AF5 -> 0 | BK5: =BI5+BJ5 -> 0 | BL5: =IF(BK5=0,"",RANK(BK5,$BK$3:$BK$21,1)-COUNTIF($BK$3:$BK$21,0))
A6: ='Alle lijsten'!A40 -> 0 | B6: ='Alle lijsten'!B40 -> 0 | C6: ='Alle lijsten'!#REF! -> #REF! | AD6: =SUM(E6:AB6)*4+(D6)+(AC6)*20 -> 0 | AF6: =SUM(AD6+AE6) -> 0 | BG6: =SUM(AH6:BE6)*4+(AG6)+(BF6)*20 -> 0 | BI6: =BG6+BH6 -> 0 | BJ6: =AF6 -> 0 | BK6: =BI6+BJ6 -> 0 | BL6: =IF(BK6=0,"",RANK(BK6,$BK$3:$BK$21,1)-COUNTIF($BK$3:$BK$21,0))
A7: ='Alle lijsten'!A41 -> 0 | B7: ='Alle lijsten'!B41 -> 0 | C7: ='Alle lijsten'!#REF! -> #REF! | AD7: =SUM(E7:AB7)*4+(D7)+(AC7)*20 -> 0 | AF7: =SUM(AD7+AE7) -> 0 | BG7: =SUM(AH7:BE7)*4+(AG7)+(BF7)*20 -> 0 | BI7: =BG7+BH7 -> 0 | BJ7: =AF7 -> 0 | BK7: =BI7+BJ7 -> 0 | BL7: =IF(BK7=0,"",RANK(BK7,$BK$3:$BK$21,1)-COUNTIF($BK$3:$BK$21,0))
A8: ='Alle lijsten'!A42 -> 0 | B8: ='Alle lijsten'!B42 -> 0 | C8: ='Alle lijsten'!#REF! -> #REF! | AD8: =SUM(E8:AB8)*4+(D8)+(AC8)*20 -> 0 | AF8: =SUM(AD8+AE8) -> 0 | BG8: =SUM(AH8:BE8)*4+(AG8)+(BF8)*20 -> 0 | BI8: =BG8+BH8 -> 0 | BJ8: =AF8 -> 0 | BK8: =BI8+BJ8 -> 0 | BL8: =IF(BK8=0,"",RANK(BK8,$BK$3:$BK$21,1)-COUNTIF($BK$3:$BK$21,0))
A9: ='Alle lijsten'!A43 -> 0 | B9: ='Alle lijsten'!B43 -> 0 | C9: ='Alle lijsten'!#REF! -> #REF! | AD9: =SUM(E9:AB9)*4+(D9)+(AC9)*20 -> 0 | AF9: =SUM(AD9+AE9) -> 0 | BG9: =SUM(AH9:BE9)*4+(AG9)+(BF9)*20 -> 0 | BI9: =BG9+BH9 -> 0 | BJ9: =AF9 -> 0 | BK9: =BI9+BJ9 -> 0 | BL9: =IF(BK9=0,"",RANK(BK9,$BK$3:$BK$21,1)-COUNTIF($BK$3:$BK$21,0))
A10: ='Alle lijsten'!A44 -> 0 | B10: ='Alle lijsten'!B44 -> 0 | C10: ='Alle lijsten'!#REF! -> #REF! | AD10: =SUM(E10:AB10)*4+(D10)+(AC10)*20 -> 0 | AF10: =SUM(AD10+AE10) -> 0 | BG10: =SUM(AH10:BE10)*4+(AG10)+(BF10)*20 -> 0 | BI10: =BG10+BH10 -> 0 | BJ10: =AF10 -> 0 | BK10: =BI10+BJ10 -> 0 | BL10: =IF(BK10=0,"",RANK(BK10,$BK$3:$BK$21,1)-COUNTIF($BK$3:$BK$21,0))
A11: ='Alle lijsten'!A45 -> 0 | B11: ='Alle lijsten'!B45 -> 0 | C11: ='Alle lijsten'!#REF! -> #REF! | AD11: =SUM(E11:AB11)*4+(D11)+(AC11)*20 -> 0 | AF11: =SUM(AD11+AE11) -> 0 | BG11: =SUM(AH11:BE11)*4+(AG11)+(BF11)*20 -> 0 | BI11: =BG11+BH11 -> 0 | BJ11: =AF11 -> 0 | BK11: =BI11+BJ11 -> 0 | BL11: =IF(BK11=0,"",RANK(BK11,$BK$3:$BK$21,1)-COUNTIF($BK$3:$BK$21,0))
A12: ='Alle lijsten'!A46 -> 0 | B12: ='Alle lijsten'!B46 -> 0 | C12: ='Alle lijsten'!#REF! -> #REF! | AD12: =SUM(E12:AB12)*4+(D12)+(AC12)*20 -> 0 | AF12: =SUM(AD12+AE12) -> 0 | BG12: =SUM(AH12:BE12)*4+(AG12)+(BF12)*20 -> 0 | BI12: =BG12+BH12 -> 0 | BJ12: =AF12 -> 0 | BK12: =BI12+BJ12 -> 0 | BL12: =IF(BK12=0,"",RANK(BK12,$BK$3:$BK$21,1)-COUNTIF($BK$3:$BK$21,0))
A13: ='Alle lijsten'!A47 -> 0 | B13: ='Alle lijsten'!B47 -> 0 | C13: ='Alle lijsten'!#REF! -> #REF! | AD13: =SUM(E13:AB13)*4+(D13)+(AC13)*20 -> 0 | AF13: =SUM(AD13+AE13) -> 0 | BG13: =SUM(AH13:BE13)*4+(AG13)+(BF13)*20 -> 0 | BI13: =BG13+BH13 -> 0 | BJ13: =AF13 -> 0 | BK13: =BI13+BJ13 -> 0 | BL13: =IF(BK13=0,"",RANK(BK13,$BK$3:$BK$21,1)-COUNTIF($BK$3:$BK$21,0))
AD14: =SUM(E14:AB14)*4+(D14)+(AC14)*20 -> 0 | AF14: =SUM(AD14+AE14) -> 0 | BG14: =SUM(AH14:BE14)*4+(AG14)+(BF14)*20 -> 0 | BI14: =BG14+BH14 -> 0 | BJ14: =AF14 -> 0 | BK14: =BI14+BJ14 -> 0 | BL14: =IF(BK14=0,"",RANK(BK14,$BK$3:$BK$21,1)-COUNTIF($BK$3:$BK$21,0))
AD15: =SUM(E15:AB15)*4+(D15)+(AC15)*20 -> 0 | AF15: =SUM(AD15+AE15) -> 0 | BG15: =SUM(AH15:BE15)*4+(AG15)+(BF15)*20 -> 0 | BI15: =BG15+BH15 -> 0 | BJ15: =AF15 -> 0 | BK15: =BI15+BJ15 -> 0 | BL15: =IF(BK15=0,"",RANK(BK15,$BK$3:$BK$21,1)-COUNTIF($BK$3:$BK$21,0))
AD16: =SUM(E16:AB16)*4+(D16)+(AC16)*20 -> 0 | AF16: =SUM(AD16+AE16) -> 0 | BG16: =SUM(AH16:BE16)*4+(AG16)+(BF16)*20 -> 0 | BI16: =BG16+BH16 -> 0 | BJ16: =AF16 -> 0 | BK16: =BI16+BJ16 -> 0 | BL16: =IF(BK16=0,"",RANK(BK16,$BK$3:$BK$21,1)-COUNTIF($BK$3:$BK$21,0))
AD17: =SUM(E17:AB17)*4+(D17)+(AC17)*20 -> 0 | AF17: =SUM(AD17+AE17) -> 0 | BG17: =SUM(AH17:BE17)*4+(AG17)+(BF17)*20 -> 0 | BI17: =BG17+BH17 -> 0 | BJ17: =AF17 -> 0 | BK17: =BI17+BJ17 -> 0 | BL17: =IF(BK17=0,"",RANK(BK17,$BK$3:$BK$21,1)-COUNTIF($BK$3:$BK$21,0))
AD18: =SUM(E18:AB18)*4+(D18)+(AC18)*20 -> 0 | AF18: =SUM(AD18+AE18) -> 0 | BG18: =SUM(AH18:BE18)*4+(AG18)+(BF18)*20 -> 0 | BI18: =BG18+BH18 -> 0 | BJ18: =AF18 -> 0 | BK18: =BI18+BJ18 -> 0 | BL18: =IF(BK18=0,"",RANK(BK18,$BK$3:$BK$21,1)-COUNTIF($BK$3:$BK$21,0))
AD19: =SUM(E19:AB19)*4+(D19)+(AC19)*20 -> 0 | AF19: =SUM(AD19+AE19) -> 0 | BG19: =SUM(AH19:BE19)*4+(AG19)+(BF19)*20 -> 0 | BI19: =BG19+BH19 -> 0 | BJ19: =AF19 -> 0 | BK19: =BI19+BJ19 -> 0 | BL19: =IF(BK19=0,"",RANK(BK19,$BK$3:$BK$21,1)-COUNTIF($BK$3:$BK$21,0))
AD20: =SUM(E20:AB20)*4+(D20)+(AC20)*20 -> 0 | AF20: =SUM(AD20+AE20) -> 0 | BG20: =SUM(AH20:BE20)*4+(AG20)+(BF20)*20 -> 0 | BI20: =BG20+BH20 -> 0 | BJ20: =BH20 -> 0 | BK20: =BI20+BJ20 -> 0 | BL20: =IF(BK20=0,"",RANK(BK20,$BK$3:$BK$21,1)-COUNTIF($BK$3:$BK$21,0))

Sheet Shet
B1: SHET | D1: EERSTE MANCHE | AJ1: TWEEDE MANCHE
A2: Startnummer | B2: Menner / menster | C2: Namen | E2: ='Alle lijsten'!I6 -> 1 | F2: ='Alle lijsten'!J6 -> 2 | G2: ='Alle lijsten'!K6 -> 3 | H2: ='Alle lijsten'!L6 -> 4 | I2: ='Alle lijsten'!M6 -> 5 | J2: ='Alle lijsten'!N6 -> 6a | K2: ='Alle lijsten'!O6 -> 6b | L2: ='Alle lijsten'!P6 -> 6c | ... AB2: ='Alle lijsten'!AF6 -> 14e | AC2: pf | AD2: Strafsec. 1e manche | AE2: Tijd 1e manche | AF2: Totaal 1e manche | AH2: ='Alle lijsten'!I6 -> 1 | AI2: ='Alle lijsten'!J6 -> 2 | AJ2: ='Alle lijsten'!K6 -> 3 | AK2: ='Alle lijsten'!L6 -> 4 | AL2: ='Alle lijsten'!M6 -> 5 | AM2: ='Alle lijsten'!N6 -> 6a | AN2: ='Alle lijsten'!O6 -> 6b | AO2: ='Alle lijsten'!P6 -> 6c | ... BE2: ='Alle lijsten'!AF6 -> 14e | BF2: pf | BG2: Strafsec. 2e manche | BH2: Tijd 2e manche | BI2: Totaal 2e manche | BJ2: Totaal 1e manche | BK2: TOTAAL 1e & 2e MANCHE | BL2: KLASSERING
A3: ='Alle lijsten'!A50 -> 0 | B3: ='Alle lijsten'!B50 -> 0 | C3: ='Alle lijsten'!#REF! -> #REF! | AD3: =SUM(E3:AB3)*4+(D3)+(AC3)*20 -> 0 | AF3: =SUM(AD3+AE3) -> 0 | BG3: =SUM(AH3:BE3)*4+(AG3)+(BF3)*20 -> 0 | BI3: =BG3+BH3 -> 0 | BJ3: =AF3 -> 0 | BK3: =BI3+BJ3 -> 0 | BL3: =IF(BK3=0,"",RANK(BK3,$BK$3:$BK$21,1)-COUNTIF($BK$3:$BK$21,0))
A4: ='Alle lijsten'!A51 -> 0 | B4: ='Alle lijsten'!B51 -> 0 | C4: ='Alle lijsten'!#REF! -> #REF! | AD4: =SUM(E4:AB4)*4+(D4)+(AC4)*20 -> 0 | AF4: =SUM(AD4+AE4) -> 0 | BG4: =SUM(AH4:BE4)*4+(AG4)+(BF4)*20 -> 0 | BI4: =BG4+BH4 -> 0 | BJ4: =AF4 -> 0 | BK4: =BI4+BJ4 -> 0 | BL4: =IF(BK4=0,"",RANK(BK4,$BK$3:$BK$21,1)-COUNTIF($BK$3:$BK$21,0))
A5: ='Alle lijsten'!A52 -> 0 | B5: ='Alle lijsten'!B52 -> 0 | C5: ='Alle lijsten'!#REF! -> #REF! | AD5: =SUM(E5:AB5)*4+(D5)+(AC5)*20 -> 0 | AF5: =SUM(AD5+AE5) -> 0 | BG5: =SUM(AH5:BE5)*4+(AG5)+(BF5)*20 -> 0 | BI5: =BG5+BH5 -> 0 | BJ5: =AF5 -> 0 | BK5: =BI5+BJ5 -> 0 | BL5: =IF(BK5=0,"",RANK(BK5,$BK$3:$BK$21,1)-COUNTIF($BK$3:$BK$21,0))
A6: ='Alle lijsten'!A53 -> 0 | B6: ='Alle lijsten'!B53 -> 0 | C6: ='Alle lijsten'!#REF! -> #REF! | AD6: =SUM(E6:AB6)*4+(D6)+(AC6)*20 -> 0 | AF6: =SUM(AD6+AE6) -> 0 | BG6: =SUM(AH6:BE6)*4+(AG6)+(BF6)*20 -> 0 | BI6: =BG6+BH6 -> 0 | BJ6: =AF6 -> 0 | BK6: =BI6+BJ6 -> 0 | BL6: =IF(BK6=0,"",RANK(BK6,$BK$3:$BK$21,1)-COUNTIF($BK$3:$BK$21,0))
A7: ='Alle lijsten'!A54 -> 0 | B7: ='Alle lijsten'!B54 -> 0 | C7: ='Alle lijsten'!#REF! -> #REF! | AD7: =SUM(E7:AB7)*4+(D7)+(AC7)*20 -> 0 | AF7: =SUM(AD7+AE7) -> 0 | BG7: =SUM(AH7:BE7)*4+(AG7)+(BF7)*20 -> 0 | BI7: =BG7+BH7 -> 0 | BJ7: =AF7 -> 0 | BK7: =BI7+BJ7 -> 0 | BL7: =IF(BK7=0,"",RANK(BK7,$BK$3:$BK$21,1)-COUNTIF($BK$3:$BK$21,0))
A8: ='Alle lijsten'!A55 -> 0 | B8: ='Alle lijsten'!B55 -> 0 | C8: ='Alle lijsten'!#REF! -> #REF! | AD8: =SUM(E8:AB8)*4+(D8)+(AC8)*20 -> 0 | AF8: =SUM(AD8+AE8) -> 0 | BG8: =SUM(AH8:BE8)*4+(AG8)+(BF8)*20 -> 0 | BI8: =BG8+BH8 -> 0 | BJ8: =AF8 -> 0 | BK8: =BI8+BJ8 -> 0 | BL8: =IF(BK8=0,"",RANK(BK8,$BK$3:$BK$21,1)-COUNTIF($BK$3:$BK$21,0))
A9: ='Alle lijsten'!A56 -> 0 | B9: ='Alle lijsten'!B56 -> 0 | C9: ='Alle lijsten'!#REF! -> #REF! | AD9: =SUM(E9:AB9)*4+(D9)+(AC9)*20 -> 0 | AF9: =SUM(AD9+AE9) -> 0 | BG9: =SUM(AH9:BE9)*4+(AG9)+(BF9)*20 -> 0 | BI9: =BG9+BH9 -> 0 | BJ9: =AF9 -> 0 | BK9: =BI9+BJ9 -> 0 | BL9: =IF(BK9=0,"",RANK(BK9,$BK$3:$BK$21,1)-COUNTIF($BK$3:$BK$21,0))
A10: ='Alle lijsten'!A57 -> 0 | B10: ='Alle lijsten'!B57 -> 0 | C10: ='Alle lijsten'!#REF! -> #REF! | AD10: =SUM(E10:AB10)*4+(D10)+(AC10)*20 -> 0 | AF10: =SUM(AD10+AE10) -> 0 | BG10: =SUM(AH10:BE10)*4+(AG10)+(BF10)*20 -> 0 | BI10: =BG10+BH10 -> 0 | BJ10: =AF10 -> 0 | BK10: =BI10+BJ10 -> 0 | BL10: =IF(BK10=0,"",RANK(BK10,$BK$3:$BK$21,1)-COUNTIF($BK$3:$BK$21,0))
A11: ='Alle lijsten'!A58 -> 0 | B11: ='Alle lijsten'!B58 -> 0 | C11: ='Alle lijsten'!#REF! -> #REF! | AD11: =SUM(E11:AB11)*4+(D11)+(AC11)*20 -> 0 | AF11: =SUM(AD11+AE11) -> 0 | BG11: =SUM(AH11:BE11)*4+(AG11)+(BF11)*20 -> 0 | BI11: =BG11+BH11 -> 0 | BJ11: =AF11 -> 0 | BK11: =BI11+BJ11 -> 0 | BL11: =IF(BK11=0,"",RANK(BK11,$BK$3:$BK$21,1)-COUNTIF($BK$3:$BK$21,0))
A12: ='Alle lijsten'!A59 -> 0 | B12: ='Alle lijsten'!B59 -> 0 | C12: ='Alle lijsten'!#REF! -> #REF! | AD12: =SUM(E12:AB12)*4+(D12)+(AC12)*20 -> 0 | AF12: =SUM(AD12+AE12) -> 0 | BG12: =SUM(AH12:BE12)*4+(AG12)+(BF12)*20 -> 0 | BI12: =BG12+BH12 -> 0 | BJ12: =AF12 -> 0 | BK12: =BI12+BJ12 -> 0 | BL12: =IF(BK12=0,"",RANK(BK12,$BK$3:$BK$21,1)-COUNTIF($BK$3:$BK$21,0))
A13: ='Alle lijsten'!A60 -> 0 | B13: ='Alle lijsten'!B60 -> 0 | C13: ='Alle lijsten'!#REF! -> #REF! | AD13: =SUM(E13:AB13)*4+(D13)+(AC13)*20 -> 0 | AF13: =SUM(AD13+AE13) -> 0 | BG13: =SUM(AH13:BE13)*4+(AG13)+(BF13)*20 -> 0 | BI13: =BG13+BH13 -> 0 | BJ13: =AF13 -> 0 | BK13: =BI13+BJ13 -> 0 | BL13: =IF(BK13=0,"",RANK(BK13,$BK$3:$BK$21,1)-COUNTIF($BK$3:$BK$21,0))
A14: ='Alle lijsten'!A61 -> 0 | B14: ='Alle lijsten'!B61 -> 0 | C14: ='Alle lijsten'!#REF! -> #REF! | AD14: =SUM(E14:AB14)*4+(D14)+(AC14)*20 -> 0 | AF14: =SUM(AD14+AE14) -> 0 | BG14: =SUM(AH14:BE14)*4+(AG14)+(BF14)*20 -> 0 | BI14: =BG14+BH14 -> 0 | BJ14: =AF14 -> 0 | BK14: =BI14+BJ14 -> 0 | BL14: =IF(BK14=0,"",RANK(BK14,$BK$3:$BK$21,1)-COUNTIF($BK$3:$BK$21,0))
A15: ='Alle lijsten'!A62 -> 0 | B15: ='Alle lijsten'!B62 -> 0 | C15: ='Alle lijsten'!#REF! -> #REF! | AD15: =SUM(E15:AB15)*4+(D15)+(AC15)*20 -> 0 | AF15: =SUM(AD15+AE15) -> 0 | BG15: =SUM(AH15:BE15)*4+(AG15)+(BF15)*20 -> 0 | BI15: =BG15+BH15 -> 0 | BJ15: =AF15 -> 0 | BK15: =BI15+BJ15 -> 0 | BL15: =IF(BK15=0,"",RANK(BK15,$BK$3:$BK$21,1)-COUNTIF($BK$3:$BK$21,0))
AD16: =SUM(E16:AB16)*4+(D16)+(AC16)*20 -> 0 | AF16: =SUM(AD16+AE16) -> 0 | BG16: =SUM(AH16:BE16)*4+(AG16)+(BF16)*20 -> 0 | BI16: =BG16+BH16 -> 0 | BJ16: =AF16 -> 0 | BK16: =BI16+BJ16 -> 0 | BL16: =IF(BK16=0,"",RANK(BK16,$BK$3:$BK$21,1)-COUNTIF($BK$3:$BK$21,0))
AD17: =SUM(E17:AB17)*4+(D17)+(AC17)*20 -> 0 | AF17: =SUM(AD17+AE17) -> 0 | BG17: =SUM(AH17:BE17)*4+(AG17)+(BF17)*20 -> 0 | BI17: =BG17+BH17 -> 0 | BJ17: =AF17 -> 0 | BK17: =BI17+BJ17 -> 0 | BL17: =IF(BK17=0,"",RANK(BK17,$BK$3:$BK$21,1)-COUNTIF($BK$3:$BK$21,0))
AD18: =SUM(E18:AB18)*4+(D18)+(AC18)*20 -> 0 | AF18: =SUM(AD18+AE18) -> 0 | BG18: =SUM(AH18:BE18)*4+(AG18)+(BF18)*20 -> 0 | BI18: =BG18+BH18 -> 0 | BJ18: =AF18 -> 0 | BK18: =BI18+BJ18 -> 0 | BL18: =IF(BK18=0,"",RANK(BK18,$BK$3:$BK$21,1)-COUNTIF($BK$3:$BK$21,0))
AD19: =SUM(E19:AB19)*4+(D19)+(AC19)*20 -> 0 | AF19: =SUM(AD19+AE19) -> 0 | BG19: =SUM(AH19:BE19)*4+(AG19)+(BF19)*20 -> 0 | BI19: =BG19+BH19 -> 0 | BJ19: =AF19 -> 0 | BK19: =BI19+BJ19 -> 0 | BL19: =IF(BK19=0,"",RANK(BK19,$BK$3:$BK$21,1)-COUNTIF($BK$3:$BK$21,0))
AD20: =SUM(E20:AB20)*4+(D20)+(AC20)*20 -> 0 | AF20: =SUM(AD20+AE20) -> 0 | BG20: =SUM(AH20:BE20)*4+(AG20)+(BF20)*20 -> 0 | BI20: =BG20+BH20 -> 0 | BJ20: =AF20 -> 0 | BK20: =BI20+BJ20 -> 0 | BL20: =IF(BK20=0,"",RANK(BK20,$BK$3:$BK$21,1)-COUNTIF($BK$3:$BK$21,0))
BJ21: =AF21 -> 0

Sheet Jeugd
B1: Jeugd | C1: EERSTE MANCHE | AL1: TWEEDE MANCHE
A2: KLASSERING | B2: Menner / menster | D2: ='Alle lijsten'!I6 -> 1 | E2: ='Alle lijsten'!J6 -> 2 | F2: ='Alle lijsten'!K6 -> 3 | G2: ='Alle lijsten'!L6 -> 4 | H2: ='Alle lijsten'!M6 -> 5 | I2: ='Alle lijsten'!N6 -> 6a | J2: ='Alle lijsten'!O6 -> 6b | K2: ='Alle lijsten'!P6 -> 6c | ... AA2: ='Alle lijsten'!AF6 -> 14e | AB2: 15 | AC2: 16 | AD2: 17 | AE2: pf | AF2: Strafsec. 1e manche | AG2: Tijd 1e manche | AH2: Totaal 1e manche | AJ2: ='Alle lijsten'!I6 -> 1 | AK2: ='Alle lijsten'!J6 -> 2 | AL2: ='Alle lijsten'!K6 -> 3 | AM2: ='Alle lijsten'!L6 -> 4 | AN2: ='Alle lijsten'!M6 -> 5 | AO2: ='Alle lijsten'!N6 -> 6a | AP2: ='Alle lijsten'!O6 -> 6b | AQ2: ='Alle lijsten'!P6 -> 6c | ... BG2: ='Alle lijsten'!AF6 -> 14e | BH2: 15 | BI2: 16 | BJ2: 17 | BK2: pf | BL2: Strafsec. 2e manche | BM2: Tijd 2e manche | BN2: Totaal 2e manche | BO2: Totaal 1e manche | BP2: TOTAAL 1e & 2e MANCHE
A3: =IF(BP3=0,"",RANK(BP3,$BP$3:$BP$21,1)-COUNTIF($BP$3:$BP$21,0)) -> 1 | B3: Xavyena Molenschot | AF3: =SUM(D3:AD3)*4+(C3)+(AE3)*20 -> 0 | AG3: 279.15 | AH3: =SUM(AF3+AG3) -> 279.15 | BL3: =SUM(AJ3:BJ3)*4+(AI3)+(BK3)*20 -> 0 | BM3: 271.36 | BN3: =BL3+BM3 -> 271.36 | BO3: =AH3 -> 279.15 | BP3: =BN3+BO3 -> 550.51
A4: =IF(BP4=0,"",RANK(BP4,$BP$3:$BP$21,1)-COUNTIF($BP$3:$BP$21,0)) -> 2 | B4: ='Alle lijsten'!B67 -> Chevano Marijnisen | T4: 1 | AF4: =SUM(D4:AD4)*4+(C4)+(AE4)*20 -> 4 | AG4: 288.43 | AH4: =SUM(AF4+AG4) -> 292.43 | BL4: =SUM(AJ4:BJ4)*4+(AI4)+(BK4)*20 -> 0 | BM4: 263.46 | BN4: =BL4+BM4 -> 263.46 | BO4: =AH4 -> 292.43 | BP4: =BN4+BO4 -> 555.89
A5: =IF(BP5=0,"",RANK(BP5,$BP$3:$BP$21,1)-COUNTIF($BP$3:$BP$21,0)) -> 3 | B5: ='Alle lijsten'!B65 -> Jill Riemslag | AF5: =SUM(D5:AD5)*4+(C5)+(AE5)*20 -> 0 | AG5: 311.02 | AH5: =SUM(AF5+AG5) -> 311.02 | BL5: =SUM(AJ5:BJ5)*4+(AI5)+(BK5)*20 -> 0 | BM5: 258.3 | BN5: =BL5+BM5 -> 258.3 | BO5: =AH5 -> 311.02 | BP5: =BN5+BO5 -> 569.32
A6: =IF(BP6=0,"",RANK(BP6,$BP$3:$BP$21,1)-COUNTIF($BP$3:$BP$21,0)) | B6: ='Alle lijsten'!B68 -> 0 | AF6: =SUM(D6:AD6)*4+(C6)+(AE6)*20 -> 0 | AH6: =SUM(AF6+AG6) -> 0 | BL6: =SUM(AJ6:BJ6)*4+(AI6)+(BK6)*20 -> 0 | BN6: =BL6+BM6 -> 0 | BO6: =AH6 -> 0 | BP6: =BN6+BO6 -> 0
A7: =IF(BP7=0,"",RANK(BP7,$BP$3:$BP$21,1)-COUNTIF($BP$3:$BP$21,0)) | B7: ='Alle lijsten'!B69 -> 0 | AF7: =SUM(D7:AD7)*4+(C7)+(AE7)*20 -> 0 | AH7: =SUM(AF7+AG7) -> 0 | BL7: =SUM(AJ7:BJ7)*4+(AI7)+(BK7)*20 -> 0 | BN7: =BL7+BM7 -> 0 | BO7: =AH7 -> 0 | BP7: =BN7+BO7 -> 0
A8: =IF(BP8=0,"",RANK(BP8,$BP$3:$BP$21,1)-COUNTIF($BP$3:$BP$21,0)) | B8: ='Alle lijsten'!B70 -> 0 | AF8: =SUM(D8:AD8)*4+(C8)+(AE8)*20 -> 0 | AH8: =SUM(AF8+AG8) -> 0 | BL8: =SUM(AJ8:BJ8)*4+(AI8)+(BK8)*20 -> 0 | BN8: =BL8+BM8 -> 0 | BO8: =AH8 -> 0 | BP8: =BN8+BO8 -> 0
A9: =IF(BP9=0,"",RANK(BP9,$BP$3:$BP$21,1)-COUNTIF($BP$3:$BP$21,0)) | B9: ='Alle lijsten'!B71 -> 0 | AF9: =SUM(D9:AD9)*4+(C9)+(AE9)*20 -> 0 | AH9: =SUM(AF9+AG9) -> 0 | BL9: =SUM(AJ9:BJ9)*4+(AI9)+(BK9)*20 -> 0 | BN9: =BL9+BM9 -> 0 | BO9: =AH9 -> 0 | BP9: =BN9+BO9 -> 0
A10: =IF(BP10=0,"",RANK(BP10,$BP$3:$BP$21,1)-COUNTIF($BP$3:$BP$21,0)) | B10: ='Alle lijsten'!B72 -> 0 | AF10: =SUM(D10:AD10)*4+(C10)+(AE10)*20 -> 0 | AH10: =SUM(AF10+AG10) -> 0 | BL10: =SUM(AJ10:BJ10)*4+(AI10)+(BK10)*20 -> 0 | BN10: =BL10+BM10 -> 0 | BO10: =AH10 -> 0 | BP10: =BN10+BO10 -> 0
A11: =IF(BP11=0,"",RANK(BP11,$BP$3:$BP$21,1)-COUNTIF($BP$3:$BP$21,0)) | B11: ='Alle lijsten'!B73 -> 0 | AF11: =SUM(D11:AD11)*4+(C11)+(AE11)*20 -> 0 | AH11: =SUM(AF11+AG11) -> 0 | BL11: =SUM(AJ11:BJ11)*4+(AI11)+(BK11)*20 -> 0 | BN11: =BL11+BM11 -> 0 | BO11: =AH11 -> 0 | BP11: =BN11+BO11 -> 0
A12: =IF(BP12=0,"",RANK(BP12,$BP$3:$BP$21,1)-COUNTIF($BP$3:$BP$21,0)) | B12: ='Alle lijsten'!B74 -> 0 | AF12: =SUM(D12:AD12)*4+(C12)+(AE12)*20 -> 0 | AH12: =SUM(AF12+AG12) -> 0 | BL12: =SUM(AJ12:BJ12)*4+(AI12)+(BK12)*20 -> 0 | BN12: =BL12+BM12 -> 0 | BO12: =AH12 -> 0 | BP12: =BN12+BO12 -> 0
A13: =IF(BP13=0,"",RANK(BP13,$BP$3:$BP$21,1)-COUNTIF($BP$3:$BP$21,0)) | B13: ='Alle lijsten'!B75 -> 0 | AF13: =SUM(D13:AD13)*4+(C13)+(AE13)*20 -> 0 | AH13: =SUM(AF13+AG13) -> 0 | BL13: =SUM(AJ13:BJ13)*4+(AI13)+(BK13)*20 -> 0 | BN13: =BL13+BM13 -> 0 | BO13: =AH13 -> 0 | BP13: =BN13+BO13 -> 0
A14: =IF(BP14=0,"",RANK(BP14,$BP$3:$BP$21,1)-COUNTIF($BP$3:$BP$21,0)) | B14: ='Alle lijsten'!B76 -> 0 | AF14: =SUM(D14:AD14)*4+(C14)+(AE14)*20 -> 0 | AH14: =SUM(AF14+AG14) -> 0 | BL14: =SUM(AJ14:BJ14)*4+(AI14)+(BK14)*20 -> 0 | BN14: =BL14+BM14 -> 0 | BO14: =AH14 -> 0 | BP14: =BN14+BO14 -> 0
A15: =IF(BP15=0,"",RANK(BP15,$BP$3:$BP$21,1)-COUNTIF($BP$3:$BP$21,0)) | B15: ='Alle lijsten'!B77 -> 0 | AF15: =SUM(D15:AD15)*4+(C15)+(AE15)*20 -> 0 | AH15: =SUM(AF15+AG15) -> 0 | BL15: =SUM(AJ15:BJ15)*4+(AI15)+(BK15)*20 -> 0 | BN15: =BL15+BM15 -> 0 | BO15: =AH15 -> 0 | BP15: =BN15+BO15 -> 0
A16: =IF(BP16=0,"",RANK(BP16,$BP$3:$BP$21,1)-COUNTIF($BP$3:$BP$21,0)) | B16: ='Alle lijsten'!B78 -> 0 | AF16: =SUM(D16:AD16)*4+(C16)+(AE16)*20 -> 0 | AH16: =SUM(AF16+AG16) -> 0 | BL16: =SUM(AJ16:BJ16)*4+(AI16)+(BK16)*20 -> 0 | BN16: =BL16+BM16 -> 0 | BO16: =AH16 -> 0 | BP16: =BN16+BO16 -> 0
A17: =IF(BP17=0,"",RANK(BP17,$BP$3:$BP$21,1)-COUNTIF($BP$3:$BP$21,0)) | AF17: =SUM(D17:AD17)*4+(C17)+(AE17)*20 -> 0 | AH17: =SUM(AF17+AG17) -> 0 | BL17: =SUM(AJ17:BJ17)*4+(AI17)+(BK17)*20 -> 0 | BN17: =BL17+BM17 -> 0 | BO17: =AH17 -> 0 | BP17: =BN17+BO17 -> 0
A18: =IF(BP18=0,"",RANK(BP18,$BP$3:$BP$21,1)-COUNTIF($BP$3:$BP$21,0)) | AF18: =SUM(D18:AD18)*4+(C18)+(AE18)*20 -> 0 | AH18: =SUM(AF18+AG18) -> 0 | BL18: =SUM(AJ18:BJ18)*4+(AI18)+(BK18)*20 -> 0 | BN18: =BL18+BM18 -> 0 | BO18: =AH18 -> 0 | BP18: =BN18+BO18 -> 0
A19: =IF(BP19=0,"",RANK(BP19,$BP$3:$BP$21,1)-COUNTIF($BP$3:$BP$21,0)) | AF19: =SUM(D19:AD19)*4+(C19)+(AE19)*20 -> 0 | AH19: =SUM(AF19+AG19) -> 0 | BL19: =SUM(AJ19:BJ19)*4+(AI19)+(BK19)*20 -> 0 | BN19: =BL19+BM19 -> 0 | BO19: =AH19 -> 0 | BP19: =BN19+BO19 -> 0
A20: =IF(BP20=0,"",RANK(BP20,$BP$3:$BP$21,1)-COUNTIF($BP$3:$BP$21,0)) | AF20: =SUM(D20:AD20)*4+(C20)+(AE20)*20 -> 0 | AH20: =SUM(AF20+AG20) -> 0 | BL20: =SUM(AJ20:BJ20)*4+(AI20)+(BK20)*20 -> 0 | BN20: =BL20+BM20 -> 0 | BO20: =AH20 -> 0 | BP20: =BN20+BO20 -> 0

Sheet OHZ
B1: OHZ | D1: EERSTE MANCHE | AJ1: TWEEDE MANCHE
A2: Startnummer | B2: Menner / menster | C2: Woonplaats | E2: ='Alle lijsten'!I6 -> 1 | F2: ='Alle lijsten'!J6 -> 2 | G2: ='Alle lijsten'!K6 -> 3 | H2: ='Alle lijsten'!L6 -> 4 | I2: ='Alle lijsten'!M6 -> 5 | J2: ='Alle lijsten'!N6 -> 6a | K2: ='Alle lijsten'!O6 -> 6b | L2: ='Alle lijsten'!P6 -> 6c | ... AB2: ='Alle lijsten'!AF6 -> 14e | AC2: pf | AD2: Strafsec. 1e manche | AE2: Tijd 1e manche | AF2: Totaal 1e manche | AH2: ='Alle lijsten'!I6 -> 1 | AI2: ='Alle lijsten'!J6 -> 2 | AJ2: ='Alle lijsten'!K6 -> 3 | AK2: ='Alle lijsten'!L6 -> 4 | AL2: ='Alle lijsten'!M6 -> 5 | AM2: ='Alle lijsten'!N6 -> 6a | AN2: ='Alle lijsten'!O6 -> 6b | AO2: ='Alle lijsten'!P6 -> 6c | ... BE2: ='Alle lijsten'!AF6 -> 14e | BF2: PF | BG2: Strafsec. 2e manche | BH2: Tijd 2e manche | BI2: Totaal 2e manche | BJ2: Totaal 1e manche | BK2: TOTAAL 1e & 2e MANCHE | BL2: KLASSERING
A3: ='Alle lijsten'!A202 -> 0 | B3: ='Alle lijsten'!B202 -> 0 | C3: ='Alle lijsten'!#REF! -> #REF! | AD3: =SUM(E3:AB3)*4+(D3)+(AC3)*20 -> 0 | AF3: =SUM(AD3+AE3) -> 0 | BG3: =SUM(AH3:BE3)*4+(AG3)+(BF3)*20 -> 0 | BI3: =BG3+BH3 -> 0 | BJ3: =AF3 -> 0 | BK3: =BI3+BJ3 -> 0 | BL3: =IF(BK3=0,"",RANK(BK3,$BK$3:$BK$21,1)-COUNTIF($BK$3:$BK$21,0))
A4: ='Alle lijsten'!A203 -> 0 | B4: ='Alle lijsten'!B203 -> 0 | C4: ='Alle lijsten'!#REF! -> #REF! | AD4: =SUM(E4:AB4)*4+(D4)+(AC4)*20 -> 0 | AF4: =SUM(AD4+AE4) -> 0 | BG4: =SUM(AH4:BE4)*4+(AG4)+(BF4)*20 -> 0 | BI4: =BG4+BH4 -> 0 | BJ4: =AF4 -> 0 | BK4: =BI4+BJ4 -> 0 | BL4: =IF(BK4=0,"",RANK(BK4,$BK$3:$BK$21,1)-COUNTIF($BK$3:$BK$21,0))
A5: ='Alle lijsten'!A204 -> 0 | B5: ='Alle lijsten'!B204 -> 0 | C5: ='Alle lijsten'!#REF! -> #REF! | AD5: =SUM(E5:AB5)*4+(D5)+(AC5)*20 -> 0 | AF5: =SUM(AD5+AE5) -> 0 | BG5: =SUM(AH5:BE5)*4+(AG5)+(BF5)*20 -> 0 | BI5: =BG5+BH5 -> 0 | BJ5: =AF5 -> 0 | BK5: =BI5+BJ5 -> 0 | BL5: =IF(BK5=0,"",RANK(BK5,$BK$3:$BK$21,1)-COUNTIF($BK$3:$BK$21,0))
A6: ='Alle lijsten'!A205 -> 0 | B6: ='Alle lijsten'!B205 -> 0 | C6: ='Alle lijsten'!#REF! -> #REF! | AD6: =SUM(E6:AB6)*4+(D6)+(AC6)*20 -> 0 | AF6: =SUM(AD6+AE6) -> 0 | BG6: =SUM(AH6:BE6)*4+(AG6)+(BF6)*20 -> 0 | BI6: =BG6+BH6 -> 0 | BJ6: =AF6 -> 0 | BK6: =BI6+BJ6 -> 0 | BL6: =IF(BK6=0,"",RANK(BK6,$BK$3:$BK$21,1)-COUNTIF($BK$3:$BK$21,0))
A7: ='Alle lijsten'!A206 -> 0 | B7: ='Alle lijsten'!B206 -> 0 | C7: ='Alle lijsten'!#REF! -> #REF! | AD7: =SUM(E7:AB7)*4+(D7)+(AC7)*20 -> 0 | AF7: =SUM(AD7+AE7) -> 0 | BG7: =SUM(AH7:BE7)*4+(AG7)+(BF7)*20 -> 0 | BI7: =BG7+BH7 -> 0 | BJ7: =AF7 -> 0 | BK7: =BI7+BJ7 -> 0 | BL7: =IF(BK7=0,"",RANK(BK7,$BK$3:$BK$21,1)-COUNTIF($BK$3:$BK$21,0))
A8: ='Alle lijsten'!A207 -> 0 | B8: ='Alle lijsten'!B207 -> 0 | C8: ='Alle lijsten'!#REF! -> #REF! | AD8: =SUM(E8:AB8)*4+(D8)+(AC8)*20 -> 0 | AF8: =SUM(AD8+AE8) -> 0 | BG8: =SUM(AH8:BE8)*4+(AG8)+(BF8)*20 -> 0 | BI8: =BG8+BH8 -> 0 | BJ8: =AF8 -> 0 | BK8: =BI8+BJ8 -> 0 | BL8: =IF(BK8=0,"",RANK(BK8,$BK$3:$BK$21,1)-COUNTIF($BK$3:$BK$21,0))
A9: ='Alle lijsten'!A208 -> 0 | B9: ='Alle lijsten'!B208 -> 0 | C9: ='Alle lijsten'!#REF! -> #REF! | AD9: =SUM(E9:AB9)*4+(D9)+(AC9)*20 -> 0 | AF9: =SUM(AD9+AE9) -> 0 | BG9: =SUM(AH9:BE9)*4+(AG9)+(BF9)*20 -> 0 | BI9: =BG9+BH9 -> 0 | BJ9: =AF9 -> 0 | BK9: =BI9+BJ9 -> 0 | BL9: =IF(BK9=0,"",RANK(BK9,$BK$3:$BK$21,1)-COUNTIF($BK$3:$BK$21,0))
A10: ='Alle lijsten'!A209 -> 0 | B10: ='Alle lijsten'!B209 -> 0 | C10: ='Alle lijsten'!#REF! -> #REF! | AD10: =SUM(E10:AB10)*4+(D10)+(AC10)*20 -> 0 | AF10: =SUM(AD10+AE10) -> 0 | BG10: =SUM(AH10:BE10)*4+(AG10)+(BF10)*20 -> 0 | BI10: =BG10+BH10 -> 0 | BJ10: =AF10 -> 0 | BK10: =BI10+BJ10 -> 0 | BL10: =IF(BK10=0,"",RANK(BK10,$BK$3:$BK$21,1)-COUNTIF($BK$3:$BK$21,0))
A11: ='Alle lijsten'!A210 -> 0 | B11: ='Alle lijsten'!B210 -> 0 | C11: ='Alle lijsten'!#REF! -> #REF! | AD11: =SUM(E11:AB11)*4+(D11)+(AC11)*20 -> 0 | AF11: =SUM(AD11+AE11) -> 0 | BG11: =SUM(AH11:BE11)*4+(AG11)+(BF11)*20 -> 0 | BI11: =BG11+BH11 -> 0 | BJ11: =AF11 -> 0 | BK11: =BI11+BJ11 -> 0 | BL11: =IF(BK11=0,"",RANK(BK11,$BK$3:$BK$21,1)-COUNTIF($BK$3:$BK$21,0))
A12: ='Alle lijsten'!A211 -> 0 | B12: ='Alle lijsten'!B211 -> 0 | C12: ='Alle lijsten'!#REF! -> #REF! | AD12: =SUM(E12:AB12)*4+(D12)+(AC12)*20 -> 0 | AF12: =SUM(AD12+AE12) -> 0 | BG12: =SUM(AH12:BE12)*4+(AG12)+(BF12)*20 -> 0 | BI12: =BG12+BH12 -> 0 | BJ12: =AF12 -> 0 | BK12: =BI12+BJ12 -> 0 | BL12: =IF(BK12=0,"",RANK(BK12,$BK$3:$BK$21,1)-COUNTIF($BK$3:$BK$21,0))
A13: ='Alle lijsten'!A212 -> 0 | B13: ='Alle lijsten'!B212 -> 0 | C13: ='Alle lijsten'!#REF! -> #REF! | AD13: =SUM(E13:AB13)*4+(D13)+(AC13)*20 -> 0 | AF13: =SUM(AD13+AE13) -> 0 | BG13: =SUM(AH13:BE13)*4+(AG13)+(BF13)*20 -> 0 | BI13: =BG13+BH13 -> 0 | BJ13: =AF13 -> 0 | BK13: =BI13+BJ13 -> 0 | BL13: =IF(BK13=0,"",RANK(BK13,$BK$3:$BK$21,1)-COUNTIF($BK$3:$BK$21,0))
A14: ='Alle lijsten'!A213 -> 0 | B14: ='Alle lijsten'!B213 -> 0 | C14: ='Alle lijsten'!#REF! -> #REF! | AD14: =SUM(E14:AB14)*4+(D14)+(AC14)*20 -> 0 | AF14: =SUM(AD14+AE14) -> 0 | BG14: =SUM(AH14:BE14)*4+(AG14)+(BF14)*20 -> 0 | BI14: =BG14+BH14 -> 0 | BJ14: =AF14 -> 0 | BK14: =BI14+BJ14 -> 0 | BL14: =IF(BK14=0,"",RANK(BK14,$BK$3:$BK$21,1)-COUNTIF($BK$3:$BK$21,0))
... A20: ='Alle lijsten'!A219 -> 0 | B20: ='Alle lijsten'!B219 -> 0 | C20: ='Alle lijsten'!#REF! -> #REF! | AD20: =SUM(E20:AB20)*4+(D20)+(AC20)*20 -> 0 | AF20: =SUM(AD20+AE20) -> 0 | BG20: =SUM(AH20:BE20)*4+(AG20)+(BF20)*20 -> 0 | BI20: =BG20+BH20 -> 0 | BJ20: =AF20 -> 0 | BK20: =BI20+BJ20 -> 0 | BL20: =IF(BK20=0,"",RANK(BK20,$BK$3:$BK$21,1)-COUNTIF($BK$3:$BK$21,0))
AD42: ,

Sheet 1span Pony
B1: ENKELSPAN PONY | C1: EERSTE MANCHE | AL1: TWEEDE MANCHE
A2: KLASSERING | B2: Menner / menster | D2: ='Alle lijsten'!I6 -> 1 | E2: ='Alle lijsten'!J6 -> 2 | F2: ='Alle lijsten'!K6 -> 3 | G2: ='Alle lijsten'!L6 -> 4 | H2: ='Alle lijsten'!M6 -> 5 | I2: ='Alle lijsten'!N6 -> 6a | J2: ='Alle lijsten'!O6 -> 6b | K2: ='Alle lijsten'!P6 -> 6c | ... AA2: ='Alle lijsten'!AF6 -> 14e | AB2: 15 | AC2: 16 | AD2: 17 | AE2: PF | AF2: Strafsec. 1e manche | AG2: Tijd 1e manche | AH2: Totaal 1e manche | AJ2: ='Alle lijsten'!I6 -> 1 | AK2: ='Alle lijsten'!J6 -> 2 | AL2: ='Alle lijsten'!K6 -> 3 | AM2: ='Alle lijsten'!L6 -> 4 | AN2: ='Alle lijsten'!M6 -> 5 | AO2: ='Alle lijsten'!N6 -> 6a | AP2: ='Alle lijsten'!O6 -> 6b | AQ2: ='Alle lijsten'!P6 -> 6c | ... BG2: ='Alle lijsten'!AF6 -> 14e | BH2: 15 | BI2: 16 | BJ2: 17 | BK2: PF | BL2: Strafsec. 2e manche | BM2: Tijd 2e manche | BN2: Totaal 2e manche | BO2: Totaal 1e manche | BP2: TOTAAL 1e & 2e MANCHE
A3: =IF(BP3=0,"",RANK(BP3,$BP$3:$BP$22,1)-COUNTIF($BP$3:$BP$22,0)) -> 1 | B3: ='Alle lijsten'!B91 -> Jordy Reuvers | AF3: =SUM(D3:AD3)*4+(C3)+(AE3)*20 -> 0 | AG3: 144.11 | AH3: =SUM(AF3+AG3) -> 144.11 | BL3: =SUM(AJ3:BJ3)*4+(AI3)+(BK3)*20 -> 0 | BM3: 140.07 | BN3: =BL3+BM3 -> 140.07 | BO3: =AH3 -> 144.11 | BP3: =BN3+BO3 -> 284.18
A4: =IF(BP4=0,"",RANK(BP4,$BP$3:$BP$22,1)-COUNTIF($BP$3:$BP$22,0)) -> 2 | B4: ='Alle lijsten'!B89 -> Frank Houben | AF4: =SUM(D4:AD4)*4+(C4)+(AE4)*20 -> 0 | AG4: 141.41 | AH4: =SUM(AF4+AG4) -> 141.41 | BL4: =SUM(AJ4:BJ4)*4+(AI4)+(BK4)*20 -> 0 | BM4: 145.41 | BN4: =BL4+BM4 -> 145.41 | BO4: =AH4 -> 141.41 | BP4: =BN4+BO4 -> 286.82
A5: =IF(BP5=0,"",RANK(BP5,$BP$3:$BP$22,1)-COUNTIF($BP$3:$BP$22,0)) -> 3 | B5: ='Alle lijsten'!B90 -> Brigitte Janssen | O5: 1 | AF5: =SUM(D5:AD5)*4+(C5)+(AE5)*20 -> 4 | AG5: 144.35 | AH5: =SUM(AF5+AG5) -> 148.35 | BL5: =SUM(AJ5:BJ5)*4+(AI5)+(BK5)*20 -> 0 | BM5: 144.08 | BN5: =BL5+BM5 -> 144.08 | BO5: =AH5 -> 148.35 | BP5: =BN5+BO5 -> 292.43
A6: =IF(BP6=0,"",RANK(BP6,$BP$3:$BP$22,1)-COUNTIF($BP$3:$BP$22,0)) -> 4 | B6: ='Alle lijsten'!B92 -> Peter Bas van der Weiden | AF6: =SUM(D6:AD6)*4+(C6)+(AE6)*20 -> 0 | AG6: 148.37 | AH6: =SUM(AF6+AG6) -> 148.37 | BG6: 1 | BL6: =SUM(AJ6:BJ6)*4+(AI6)+(BK6)*20 -> 4 | BM6: 150.65 | BN6: =BL6+BM6 -> 154.65 | BO6: =AH6 -> 148.37 | BP6: =BN6+BO6 -> 303.02
A7: =IF(BP7=0,"",RANK(BP7,$BP$3:$BP$22,1)-COUNTIF($BP$3:$BP$22,0)) -> 5 | B7: ='Alle lijsten'!B88 -> Maarten Krom | AF7: =SUM(D7:AD7)*4+(C7)+(AE7)*20 -> 0 | AG7: 160.24 | AH7: =SUM(AF7+AG7) -> 160.24 | BL7: =SUM(AJ7:BJ7)*4+(AI7)+(BK7)*20 -> 0 | BM7: 151.18 | BN7: =BL7+BM7 -> 151.18 | BO7: =AH7 -> 160.24 | BP7: =BN7+BO7 -> 311.42
A8: =IF(BP8=0,"",RANK(BP8,$BP$3:$BP$22,1)-COUNTIF($BP$3:$BP$22,0)) -> 6 | B8: ='Alle lijsten'!B93 -> Yvette van Amelsvoort | AF8: =SUM(D8:AD8)*4+(C8)+(AE8)*20 -> 0 | AG8: 153.93 | AH8: =SUM(AF8+AG8) -> 153.93 | AU8: 1 | BL8: =SUM(AJ8:BJ8)*4+(AI8)+(BK8)*20 -> 4 | BM8: 154.61 | BN8: =BL8+BM8 -> 158.61 | BO8: =AH8 -> 153.93 | BP8: =BN8+BO8 -> 312.54
A9: =IF(BP9=0,"",RANK(BP9,$BP$3:$BP$22,1)-COUNTIF($BP$3:$BP$22,0)) -> 7 | B9: ='Alle lijsten'!B83 -> Sylvana Klerkx | AF9: =SUM(D9:AD9)*4+(C9)+(AE9)*20 -> 0 | AG9: 161.88 | AH9: =SUM(AF9+AG9) -> 161.88 | BL9: =SUM(AJ9:BJ9)*4+(AI9)+(BK9)*20 -> 0 | BM9: 156.59 | BN9: =BL9+BM9 -> 156.59 | BO9: =AH9 -> 161.88 | BP9: =BN9+BO9 -> 318.47
A10: =IF(BP10=0,"",RANK(BP10,$BP$3:$BP$22,1)-COUNTIF($BP$3:$BP$22,0)) -> 8 | B10: ='Alle lijsten'!B86 -> Moniek Classens | L10: 1 | AF10: =SUM(D10:AD10)*4+(C10)+(AE10)*20 -> 4 | AG10: 161.87 | AH10: =SUM(AF10+AG10) -> 165.87 | AJ10: 1 | AW10: 1 | BL10: =SUM(AJ10:BJ10)*4+(AI10)+(BK10)*20 -> 8 | BM10: 148.24 | BN10: =BL10+BM10 -> 156.24 | BO10: =AH10 -> 165.87 | BP10: =BN10+BO10 -> 322.11
A11: =IF(BP11=0,"",RANK(BP11,$BP$3:$BP$22,1)-COUNTIF($BP$3:$BP$22,0)) -> 9 | B11: ='Alle lijsten'!B87 -> Quinten van Beers | W11: 1 | X11: 1 | AF11: =SUM(D11:AD11)*4+(C11)+(AE11)*20 -> 8 | AG11: 164.78 | AH11: =SUM(AF11+AG11) -> 172.78 | BL11: =SUM(AJ11:BJ11)*4+(AI11)+(BK11)*20 -> 0 | BM11: 160.27 | BN11: =BL11+BM11 -> 160.27 | BO11: =AH11 -> 172.78 | BP11: =BN11+BO11 -> 333.05
A12: =IF(BP12=0,"",RANK(BP12,$BP$3:$BP$22,1)-COUNTIF($BP$3:$BP$22,0)) -> 10 | B12: ='Alle lijsten'!B85 -> Janneke Kajim | L12: 1 | AF12: =SUM(D12:AD12)*4+(C12)+(AE12)*20 -> 4 | AG12: 201.48 | AH12: =SUM(AF12+AG12) -> 205.48 | BL12: =SUM(AJ12:BJ12)*4+(AI12)+(BK12)*20 -> 0 | BM12: 189.75 | BN12: =BL12+BM12 -> 189.75 | BO12: =AH12 -> 205.48 | BP12: =BN12+BO12 -> 395.23
A13: =IF(BP13=0,"",RANK(BP13,$BP$3:$BP$22,1)-COUNTIF($BP$3:$BP$22,0)) -> 11 | B13: ='Alle lijsten'!B84 -> Jennifer de Graaf | AF13: =SUM(D13:AD13)*4+(C13)+(AE13)*20 -> 0 | AG13: 199.9 | AH13: =SUM(AF13+AG13) -> 199.9 | AM13: 1 | BJ13: 1 | BL13: =SUM(AJ13:BJ13)*4+(AI13)+(BK13)*20 -> 8 | BM13: 199.63 | BN13: =BL13+BM13 -> 207.63 | BO13: =AH13 -> 199.9 | BP13: =BN13+BO13 -> 407.53
A14: =IF(BP14=0,"",RANK(BP14,$BP$3:$BP$22,1)-COUNTIF($BP$3:$BP$22,0)) -> 12 | B14: Tessa in 't Groen | G14: 1 | L14: 1 | AF14: =SUM(D14:AD14)*4+(C14)+(AE14)*20 -> 8 | AG14: 227.13 | AH14: =SUM(AF14+AG14) -> 235.13 | BL14: =SUM(AJ14:BJ14)*4+(AI14)+(BK14)*20 -> 0 | BM14: 202 | BN14: =BL14+BM14 -> 202 | BO14: =AH14 -> 235.13 | BP14: =BN14+BO14 -> 437.13
A15: =IF(BP15=0,"",RANK(BP15,$BP$3:$BP$22,1)-COUNTIF($BP$3:$BP$22,0)) | B15: ='Alle lijsten'!B94 -> 0 | AF15: =SUM(D15:AD15)*4+(C15)+(AE15)*20 -> 0 | AH15: =SUM(AF15+AG15) -> 0 | BL15: =SUM(AJ15:BJ15)*4+(AI15)+(BK15)*20 -> 0 | BN15: =BL15+BM15 -> 0 | BO15: =AH15 -> 0 | BP15: =BN15+BO15 -> 0
A16: =IF(BP16=0,"",RANK(BP16,$BP$3:$BP$22,1)-COUNTIF($BP$3:$BP$22,0)) | B16: ='Alle lijsten'!B95 -> 0 | AF16: =SUM(D16:AD16)*4+(C16)+(AE16)*20 -> 0 | AH16: =SUM(AF16+AG16) -> 0 | BL16: =SUM(AJ16:BJ16)*4+(AI16)+(BK16)*20 -> 0 | BN16: =BL16+BM16 -> 0 | BO16: =AH16 -> 0 | BP16: =BN16+BO16 -> 0
A17: =IF(BP17=0,"",RANK(BP17,$BP$3:$BP$22,1)-COUNTIF($BP$3:$BP$22,0)) | B17: ='Alle lijsten'!B96 -> 0 | AF17: =SUM(D17:AD17)*4+(C17)+(AE17)*20 -> 0 | AH17: =SUM(AF17+AG17) -> 0 | BL17: =SUM(AJ17:BJ17)*4+(AI17)+(BK17)*20 -> 0 | BN17: =BL17+BM17 -> 0 | BO17: =AH17 -> 0 | BP17: =BN17+BO17 -> 0
A18: =IF(BP18=0,"",RANK(BP18,$BP$3:$BP$22,1)-COUNTIF($BP$3:$BP$22,0)) | B18: ='Alle lijsten'!B97 -> 0 | AF18: =SUM(D18:AD18)*4+(C18)+(AE18)*20 -> 0 | AH18: =SUM(AF18+AG18) -> 0 | BL18: =SUM(AJ18:BJ18)*4+(AI18)+(BK18)*20 -> 0 | BN18: =BL18+BM18 -> 0 | BO18: =AH18 -> 0 | BP18: =BN18+BO18 -> 0
A19: =IF(BP19=0,"",RANK(BP19,$BP$3:$BP$22,1)-COUNTIF($BP$3:$BP$22,0)) | B19: ='Alle lijsten'!B98 -> 0 | AF19: =SUM(D19:AD19)*4+(C19)+(AE19)*20 -> 0 | AH19: =SUM(AF19+AG19) -> 0 | BL19: =SUM(AJ19:BJ19)*4+(AI19)+(BK19)*20 -> 0 | BN19: =BL19+BM19 -> 0 | BO19: =AH19 -> 0 | BP19: =BN19+BO19 -> 0
A20: =IF(BP20=0,"",RANK(BP20,$BP$3:$BP$22,1)-COUNTIF($BP$3:$BP$22,0)) | B20: ='Alle lijsten'!B99 -> 0 | AF20: =SUM(D20:AD20)*4+(C20)+(AE20)*20 -> 0 | AH20: =SUM(AF20+AG20) -> 0 | BL20: =SUM(AJ20:BJ20)*4+(AI20)+(BK20)*20 -> 0 | BN20: =BL20+BM20 -> 0 | BO20: =AH20 -> 0 | BP20: =BN20+BO20 -> 0
A21: =IF(BP21=0,"",RANK(BP21,$BP$3:$BP$22,1)-COUNTIF($BP$3:$BP$22,0)) | B21: ='Alle lijsten'!B100 -> 0 | AF21: =SUM(D21:AD21)*4+(C21)+(AE21)*20 -> 0 | AH21: =SUM(AF21+AG21) -> 0 | BL21: =SUM(AJ21:BJ21)*4+(AI21)+(BK21)*20 -> 0 | BN21: =BL21+BM21 -> 0 | BO21: =AH21 -> 0 | BP21: =BN21+BO21 -> 0
A22: =IF(BP22=0,"",RANK(BP22,$BP$3:$BP$22,1)-COUNTIF($BP$3:$BP$22,0)) | B22: ='Alle lijsten'!B101 -> 0 | AF22: =SUM(D22:AD22)*4+(C22)+(AE22)*20 -> 0 | AH22: =SUM(AF22+AG22) -> 0 | BL22: =SUM(AJ22:BJ22)*4+(AI22)+(BK22)*20 -> 0 | BN22: =BL22+BM22 -> 0 | BO22: =AH22 -> 0 | BP22: =BN22+BO22 -> 0
A23: =IF(BP23=0,"",RANK(BP23,$BP$3:$BP$22,1)-COUNTIF($BP$3:$BP$22,0)) | B23: ='Alle lijsten'!B102 -> 0 | AF23: =SUM(D23:AD23)*4+(C23)+(AE23)*20 -> 0 | AH23: =SUM(AF23+AG23) -> 0 | BL23: =SUM(AJ23:BJ23)*4+(AI23)+(BK23)*20 -> 0 | BN23: =BL23+BM23 -> 0 | BO23: =AH23 -> 0 | BP23: =BN23+BO23 -> 0
A24: =IF(BP24=0,"",RANK(BP24,$BP$3:$BP$22,1)-COUNTIF($BP$3:$BP$22,0)) | B24: ='Alle lijsten'!B103 -> 0 | AF24: =SUM(D24:AD24)*4+(C24)+(AE24)*20 -> 0 | AH24: =SUM(AF24+AG24) -> 0 | BL24: =SUM(AJ24:BJ24)*4+(AI24)+(BK24)*20 -> 0 | BN24: =BL24+BM24 -> 0 | BO24: =AH24 -> 0 | BP24: =BN24+BO24 -> 0
A25: =IF(BP25=0,"",RANK(BP25,$BP$3:$BP$22,1)-COUNTIF($BP$3:$BP$22,0)) | B25: ='Alle lijsten'!B104 -> 0 | AF25: =SUM(D25:AD25)*4+(C25)+(AE25)*20 -> 0 | AH25: =SUM(AF25+AG25) -> 0 | BL25: =SUM(AJ25:BJ25)*4+(AI25)+(BK25)*20 -> 0 | BN25: =BL25+BM25 -> 0 | BO25: =AH25 -> 0 | BP25: =BN25+BO25 -> 0
A26: =IF(BP26=0,"",RANK(BP26,$BP$3:$BP$22,1)-COUNTIF($BP$3:$BP$22,0)) | B26: ='Alle lijsten'!B105 -> 0 | AF26: =SUM(D26:AD26)*4+(C26)+(AE26)*20 -> 0 | AH26: =SUM(AF26+AG26) -> 0 | BL26: =SUM(AJ26:BJ26)*4+(AI26)+(BK26)*20 -> 0 | BN26: =BL26+BM26 -> 0 | BO26: =AH26 -> 0 | BP26: =BN26+BO26 -> 0
... A28: =IF(BP28=0,"",RANK(BP28,$BP$3:$BP$22,1)-COUNTIF($BP$3:$BP$22,0)) | B28: ='Alle lijsten'!B107 -> 0 | AF28: =SUM(D28:AD28)*4+(C28)+(AE28)*20 -> 0 | AH28: =SUM(AF28+AG28) -> 0 | BL28: =SUM(AJ28:BJ28)*4+(AI28)+(BK28)*20 -> 0 | BN28: =BL28+BM28 -> 0 | BO28: =AH28 -> 0 | BP28: =BN28+BO28 -> 0
A29: =IF(BP29=0,"",RANK(BP29,$BP$3:$BP$22,1)-COUNTIF($BP$3:$BP$22,0)) | AF29: =SUM(D29:AD29)*4+(C29)+(AE29)*20 -> 0 | AH29: =SUM(AF29+AG29) -> 0 | BL29: =SUM(AJ29:BJ29)*4+(AI29)+(BK29)*20 -> 0 | BN29: =BL29+BM29 -> 0 | BO29: =AH29 -> 0 | BP29: =BN29+BO29 -> 0
A30: =IF(BP30=0,"",RANK(BP30,$BP$3:$BP$22,1)-COUNTIF($BP$3:$BP$22,0))

Sheet meerspannen
B1: Langspan PONY'S | C1: EERSTE MANCHE | AL1: TWEEDE MANCHE
A2: KLASSERING | B2: Menner / menster | D2: ='Alle lijsten'!I6 -> 1 | E2: ='Alle lijsten'!J6 -> 2 | F2: ='Alle lijsten'!K6 -> 3 | G2: ='Alle lijsten'!L6 -> 4 | H2: ='Alle lijsten'!M6 -> 5 | I2: ='Alle lijsten'!N6 -> 6a | J2: ='Alle lijsten'!O6 -> 6b | K2: ='Alle lijsten'!P6 -> 6c | ... AA2: ='Alle lijsten'!AF6 -> 14e | AB2: 15 | AC2: 16 | AD2: 17 | AE2: PF | AF2: Strafsec. 1e manche | AG2: Tijd 1e manche | AH2: Totaal 1e manche | AJ2: ='Alle lijsten'!I6 -> 1 | AK2: ='Alle lijsten'!J6 -> 2 | AL2: ='Alle lijsten'!K6 -> 3 | AM2: ='Alle lijsten'!L6 -> 4 | AN2: ='Alle lijsten'!M6 -> 5 | AO2: ='Alle lijsten'!N6 -> 6a | AP2: ='Alle lijsten'!O6 -> 6b | AQ2: ='Alle lijsten'!P6 -> 6c | ... BG2: ='Alle lijsten'!AF6 -> 14e | BH2: 15 | BI2: 16 | BJ2: 17 | BK2: PF | BL2: Strafsec. 2e manche | BM2: Tijd 2e manche | BN2: Totaal 2e manche | BO2: Totaal 1e manche | BP2: TOTAAL 1e & 2e MANCHE
A3: =IF(BP3=0,"",RANK(BP3,$BP$3:$BP$19,1)-COUNTIF($BP$3:$BP$19,0)) -> 1 | B3: Jonas Corten (4 pony) | AF3: =SUM(D3:AD3)*4+(C3)+(AE3)*20 -> 0 | AG3: 147.45 | AH3: =SUM(AF3+AG3) -> 147.45 | BC3: 1 | BL3: =SUM(AJ3:BJ3)*4+(AI3)+(BK3)*20 -> 4 | BM3: 145.16 | BN3: =BL3+BM3 -> 149.16 | BO3: =AH3 -> 147.45 | BP3: =BN3+BO3 -> 296.61
A4: =IF(BP4=0,"",RANK(BP4,$BP$3:$BP$19,1)-COUNTIF($BP$3:$BP$19,0)) -> 2 | B4: Bernd Wouters (4 pony) | AF4: =SUM(D4:AD4)*4+(C4)+(AE4)*20 -> 0 | AG4: 158.91 | AH4: =SUM(AF4+AG4) -> 158.91 | BA4: 1 | BH4: 1 | BL4: =SUM(AJ4:BJ4)*4+(AI4)+(BK4)*20 -> 8 | BM4: 157.92 | BN4: =BL4+BM4 -> 165.92 | BO4: =AH4 -> 158.91 | BP4: =BN4+BO4 -> 324.83
A5: =IF(BP5=0,"",RANK(BP5,$BP$3:$BP$19,1)-COUNTIF($BP$3:$BP$19,0)) -> 3 | B5: Kenny Kanora (4 pony) | M5: 1 | AF5: =SUM(D5:AD5)*4+(C5)+(AE5)*20 -> 4 | AG5: 166.69 | AH5: =SUM(AF5+AG5) -> 170.69 | AK5: 1 | AM5: 1 | BL5: =SUM(AJ5:BJ5)*4+(AI5)+(BK5)*20 -> 8 | BM5: 168.62 | BN5: =BL5+BM5 -> 176.62 | BO5: =AH5 -> 170.69 | BP5: =BN5+BO5 -> 347.31
A6: =IF(BP6=0,"",RANK(BP6,$BP$3:$BP$19,1)-COUNTIF($BP$3:$BP$19,0)) -> 4 | B6: Marleen van Vendeloo (4 pony) | L6: 1 | N6: 1 | AB6: 1 | AF6: =SUM(D6:AD6)*4+(C6)+(AE6)*20 -> 12 | AG6: 181.64 | AH6: =SUM(AF6+AG6) -> 193.64 | AK6: 1 | AR6: 1 | BC6: 1 | BL6: =SUM(AJ6:BJ6)*4+(AI6)+(BK6)*20 -> 12 | BM6: 177.22 | BN6: =BL6+BM6 -> 189.22 | BO6: =AH6 -> 193.64 | BP6: =BN6+BO6 -> 382.86
A7: =IF(BP7=0,"",RANK(BP7,$BP$3:$BP$19,1)-COUNTIF($BP$3:$BP$19,0)) | B7: ='Alle lijsten'!B140 -> 0 | AF7: =SUM(D7:AD7)*4+(C7)+(AE7)*20 -> 0 | AH7: =SUM(AF7+AG7) -> 0 | BL7: =SUM(AJ7:BJ7)*4+(AI7)+(BK7)*20 -> 0 | BN7: =BL7+BM7 -> 0 | BO7: =AH7 -> 0 | BP7: =BN7+BO7 -> 0
A8: =IF(BP8=0,"",RANK(BP8,$BP$3:$BP$19,1)-COUNTIF($BP$3:$BP$19,0)) | B8: ='Alle lijsten'!B141 -> 0 | AF8: =SUM(D8:AD8)*4+(C8)+(AE8)*20 -> 0 | AH8: =SUM(AF8+AG8) -> 0 | BL8: =SUM(AJ8:BJ8)*4+(AI8)+(BK8)*20 -> 0 | BN8: =BL8+BM8 -> 0 | BO8: =AH8 -> 0 | BP8: =BN8+BO8 -> 0
A9: =IF(BP9=0,"",RANK(BP9,$BP$3:$BP$19,1)-COUNTIF($BP$3:$BP$19,0)) | B9: ='Alle lijsten'!B142 -> 0 | AF9: =SUM(D9:AD9)*4+(C9)+(AE9)*20 -> 0 | AH9: =SUM(AF9+AG9) -> 0 | BL9: =SUM(AJ9:BJ9)*4+(AI9)+(BK9)*20 -> 0 | BN9: =BL9+BM9 -> 0 | BO9: =AH9 -> 0 | BP9: =BN9+BO9 -> 0
A10: =IF(BP10=0,"",RANK(BP10,$BP$3:$BP$19,1)-COUNTIF($BP$3:$BP$19,0)) | B10: ='Alle lijsten'!B143 -> 0 | AF10: =SUM(D10:AD10)*4+(C10)+(AE10)*20 -> 0 | AH10: =SUM(AF10+AG10) -> 0 | BL10: =SUM(AJ10:BJ10)*4+(AI10)+(BK10)*20 -> 0 | BN10: =BL10+BM10 -> 0 | BO10: =AH10 -> 0 | BP10: =BN10+BO10 -> 0
A11: =IF(BP11=0,"",RANK(BP11,$BP$3:$BP$19,1)-COUNTIF($BP$3:$BP$19,0)) | B11: ='Alle lijsten'!B144 -> 0 | AF11: =SUM(D11:AD11)*4+(C11)+(AE11)*20 -> 0 | AH11: =SUM(AF11+AG11) -> 0 | BL11: =SUM(AJ11:BJ11)*4+(AI11)+(BK11)*20 -> 0 | BN11: =BL11+BM11 -> 0 | BO11: =AH11 -> 0 | BP11: =BN11+BO11 -> 0
A12: =IF(BP12=0,"",RANK(BP12,$BP$3:$BP$19,1)-COUNTIF($BP$3:$BP$19,0)) | B12: ='Alle lijsten'!B145 -> 0 | AF12: =SUM(D12:AD12)*4+(C12)+(AE12)*20 -> 0 | AH12: =SUM(AF12+AG12) -> 0 | BL12: =SUM(AJ12:BJ12)*4+(AI12)+(BK12)*20 -> 0 | BN12: =BL12+BM12 -> 0 | BO12: =AH12 -> 0 | BP12: =BN12+BO12 -> 0
A13: =IF(BP13=0,"",RANK(BP13,$BP$3:$BP$19,1)-COUNTIF($BP$3:$BP$19,0)) | B13: ='Alle lijsten'!B146 -> 0 | AF13: =SUM(D13:AD13)*4+(C13)+(AE13)*20 -> 0 | AH13: =SUM(AF13+AG13) -> 0 | BL13: =SUM(AJ13:BJ13)*4+(AI13)+(BK13)*20 -> 0 | BN13: =BL13+BM13 -> 0 | BO13: =AH13 -> 0 | BP13: =BN13+BO13 -> 0
A14: =IF(BP14=0,"",RANK(BP14,$BP$3:$BP$19,1)-COUNTIF($BP$3:$BP$19,0)) | B14: ='Alle lijsten'!B147 -> 0 | AF14: =SUM(D14:AD14)*4+(C14)+(AE14)*20 -> 0 | AH14: =SUM(AF14+AG14) -> 0 | BL14: =SUM(AJ14:BJ14)*4+(AI14)+(BK14)*20 -> 0 | BN14: =BL14+BM14 -> 0 | BO14: =AH14 -> 0 | BP14: =BN14+BO14 -> 0
A15: =IF(BP15=0,"",RANK(BP15,$BP$3:$BP$19,1)-COUNTIF($BP$3:$BP$19,0)) | B15: ='Alle lijsten'!B148 -> 0 | AF15: =SUM(D15:AD15)*4+(C15)+(AE15)*20 -> 0 | AH15: =SUM(AF15+AG15) -> 0 | BL15: =SUM(AJ15:BJ15)*4+(AI15)+(BK15)*20 -> 0 | BN15: =BL15+BM15 -> 0 | BO15: =AH15 -> 0 | BP15: =BN15+BO15 -> 0
A16: =IF(BP16=0,"",RANK(BP16,$BP$3:$BP$19,1)-COUNTIF($BP$3:$BP$19,0)) | B16: ='Alle lijsten'!B149 -> 0 | AF16: =SUM(D16:AD16)*4+(C16)+(AE16)*20 -> 0 | AH16: =SUM(AF16+AG16) -> 0 | BL16: =SUM(AJ16:BJ16)*4+(AI16)+(BK16)*20 -> 0 | BN16: =BL16+BM16 -> 0 | BO16: =AH16 -> 0 | BP16: =BN16+BO16 -> 0
A17: =IF(BP17=0,"",RANK(BP17,$BP$3:$BP$19,1)-COUNTIF($BP$3:$BP$19,0)) | AF17: =SUM(D17:AD17)*4+(C17)+(AE17)*20 -> 0 | AH17: =SUM(AF17+AG17) -> 0 | BL17: =SUM(AJ17:BJ17)*4+(AI17)+(BK17)*20 -> 0 | BN17: =BL17+BM17 -> 0 | BO17: =AH17 -> 0 | BP17: =BN17+BO17 -> 0
A20: 1 | B20: ='Alle lijsten'!B135 -> Kenny Kanora (tandem) | M20: 1 | O20: 1 | AF20: =SUM(D20:AD20)*4+(C20)+(AE20)*20 -> 8 | AG20: 173.12 | AH20: =SUM(AF20+AG20) -> 181.12 | BJ20: 1 | BL20: =SUM(AJ20:BJ20)*4+(AI20)+(BK20)*20 -> 4 | BM20: 177.86 | BN20: =BL20+BM20 -> 181.86 | BO20: =AH20 -> 181.12 | BP20: =BN20+BO20 -> 362.98
A24: 1 | B24: Jonas Corten (4 paard) | U24: 1 | AF24: =SUM(D24:AD24)*4+(C24)+(AE24)*20 -> 4 | AG24: 185.52 | AH24: =SUM(AF24+AG24) -> 189.52 | AL24: 1 | BL24: =SUM(AJ24:BJ24)*4+(AI24)+(BK24)*20 -> 4 | BM24: 170.74 | BN24: 174.74 | BO24: =AH24 -> 189.52 | BP24: =BN24+BO24 -> 364.26

Sheet 2span Pony
B1: TWEESPAN PONY'S | C1: EERSTE MANCHE | AL1: TWEEDE MANCHE
A2: KLASSERING | B2: Menner / menster | D2: ='Alle lijsten'!I6 -> 1 | E2: ='Alle lijsten'!J6 -> 2 | F2: ='Alle lijsten'!K6 -> 3 | G2: ='Alle lijsten'!L6 -> 4 | H2: ='Alle lijsten'!M6 -> 5 | I2: ='Alle lijsten'!N6 -> 6a | J2: ='Alle lijsten'!O6 -> 6b | K2: ='Alle lijsten'!P6 -> 6c | ... AA2: ='Alle lijsten'!AF6 -> 14e | AB2: 15 | AC2: 16 | AD2: 17 | AE2: PF | AF2: Strafsec. 1e manche | AG2: Tijd 1e manche | AH2: Totaal 1e manche | AJ2: ='Alle lijsten'!I6 -> 1 | AK2: ='Alle lijsten'!J6 -> 2 | AL2: ='Alle lijsten'!K6 -> 3 | AM2: ='Alle lijsten'!L6 -> 4 | AN2: ='Alle lijsten'!M6 -> 5 | AO2: ='Alle lijsten'!N6 -> 6a | AP2: ='Alle lijsten'!O6 -> 6b | AQ2: ='Alle lijsten'!P6 -> 6c | ... BG2: ='Alle lijsten'!AF6 -> 14e | BH2: 15 | BI2: 16 | BJ2: 17 | BK2: PF | BL2: Strafsec. 2e manche | BM2: Tijd 2e manche | BN2: Totaal 2e manche | BO2: Totaal 1e manche | BP2: TOTAAL 1e & 2e MANCHE
